BEGIN:VCALENDAR
VERSION:2.0
PRODID:-//Trinity UMC, Colusa - ECPv6.15.20//NONSGML v1.0//EN
CALSCALE:GREGORIAN
METHOD:PUBLISH
X-WR-CALNAME:Trinity UMC, Colusa
X-ORIGINAL-URL:https://colusaumc.org
X-WR-CALDESC:Events for Trinity UMC, Colusa
REFRESH-INTERVAL;VALUE=DURATION:PT1H
X-Robots-Tag:noindex
X-PUBLISHED-TTL:PT1H
BEGIN:VTIMEZONE
TZID:America/Los_Angeles
BEGIN:DAYLIGHT
TZOFFSETFROM:-0800
TZOFFSETTO:-0700
TZNAME:PDT
DTSTART:20230312T100000
END:DAYLIGHT
BEGIN:STANDARD
TZOFFSETFROM:-0700
TZOFFSETTO:-0800
TZNAME:PST
DTSTART:20231105T090000
END:STANDARD
BEGIN:DAYLIGHT
TZOFFSETFROM:-0800
TZOFFSETTO:-0700
TZNAME:PDT
DTSTART:20240310T100000
END:DAYLIGHT
BEGIN:STANDARD
TZOFFSETFROM:-0700
TZOFFSETTO:-0800
TZNAME:PST
DTSTART:20241103T090000
END:STANDARD
BEGIN:DAYLIGHT
TZOFFSETFROM:-0800
TZOFFSETTO:-0700
TZNAME:PDT
DTSTART:20250309T100000
END:DAYLIGHT
BEGIN:STANDARD
TZOFFSETFROM:-0700
TZOFFSETTO:-0800
TZNAME:PST
DTSTART:20251102T090000
END:STANDARD
END:VTIMEZONE
BEGIN:VEVENT
DTSTART;VALUE=DATE:20240101
DTEND;VALUE=DATE:20250101
DTSTAMP:20260425T105040
CREATED:20240101T080141Z
LAST-MODIFIED:20240313T020659Z
UID:6535-1704067200-1735689599@colusaumc.org
SUMMARY:Covenant Prayer - 2024
DESCRIPTION:Weekly\, Multiple Groups\nTimes Vary \nLearn More: Covenant Prayer Group \nWhen you are ready to step into a regular practice of reflection and study\, one path to explore is our Covenant Prayer Group. Covenant Prayer Group is Trinity’s Wesleyan Class Meeting. \nEach week we spend a few minutes reflecting on how we each are doing living out in the world the things we claim to believe in the pews. We then spend some time searching the scripture we will encounter in Sunday worship. These are small\, confidential groups.
URL:https://colusaumc.org/event/covenant-prayer-2024/
LOCATION:Trinity\, 511 Oak Street\, Colusa\, CA\, 95932\, United States
CATEGORIES:Bible Study,Practice
ATTACH;FMTTYPE=image/png:https://colusaumc.org/wp-content/uploads/bulletin_images/CovenantPrayer-1-scaled.png
END:VEVENT
BEGIN:VEVENT
DTSTART;TZID=America/Los_Angeles:20240324T090000
DTEND;TZID=America/Los_Angeles:20240324T093000
DTSTAMP:20260425T105040
CREATED:20240218T154601Z
LAST-MODIFIED:20240313T014632Z
UID:6527-1711270800-1711272600@colusaumc.org
SUMMARY:Easter Chime Choir Practice 3-24-24
DESCRIPTION:Easter Chime Choir\nEaster chime choir will again perform on Easter Sunday. \nRehearsals are Sunday mornings before service. Please contact Elizabeth Y. for more information.
URL:https://colusaumc.org/event/easter-chime-choir-practice-3-24-24/
LOCATION:Trinity\, 511 Oak Street\, Colusa\, CA\, 95932\, United States
CATEGORIES:Practice
ATTACH;FMTTYPE=image/png:https://colusaumc.org/wp-content/uploads/bulletin_images/FlowerChimes.png
END:VEVENT
BEGIN:VEVENT
DTSTART;TZID=America/Los_Angeles:20240324T110000
DTEND;TZID=America/Los_Angeles:20240324T120000
DTSTAMP:20260425T105040
CREATED:20240310T140024Z
LAST-MODIFIED:20240313T010110Z
UID:6492-1711278000-1711281600@colusaumc.org
SUMMARY:Lenten Study 6 - 3-24-24
DESCRIPTION:Lent is a season of reconsideration\, fasting\, and preparation for the Easter. \nDuring Lent\, we are encouraged to reconsider what we think we know\, lay down our burdens\, and prepare for renewal. The season of Lent stretches from Ash Wednesday on February 14th to Holy Saturday on March 30th. The Lenten study runs on Sundays. (2/18\, 2/25\, 3/3\, 3/10\, 3/17\, 3/24) \nDrop in for any or all of our six Lenten Sunday scripture studies. Each study is about 45 minutes long. Reflection pages are provided each week. \nWe will meet in the lounge at Trinity following coffee hour on Sunday mornings. (511 Oak Street\, Colusa) Anyone may attend regardless of religious background\, belief\, Christian experience\, or church affiliation. Enjoy a lively discussion and snacks.
URL:https://colusaumc.org/event/lenten-study-6-3-24-24/
LOCATION:Trinity\, 511 Oak Street\, Colusa\, CA\, 95932\, United States
CATEGORIES:Bible Study
ATTACH;FMTTYPE=image/jpeg:https://colusaumc.org/wp-content/uploads/site/LentPurpleCross.jpg
END:VEVENT
END:VCALENDAR