BEGIN:VCALENDAR
VERSION:2.0
PRODID:-//Trinity UMC, Colusa - ECPv6.15.20//NONSGML v1.0//EN
CALSCALE:GREGORIAN
METHOD:PUBLISH
X-ORIGINAL-URL:https://colusaumc.org
X-WR-CALDESC:Events for Trinity UMC, Colusa
REFRESH-INTERVAL;VALUE=DURATION:PT1H
X-Robots-Tag:noindex
X-PUBLISHED-TTL:PT1H
BEGIN:VTIMEZONE
TZID:America/Los_Angeles
BEGIN:DAYLIGHT
TZOFFSETFROM:-0800
TZOFFSETTO:-0700
TZNAME:PDT
DTSTART:20230312T100000
END:DAYLIGHT
BEGIN:STANDARD
TZOFFSETFROM:-0700
TZOFFSETTO:-0800
TZNAME:PST
DTSTART:20231105T090000
END:STANDARD
BEGIN:DAYLIGHT
TZOFFSETFROM:-0800
TZOFFSETTO:-0700
TZNAME:PDT
DTSTART:20240310T100000
END:DAYLIGHT
BEGIN:STANDARD
TZOFFSETFROM:-0700
TZOFFSETTO:-0800
TZNAME:PST
DTSTART:20241103T090000
END:STANDARD
BEGIN:DAYLIGHT
TZOFFSETFROM:-0800
TZOFFSETTO:-0700
TZNAME:PDT
DTSTART:20250309T100000
END:DAYLIGHT
BEGIN:STANDARD
TZOFFSETFROM:-0700
TZOFFSETTO:-0800
TZNAME:PST
DTSTART:20251102T090000
END:STANDARD
END:VTIMEZONE
BEGIN:VEVENT
DTSTART;VALUE=DATE:20240101
DTEND;VALUE=DATE:20250101
DTSTAMP:20260425T064210
CREATED:20240101T080141Z
LAST-MODIFIED:20240313T020659Z
UID:6535-1704067200-1735689599@colusaumc.org
SUMMARY:Covenant Prayer - 2024
DESCRIPTION:Weekly\, Multiple Groups\nTimes Vary \nLearn More: Covenant Prayer Group \nWhen you are ready to step into a regular practice of reflection and study\, one path to explore is our Covenant Prayer Group. Covenant Prayer Group is Trinity’s Wesleyan Class Meeting. \nEach week we spend a few minutes reflecting on how we each are doing living out in the world the things we claim to believe in the pews. We then spend some time searching the scripture we will encounter in Sunday worship. These are small\, confidential groups.
URL:https://colusaumc.org/event/covenant-prayer-2024/
LOCATION:Trinity\, 511 Oak Street\, Colusa\, CA\, 95932\, United States
CATEGORIES:Bible Study,Practice
ATTACH;FMTTYPE=image/png:https://colusaumc.org/wp-content/uploads/bulletin_images/CovenantPrayer-1-scaled.png
END:VEVENT
BEGIN:VEVENT
DTSTART;TZID=America/Los_Angeles:20240421T110000
DTEND;TZID=America/Los_Angeles:20240421T120000
DTSTAMP:20260425T064210
CREATED:20240405T164004Z
LAST-MODIFIED:20240529T234102Z
UID:6791-1713697200-1713700800@colusaumc.org
SUMMARY:Early Christian Study 1 - 4-21-24
DESCRIPTION:Early Christian History Study\nExplore the curious\, early history of the Way of Jesus.\nApril 21st – June 2nd\, Six Sundays\n(No class on Mother’s Day\, May 12th) \nBy popular request\, we will explore the first few centuries of Christianity\, learning more about the early communities\, struggles\, and formation of the faith we now call Christianity. \nDrop in for any or all of our six Sunday studies. Each study is about 45 minutes long. Discussion pages are provided each week. \nWe will meet in the parlor at Trinity following coffee hour on Sunday mornings. (511 Oak Street\, Colusa) Anyone may attend regardless of religious background\, belief\, Christian experience\, or church affiliation. Enjoy a lively discussion and snacks.
URL:https://colusaumc.org/event/early-christian-history-1-4-21-24/
LOCATION:Trinity\, 511 Oak Street\, Colusa\, CA\, 95932\, United States
CATEGORIES:Class
ATTACH;FMTTYPE=image/jpeg:https://colusaumc.org/wp-content/uploads/bulletin_images/1st-4th_CE_SousseArchaeologicalMuseum.jpg
END:VEVENT
END:VCALENDAR