BEGIN:VCALENDAR
VERSION:2.0
PRODID:-//Trinity UMC, Colusa - ECPv6.15.20//NONSGML v1.0//EN
CALSCALE:GREGORIAN
METHOD:PUBLISH
X-WR-CALNAME:Trinity UMC, Colusa
X-ORIGINAL-URL:https://colusaumc.org
X-WR-CALDESC:Events for Trinity UMC, Colusa
REFRESH-INTERVAL;VALUE=DURATION:PT1H
X-Robots-Tag:noindex
X-PUBLISHED-TTL:PT1H
BEGIN:VTIMEZONE
TZID:America/Los_Angeles
BEGIN:DAYLIGHT
TZOFFSETFROM:-0800
TZOFFSETTO:-0700
TZNAME:PDT
DTSTART:20240310T100000
END:DAYLIGHT
BEGIN:STANDARD
TZOFFSETFROM:-0700
TZOFFSETTO:-0800
TZNAME:PST
DTSTART:20241103T090000
END:STANDARD
BEGIN:DAYLIGHT
TZOFFSETFROM:-0800
TZOFFSETTO:-0700
TZNAME:PDT
DTSTART:20250309T100000
END:DAYLIGHT
BEGIN:STANDARD
TZOFFSETFROM:-0700
TZOFFSETTO:-0800
TZNAME:PST
DTSTART:20251102T090000
END:STANDARD
BEGIN:DAYLIGHT
TZOFFSETFROM:-0800
TZOFFSETTO:-0700
TZNAME:PDT
DTSTART:20260308T100000
END:DAYLIGHT
BEGIN:STANDARD
TZOFFSETFROM:-0700
TZOFFSETTO:-0800
TZNAME:PST
DTSTART:20261101T090000
END:STANDARD
END:VTIMEZONE
BEGIN:VEVENT
DTSTART;VALUE=DATE:20250715
DTEND;VALUE=DATE:20250716
DTSTAMP:20260423T224921
CREATED:20250529T212128Z
LAST-MODIFIED:20250529T213838Z
UID:7923-1752537600-1752623999@colusaumc.org
SUMMARY:Visual Arts Camp 7-15-25
DESCRIPTION:Visual Art Camp 2025\n\nThe Colusa County Arts Council\, in partnership with the City of Colusa\, is offering a three-day art camp for kids ages 5-10. Upper elementary students will be at Trinity United Methodist Church. \nThe camp will include hands-on activities (painting\, drawing\, sculpting\, and more) geared toward nurturing creativity and imagination. The goal of this camp is to provide children with the opportunity to explore their artistic side in a supportive\, nurturing\, and FUN environment. We look forward to seeing you this summer!
URL:https://colusaumc.org/event/visual-arts-camp-7-15-25/
LOCATION:Trinity\, 511 Oak Street\, Colusa\, CA\, 95932\, United States
CATEGORIES:Camp,Community
ATTACH;FMTTYPE=image/png:https://colusaumc.org/wp-content/uploads/bulletin_images/SummerARTCamps-2025-1.png
END:VEVENT
BEGIN:VEVENT
DTSTART;TZID=America/Los_Angeles:20250715T183000
DTEND;TZID=America/Los_Angeles:20250715T200000
DTSTAMP:20260423T224921
CREATED:20250529T210802Z
LAST-MODIFIED:20250529T210802Z
UID:7910-1752604200-1752609600@colusaumc.org
SUMMARY:Growing in Faith 6 - 7-15-25
DESCRIPTION:Join us for six weeks of reflection and invitation. Growing in Faith is a short series inviting you to learn more about your own faith and our Methodist tradition.\nInfo & Registration Here
URL:https://colusaumc.org/event/growing-in-faith-6-7-15-25/
LOCATION:Trinity\, 511 Oak Street\, Colusa\, CA\, 95932\, United States
CATEGORIES:Class
ATTACH;FMTTYPE=image/png:https://colusaumc.org/wp-content/uploads/resources/TrinityArtisticWithGIFLogo_366x1600-e1725132621289.png
END:VEVENT
END:VCALENDAR