BEGIN:VCALENDAR
VERSION:2.0
PRODID:-//Trinity UMC, Colusa - ECPv6.15.20//NONSGML v1.0//EN
CALSCALE:GREGORIAN
METHOD:PUBLISH
X-ORIGINAL-URL:https://colusaumc.org
X-WR-CALDESC:Events for Trinity UMC, Colusa
REFRESH-INTERVAL;VALUE=DURATION:PT1H
X-Robots-Tag:noindex
X-PUBLISHED-TTL:PT1H
BEGIN:VTIMEZONE
TZID:America/Los_Angeles
BEGIN:DAYLIGHT
TZOFFSETFROM:-0800
TZOFFSETTO:-0700
TZNAME:PDT
DTSTART:20240310T100000
END:DAYLIGHT
BEGIN:STANDARD
TZOFFSETFROM:-0700
TZOFFSETTO:-0800
TZNAME:PST
DTSTART:20241103T090000
END:STANDARD
BEGIN:DAYLIGHT
TZOFFSETFROM:-0800
TZOFFSETTO:-0700
TZNAME:PDT
DTSTART:20250309T100000
END:DAYLIGHT
BEGIN:STANDARD
TZOFFSETFROM:-0700
TZOFFSETTO:-0800
TZNAME:PST
DTSTART:20251102T090000
END:STANDARD
BEGIN:DAYLIGHT
TZOFFSETFROM:-0800
TZOFFSETTO:-0700
TZNAME:PDT
DTSTART:20260308T100000
END:DAYLIGHT
BEGIN:STANDARD
TZOFFSETFROM:-0700
TZOFFSETTO:-0800
TZNAME:PST
DTSTART:20261101T090000
END:STANDARD
END:VTIMEZONE
BEGIN:VEVENT
DTSTART;TZID=America/Los_Angeles:20251101T090000
DTEND;TZID=America/Los_Angeles:20251101T120000
DTSTAMP:20260423T162642
CREATED:20250820T000938Z
LAST-MODIFIED:20250820T000938Z
UID:8384-1761987600-1761998400@colusaumc.org
SUMMARY:Labyrinth Walk 2025
DESCRIPTION:Labyrinth\nDrop in: 9am-12pm \nStop by and walk this year’s labyrinth in Friendship Hall. We will have the candle lit walk open from 9am to 12pm. The space also lends itself to reflection\, prayer\, and contemplation. Light refreshments will be served. Drop in! All are welcome. \n  \n \n  \nLabyrinths are one-way\, maze-like paths used for walking prayer and contemplation. This year\, you are invited to walk the path in remembrance of loved ones who have passed. The Labyrinth Walk is a quiet\, contemplative space. People of all faiths and no faith at all are invited to participate. You don’t need to believe anything to find quietude and connection on the labyrinth path. \nThe labyrinth walking path has been with humanity for thousands of years. Christianity adopted and tweaked the ancient labyrinth form to speak specifically to the journey toward the heart of Christ. The path traced by a labyrinth is a symbol of spiritual movement. It is a way to think about a disciplined spiritual life. The switchbacks and redirections are predictable. One minute\, you are walking directly toward the center\, and then you find yourself on the outer ring. You walk your way back to the center. Eventually\, the path leads into the heart of the labyrinth and the heart of the present moment. \n 
URL:https://colusaumc.org/event/labyrinth-walk-2025/
LOCATION:Trinity\, 511 Oak Street\, Colusa\, CA\, 95932\, United States
CATEGORIES:Special Sacred
ATTACH;FMTTYPE=image/jpeg:https://colusaumc.org/wp-content/uploads/site/Labyrinth3-scaled.jpeg
END:VEVENT
END:VCALENDAR