BEGIN:VCALENDAR
VERSION:2.0
PRODID:-//Trinity UMC, Colusa - ECPv6.15.20//NONSGML v1.0//EN
CALSCALE:GREGORIAN
METHOD:PUBLISH
X-WR-CALNAME:Trinity UMC, Colusa
X-ORIGINAL-URL:https://colusaumc.org
X-WR-CALDESC:Events for Trinity UMC, Colusa
REFRESH-INTERVAL;VALUE=DURATION:PT1H
X-Robots-Tag:noindex
X-PUBLISHED-TTL:PT1H
BEGIN:VTIMEZONE
TZID:America/Los_Angeles
BEGIN:DAYLIGHT
TZOFFSETFROM:-0800
TZOFFSETTO:-0700
TZNAME:PDT
DTSTART:20250309T100000
END:DAYLIGHT
BEGIN:STANDARD
TZOFFSETFROM:-0700
TZOFFSETTO:-0800
TZNAME:PST
DTSTART:20251102T090000
END:STANDARD
BEGIN:DAYLIGHT
TZOFFSETFROM:-0800
TZOFFSETTO:-0700
TZNAME:PDT
DTSTART:20260308T100000
END:DAYLIGHT
BEGIN:STANDARD
TZOFFSETFROM:-0700
TZOFFSETTO:-0800
TZNAME:PST
DTSTART:20261101T090000
END:STANDARD
BEGIN:DAYLIGHT
TZOFFSETFROM:-0800
TZOFFSETTO:-0700
TZNAME:PDT
DTSTART:20270314T100000
END:DAYLIGHT
BEGIN:STANDARD
TZOFFSETFROM:-0700
TZOFFSETTO:-0800
TZNAME:PST
DTSTART:20271107T090000
END:STANDARD
END:VTIMEZONE
BEGIN:VEVENT
DTSTART;TZID=America/Los_Angeles:20260315T090000
DTEND;TZID=America/Los_Angeles:20260315T100000
DTSTAMP:20260423T104134
CREATED:20260307T170622Z
LAST-MODIFIED:20260307T170622Z
UID:9712-1773565200-1773568800@colusaumc.org
SUMMARY:Chime Choir Practice 3/15/26
DESCRIPTION:Youth and adults are invited to join us Sunday morning for hand chimes. \n\nWe will perform on Easter Sunday\, April 5th\, 2025 at 10:00 am.\nPlease see Elizabeth Y. for more info and a firm practice time.
URL:https://colusaumc.org/event/chimes-3-15-26/
LOCATION:Trinity\, 511 Oak Street\, Colusa\, CA\, 95932\, United States
CATEGORIES:Class,Community,Practice,Sound Space,Special Sacred
ATTACH;FMTTYPE=image/jpeg:https://colusaumc.org/wp-content/uploads/bulletin_images/Chimes.jpg
END:VEVENT
BEGIN:VEVENT
DTSTART;TZID=America/Los_Angeles:20260315T110000
DTEND;TZID=America/Los_Angeles:20260315T120000
DTSTAMP:20260423T104134
CREATED:20250202T011500Z
LAST-MODIFIED:20260128T213925Z
UID:7653-1773572400-1773576000@colusaumc.org
SUMMARY:Lenten Study 3 - 3-15-26
DESCRIPTION:Lent is a season of reconsideration\, fasting\, and preparation for the Easter. \nDuring Lent\, we are encouraged to reconsider what we think we know\, lay down our burdens\, and prepare for renewal. The season of Lent stretches from Ash Wednesday to Holy Saturday. The Lenten study runs on Sundays. \nDrop in for any or all of our four Lenten Sunday scripture studies. Each study is about 45 minutes long. Reflection pages are provided each week. \nWe will meet in the lounge at Trinity following coffee hour on Sunday mornings. (511 Oak Street\, Colusa) Anyone may attend regardless of religious background\, belief\, Christian experience\, or church affiliation. Enjoy a lively discussion and snacks.
URL:https://colusaumc.org/event/lenten-study-3-3-15-26/
LOCATION:Trinity\, 511 Oak Street\, Colusa\, CA\, 95932\, United States
CATEGORIES:Bible Study
END:VEVENT
BEGIN:VEVENT
DTSTART;TZID=America/Los_Angeles:20260315T140000
DTEND;TZID=America/Los_Angeles:20260315T150000
DTSTAMP:20260423T104134
CREATED:20260309T182447Z
LAST-MODIFIED:20260311T222919Z
UID:9733-1773583200-1773586800@colusaumc.org
SUMMARY:Sound Space Performance 3-15-26 2:00pm
DESCRIPTION:Sound Space Performance\n  \nMarch 15th\, 2026 2:00 pm \nMiddle schoolers in 4th\, 5th\, and 6th grade will perform another children’s musical this spring. “The Garden Show” is an amusing 30-minute musical with catchy tunes and clever lyrics from Bad Wolf Press. When aliens from planet Chlorophyll land in a garden on planet Earth\, they meet some new friends who teach them all about it. The children have learned about soil\, photosynthesis\, pollination\, and the creatures who call the garden home. The show also teaches some great lessons about helping and welcoming strangers. This is a great performance opportunity for Sound Space kids to sing a solo\, be part of the chorus\, and help with staging and costumes. \nThe performance is in the Trinity sanctuary with refreshments to follow in the parlor. \nThis event is for the entire community!
URL:https://colusaumc.org/event/sound-space-performance-3-15-26/
LOCATION:Trinity\, 511 Oak Street\, Colusa\, CA\, 95932\, United States
CATEGORIES:Performance,Sound Space
ATTACH;FMTTYPE=image/png:https://colusaumc.org/wp-content/uploads/bulletin_images/GardenShow_CoverInfo.png
END:VEVENT
END:VCALENDAR