BEGIN:VCALENDAR
VERSION:2.0
PRODID:-//Trinity UMC, Colusa - ECPv6.15.20//NONSGML v1.0//EN
CALSCALE:GREGORIAN
METHOD:PUBLISH
X-ORIGINAL-URL:https://colusaumc.org
X-WR-CALDESC:Events for Trinity UMC, Colusa
REFRESH-INTERVAL;VALUE=DURATION:PT1H
X-Robots-Tag:noindex
X-PUBLISHED-TTL:PT1H
BEGIN:VTIMEZONE
TZID:America/Los_Angeles
BEGIN:DAYLIGHT
TZOFFSETFROM:-0800
TZOFFSETTO:-0700
TZNAME:PDT
DTSTART:20220313T100000
END:DAYLIGHT
BEGIN:STANDARD
TZOFFSETFROM:-0700
TZOFFSETTO:-0800
TZNAME:PST
DTSTART:20221106T090000
END:STANDARD
BEGIN:DAYLIGHT
TZOFFSETFROM:-0800
TZOFFSETTO:-0700
TZNAME:PDT
DTSTART:20230312T100000
END:DAYLIGHT
BEGIN:STANDARD
TZOFFSETFROM:-0700
TZOFFSETTO:-0800
TZNAME:PST
DTSTART:20231105T090000
END:STANDARD
BEGIN:DAYLIGHT
TZOFFSETFROM:-0800
TZOFFSETTO:-0700
TZNAME:PDT
DTSTART:20240310T100000
END:DAYLIGHT
BEGIN:STANDARD
TZOFFSETFROM:-0700
TZOFFSETTO:-0800
TZNAME:PST
DTSTART:20241103T090000
END:STANDARD
BEGIN:DAYLIGHT
TZOFFSETFROM:-0800
TZOFFSETTO:-0700
TZNAME:PDT
DTSTART:20250309T100000
END:DAYLIGHT
BEGIN:STANDARD
TZOFFSETFROM:-0700
TZOFFSETTO:-0800
TZNAME:PST
DTSTART:20251102T090000
END:STANDARD
END:VTIMEZONE
BEGIN:VEVENT
DTSTART;TZID=America/Los_Angeles:20240501T120000
DTEND;TZID=America/Los_Angeles:20240501T130000
DTSTAMP:20260423T162307
CREATED:20240420T150012Z
LAST-MODIFIED:20240529T233434Z
UID:6785-1714564800-1714568400@colusaumc.org
SUMMARY:Staff Parish Relations Committee 5-1-24
DESCRIPTION:closed meeting\, please contact Elizabeth Y. to learn about this committee \nWednesday\, May 1\, 2024\nmeet in the parlor\, lunch meeting: bring a sack lunch
URL:https://colusaumc.org/event/sprc-5-1-24/
LOCATION:Trinity\, 511 Oak Street\, Colusa\, CA\, 95932\, United States
CATEGORIES:Administrative
END:VEVENT
BEGIN:VEVENT
DTSTART;TZID=America/Los_Angeles:20240412T120000
DTEND;TZID=America/Los_Angeles:20240412T130000
DTSTAMP:20260423T162307
CREATED:20240529T221301Z
LAST-MODIFIED:20240529T221324Z
UID:6782-1712923200-1712926800@colusaumc.org
SUMMARY:Staff Parish Relations Committee 4-12-24
DESCRIPTION:closed meeting\, please contact Elizabeth Y. to learn about this committee \nFriday\, April 12th\nlunch meeting: drinks provided\, bring a sack lunch
URL:https://colusaumc.org/event/sprc-4-12-24/
LOCATION:Trinity\, 511 Oak Street\, Colusa\, CA\, 95932\, United States
CATEGORIES:Administrative
END:VEVENT
BEGIN:VEVENT
DTSTART;TZID=America/Los_Angeles:20240407T110000
DTEND;TZID=America/Los_Angeles:20240407T120000
DTSTAMP:20260423T162307
CREATED:20240406T155328Z
LAST-MODIFIED:20240406T155343Z
UID:6656-1712487600-1712491200@colusaumc.org
SUMMARY:Ad Council 4-7-24
DESCRIPTION:all members are encouraged to attend this business meeting \nSunday\, April 7th\n11:00am\nmeets in Lounge after worship
URL:https://colusaumc.org/event/ad-council-conference-4-7-24/
LOCATION:Trinity\, 511 Oak Street\, Colusa\, CA\, 95932\, United States
CATEGORIES:Administrative
END:VEVENT
BEGIN:VEVENT
DTSTART;TZID=America/Los_Angeles:20240211T110000
DTEND;TZID=America/Los_Angeles:20240211T120000
DTSTAMP:20260423T162307
CREATED:20240313T010233Z
LAST-MODIFIED:20240313T010233Z
UID:6494-1707649200-1707652800@colusaumc.org
SUMMARY:Staff Parish Relations Committee 2-11-24
DESCRIPTION:closed meeting\, please contact Elizabeth Y. to learn about this committee \nSunday\, February 11th\nmeeting after coffee hour\nmeets in Sanctuary
URL:https://colusaumc.org/event/sprc-2-11-24/
LOCATION:Trinity\, 511 Oak Street\, Colusa\, CA\, 95932\, United States
CATEGORIES:Administrative
END:VEVENT
BEGIN:VEVENT
DTSTART;TZID=America/Los_Angeles:20240121T110000
DTEND;TZID=America/Los_Angeles:20240121T114500
DTSTAMP:20260423T162307
CREATED:20231221T020744Z
LAST-MODIFIED:20240313T010922Z
UID:6507-1705834800-1705837500@colusaumc.org
SUMMARY:Trustees Committee 1-21-24
DESCRIPTION:open to members\, please contact Mardel S. or Nancy L. to learn about this committee \nSunday\, January 21st\nmeeting after coffee hour-ish\nmeets in Lounge
URL:https://colusaumc.org/event/trustees-committee-1-21-24/
LOCATION:Trinity\, 511 Oak Street\, Colusa\, CA\, 95932\, United States
CATEGORIES:Administrative
END:VEVENT
BEGIN:VEVENT
DTSTART;TZID=America/Los_Angeles:20240114T110000
DTEND;TZID=America/Los_Angeles:20240114T120000
DTSTAMP:20260423T162307
CREATED:20231202T031433Z
LAST-MODIFIED:20240313T011717Z
UID:6509-1705230000-1705233600@colusaumc.org
SUMMARY:Ad Council 1-14-24
DESCRIPTION:all members are encouraged to attend this business meeting \nSunday\, January 14th\n11:00am\nmeets in Lounge after worship
URL:https://colusaumc.org/event/ad-council-conference-1-14-24/
LOCATION:Trinity\, 511 Oak Street\, Colusa\, CA\, 95932\, United States
CATEGORIES:Administrative
END:VEVENT
BEGIN:VEVENT
DTSTART;TZID=America/Los_Angeles:20231018T093000
DTEND;TZID=America/Los_Angeles:20231018T120000
DTSTAMP:20260423T162307
CREATED:20230916T173206Z
LAST-MODIFIED:20230916T173505Z
UID:5939-1697621400-1697630400@colusaumc.org
SUMMARY:Charge Conference 10-18-23
DESCRIPTION:all members are encouraged to attend this annual business meeting \nWednesday\, October 18\n9:30am SPRC only; 10:00am General\nmeets in Lounge \nPresiding Elder: District Superintendant Rev. Blake Busick
URL:https://colusaumc.org/event/charge-conference-10-18-23/
LOCATION:Trinity\, 511 Oak Street\, Colusa\, CA\, 95932\, United States
CATEGORIES:Administrative
END:VEVENT
BEGIN:VEVENT
DTSTART;TZID=America/Los_Angeles:20230924T114500
DTEND;TZID=America/Los_Angeles:20230924T123000
DTSTAMP:20260423T162307
CREATED:20230916T172411Z
LAST-MODIFIED:20230916T173449Z
UID:5934-1695555900-1695558600@colusaumc.org
SUMMARY:Ad Council 9-24-23
DESCRIPTION:open to members\, please contact Braly Z. to learn about this committee \nSunday\, September 24th\nmeeting after coffee hour-ish\nmeets in Lounge
URL:https://colusaumc.org/event/admin-council-9-24-23/
LOCATION:Trinity\, 511 Oak Street\, Colusa\, CA\, 95932\, United States
CATEGORIES:Administrative
END:VEVENT
BEGIN:VEVENT
DTSTART;TZID=America/Los_Angeles:20230924T110000
DTEND;TZID=America/Los_Angeles:20230924T114500
DTSTAMP:20260423T162307
CREATED:20230916T172138Z
LAST-MODIFIED:20230916T173436Z
UID:5932-1695553200-1695555900@colusaumc.org
SUMMARY:Trustees Committee 9-24-23
DESCRIPTION:open to members\, please contact Mardel S. or Nancy L. to learn about this committee \nSunday\, September 24th\nmeeting after coffee hour-ish\nmeets in Lounge
URL:https://colusaumc.org/event/trustees-committee-9-24-23/
LOCATION:Trinity\, 511 Oak Street\, Colusa\, CA\, 95932\, United States
CATEGORIES:Administrative
END:VEVENT
BEGIN:VEVENT
DTSTART;TZID=America/Los_Angeles:20230917T110000
DTEND;TZID=America/Los_Angeles:20230917T120000
DTSTAMP:20260423T162307
CREATED:20230916T172016Z
LAST-MODIFIED:20230916T172647Z
UID:5930-1694948400-1694952000@colusaumc.org
SUMMARY:Staff Parish Relations Committee 9-17-24
DESCRIPTION:closed meeting\, please contact Elizabeth Y. to learn about this committee \nSunday\, September 17th\nmeeting after coffee hour\nmeets in Lounge
URL:https://colusaumc.org/event/sprc-9-17-24/
LOCATION:Trinity\, 511 Oak Street\, Colusa\, CA\, 95932\, United States
CATEGORIES:Administrative
END:VEVENT
BEGIN:VEVENT
DTSTART;TZID=America/Los_Angeles:20230424T110000
DTEND;TZID=America/Los_Angeles:20230424T120000
DTSTAMP:20260423T162307
CREATED:20230312T133404Z
LAST-MODIFIED:20240313T013518Z
UID:6513-1682334000-1682337600@colusaumc.org
SUMMARY:Ad Council 4-24-23
DESCRIPTION:all members are encouraged to attend this business meeting \nSunday\, April 24th\n11:00am\nmeets in Lounge after worship
URL:https://colusaumc.org/event/ad-council-conference-4-24-23/
LOCATION:Trinity\, 511 Oak Street\, Colusa\, CA\, 95932\, United States
CATEGORIES:Administrative
END:VEVENT
END:VCALENDAR