BEGIN:VCALENDAR
VERSION:2.0
PRODID:-//Trinity UMC, Colusa - ECPv6.15.20//NONSGML v1.0//EN
CALSCALE:GREGORIAN
METHOD:PUBLISH
X-ORIGINAL-URL:https://colusaumc.org
X-WR-CALDESC:Events for Trinity UMC, Colusa
REFRESH-INTERVAL;VALUE=DURATION:PT1H
X-Robots-Tag:noindex
X-PUBLISHED-TTL:PT1H
BEGIN:VTIMEZONE
TZID:America/Los_Angeles
BEGIN:DAYLIGHT
TZOFFSETFROM:-0800
TZOFFSETTO:-0700
TZNAME:PDT
DTSTART:20240310T100000
END:DAYLIGHT
BEGIN:STANDARD
TZOFFSETFROM:-0700
TZOFFSETTO:-0800
TZNAME:PST
DTSTART:20241103T090000
END:STANDARD
BEGIN:DAYLIGHT
TZOFFSETFROM:-0800
TZOFFSETTO:-0700
TZNAME:PDT
DTSTART:20250309T100000
END:DAYLIGHT
BEGIN:STANDARD
TZOFFSETFROM:-0700
TZOFFSETTO:-0800
TZNAME:PST
DTSTART:20251102T090000
END:STANDARD
BEGIN:DAYLIGHT
TZOFFSETFROM:-0800
TZOFFSETTO:-0700
TZNAME:PDT
DTSTART:20260308T100000
END:DAYLIGHT
BEGIN:STANDARD
TZOFFSETFROM:-0700
TZOFFSETTO:-0800
TZNAME:PST
DTSTART:20261101T090000
END:STANDARD
END:VTIMEZONE
BEGIN:VEVENT
DTSTART;TZID=America/Los_Angeles:20250518T110000
DTEND;TZID=America/Los_Angeles:20250518T120000
DTSTAMP:20260424T085828
CREATED:20250429T214534Z
LAST-MODIFIED:20250529T214731Z
UID:7952-1747566000-1747569600@colusaumc.org
SUMMARY:The Faithfulness of Doubt and the Politics of Evil 5-18-25
DESCRIPTION:Doubt & Evil Study\nThe Faithfulness of Doubt and the Politics of Evil\nApril 27th – May 18th \nEaster is a season of celebration but also confusion. The disciples do not yet know what to make of the resurrection. The disciple Thomas demanded to touch Jesus’ wounds. Does this make him sinful? For two weeks we will focus on how the historic church had classified doubt and disbelief as evil. We will use our lectionary readings from the gospel of John chapters twenty and twenty-one to peer more deeply into church teachings and our own hearts. \nDrop in for one or all Sunday scripture studies. Each study is about 45 minutes long. Reflection pages are provided each week. \nWe will meet in the parlor at Trinity UMC following coffee hour on Sunday mornings. (511 Oak Street\, Colusa) Anyone may attend regardless religious background\, belief\, Christian experience\, or church affiliation. Enjoy a lively discussion and snacks.
URL:https://colusaumc.org/event/doubt-and-evil-5-18-25/
LOCATION:Trinity\, 511 Oak Street\, Colusa\, CA\, 95932\, United States
CATEGORIES:Bible Study,Class
ATTACH;FMTTYPE=image/png:https://colusaumc.org/wp-content/uploads/bulletin_images/Doubters_3_600x600.png
END:VEVENT
END:VCALENDAR