BEGIN:VCALENDAR
VERSION:2.0
PRODID:-//Trinity UMC, Colusa - ECPv6.15.20//NONSGML v1.0//EN
CALSCALE:GREGORIAN
METHOD:PUBLISH
X-ORIGINAL-URL:https://colusaumc.org
X-WR-CALDESC:Events for Trinity UMC, Colusa
REFRESH-INTERVAL;VALUE=DURATION:PT1H
X-Robots-Tag:noindex
X-PUBLISHED-TTL:PT1H
BEGIN:VTIMEZONE
TZID:America/Los_Angeles
BEGIN:DAYLIGHT
TZOFFSETFROM:-0800
TZOFFSETTO:-0700
TZNAME:PDT
DTSTART:20230312T100000
END:DAYLIGHT
BEGIN:STANDARD
TZOFFSETFROM:-0700
TZOFFSETTO:-0800
TZNAME:PST
DTSTART:20231105T090000
END:STANDARD
BEGIN:DAYLIGHT
TZOFFSETFROM:-0800
TZOFFSETTO:-0700
TZNAME:PDT
DTSTART:20240310T100000
END:DAYLIGHT
BEGIN:STANDARD
TZOFFSETFROM:-0700
TZOFFSETTO:-0800
TZNAME:PST
DTSTART:20241103T090000
END:STANDARD
BEGIN:DAYLIGHT
TZOFFSETFROM:-0800
TZOFFSETTO:-0700
TZNAME:PDT
DTSTART:20250309T100000
END:DAYLIGHT
BEGIN:STANDARD
TZOFFSETFROM:-0700
TZOFFSETTO:-0800
TZNAME:PST
DTSTART:20251102T090000
END:STANDARD
END:VTIMEZONE
BEGIN:VEVENT
DTSTART;TZID=America/Los_Angeles:20240602T110000
DTEND;TZID=America/Los_Angeles:20240602T120000
DTSTAMP:20260425T035123
CREATED:20240525T150041Z
LAST-MODIFIED:20240529T235332Z
UID:6813-1717326000-1717329600@colusaumc.org
SUMMARY:Early Christian Study 6 - 6-2-24
DESCRIPTION:Early Christian History Study\nExplore the curious\, early history of the Way of Jesus.\nApril 21st – June 2nd\, Six Sundays\n(No class on Mother’s Day\, May 12th) \nBy popular request\, we will explore the first few centuries of Christianity\, learning more about the early communities\, struggles\, and formation of the faith we now call Christianity. \nDrop in for any or all of our six Sunday studies. Each study is about 45 minutes long. Discussion pages are provided each week. \nWe will meet in the parlor at Trinity following coffee hour on Sunday mornings. (511 Oak Street\, Colusa) Anyone may attend regardless of religious background\, belief\, Christian experience\, or church affiliation. Enjoy a lively discussion and snacks.
URL:https://colusaumc.org/event/early-christian-history-6-2-26/
LOCATION:Trinity\, 511 Oak Street\, Colusa\, CA\, 95932\, United States
CATEGORIES:Class
ATTACH;FMTTYPE=image/jpeg:https://colusaumc.org/wp-content/uploads/bulletin_images/1st-4th_CE_SousseArchaeologicalMuseum.jpg
END:VEVENT
BEGIN:VEVENT
DTSTART;TZID=America/Los_Angeles:20240616T110000
DTEND;TZID=America/Los_Angeles:20240616T120000
DTSTAMP:20260425T035123
CREATED:20240529T235702Z
LAST-MODIFIED:20240529T235732Z
UID:6812-1718535600-1718539200@colusaumc.org
SUMMARY:Paul the Apostle 1 - 6-16-24
DESCRIPTION:Study of the Apostle Paul\nExplore the life\, convictions\, and impact of the Apostle Paul on the Christian Faith.\nJune 16th – July 7th\nSundays 11 am\, Parlor \nThe Apostle Paul’s letters to various communities following The Way of Jesus comprise the earliest writings of our Christian Bible\, predating even the Gospels. In this study\, we will explore Paul’s life\, convictions\, and his impact on our faith. \nJune 16 to July 7 we will enjoy a light\, 4-week study to help ground our understanding of the Apostle Paul after Sunday service in the parlor. Materials will be provided and you are welcome to drop into any or all studies. \nOur longer companion sermon series\, “Letters from Paul\,” will run from May 26 to July 14 and consider scripture from Romans\, 1 Corinthians\, 2 Corinthians\, Philemon\, Philippians\, 1 Thessalonians\, and Galatians. \nDrop in for any or all of our four Sunday studies. Each study is about 45 minutes long. Discussion pages are provided each week. \nWe will meet in the parlor at Trinity following coffee hour on Sunday mornings. (511 Oak Street\, Colusa) \nAnyone may attend regardless of religious background\, belief\, Christian experience\, or church affiliation. Enjoy a lively discussion and snacks.
URL:https://colusaumc.org/event/paul-the-apostle-1-6-16-24/
LOCATION:Trinity\, 511 Oak Street\, Colusa\, CA\, 95932\, United States
CATEGORIES:Bible Study,Class
ATTACH;FMTTYPE=image/png:https://colusaumc.org/wp-content/uploads/bulletin_images/MosaicPaul4.png
END:VEVENT
BEGIN:VEVENT
DTSTART;TZID=America/Los_Angeles:20240623T110000
DTEND;TZID=America/Los_Angeles:20240623T120000
DTSTAMP:20260425T035123
CREATED:20240529T235846Z
LAST-MODIFIED:20240529T235846Z
UID:6817-1719140400-1719144000@colusaumc.org
SUMMARY:Paul the Apostle 2 - 6-23-24
DESCRIPTION:Study of the Apostle Paul\nExplore the life\, convictions\, and impact of the Apostle Paul on the Christian Faith.\nJune 16th – July 7th\nSundays 11 am\, Parlor \nThe Apostle Paul’s letters to various communities following The Way of Jesus comprise the earliest writings of our Christian Bible\, predating even the Gospels. In this study\, we will explore Paul’s life\, convictions\, and his impact on our faith. \nJune 16 to July 7 we will enjoy a light\, 4-week study to help ground our understanding of the Apostle Paul after Sunday service in the parlor. Materials will be provided and you are welcome to drop into any or all studies. \nOur longer companion sermon series\, “Letters from Paul\,” will run from May 26 to July 14 and consider scripture from Romans\, 1 Corinthians\, 2 Corinthians\, Philemon\, Philippians\, 1 Thessalonians\, and Galatians. \nDrop in for any or all of our four Sunday studies. Each study is about 45 minutes long. Discussion pages are provided each week. \nWe will meet in the parlor at Trinity following coffee hour on Sunday mornings. (511 Oak Street\, Colusa) \nAnyone may attend regardless of religious background\, belief\, Christian experience\, or church affiliation. Enjoy a lively discussion and snacks.
URL:https://colusaumc.org/event/paul-the-apostle-2-6-23-24/
LOCATION:Trinity\, 511 Oak Street\, Colusa\, CA\, 95932\, United States
CATEGORIES:Bible Study,Class
ATTACH;FMTTYPE=image/png:https://colusaumc.org/wp-content/uploads/bulletin_images/MosaicPaul4.png
END:VEVENT
BEGIN:VEVENT
DTSTART;TZID=America/Los_Angeles:20240630T110000
DTEND;TZID=America/Los_Angeles:20240630T120000
DTSTAMP:20260425T035123
CREATED:20240529T235911Z
LAST-MODIFIED:20240529T235911Z
UID:6818-1719745200-1719748800@colusaumc.org
SUMMARY:Paul the Apostle 3 - 6-30-24
DESCRIPTION:Study of the Apostle Paul\nExplore the life\, convictions\, and impact of the Apostle Paul on the Christian Faith.\nJune 16th – July 7th\nSundays 11 am\, Parlor \nThe Apostle Paul’s letters to various communities following The Way of Jesus comprise the earliest writings of our Christian Bible\, predating even the Gospels. In this study\, we will explore Paul’s life\, convictions\, and his impact on our faith. \nJune 16 to July 7 we will enjoy a light\, 4-week study to help ground our understanding of the Apostle Paul after Sunday service in the parlor. Materials will be provided and you are welcome to drop into any or all studies. \nOur longer companion sermon series\, “Letters from Paul\,” will run from May 26 to July 14 and consider scripture from Romans\, 1 Corinthians\, 2 Corinthians\, Philemon\, Philippians\, 1 Thessalonians\, and Galatians. \nDrop in for any or all of our four Sunday studies. Each study is about 45 minutes long. Discussion pages are provided each week. \nWe will meet in the parlor at Trinity following coffee hour on Sunday mornings. (511 Oak Street\, Colusa) \nAnyone may attend regardless of religious background\, belief\, Christian experience\, or church affiliation. Enjoy a lively discussion and snacks.
URL:https://colusaumc.org/event/paul-the-apostle-3-6-30-24/
LOCATION:Trinity\, 511 Oak Street\, Colusa\, CA\, 95932\, United States
CATEGORIES:Bible Study,Class
ATTACH;FMTTYPE=image/png:https://colusaumc.org/wp-content/uploads/bulletin_images/MosaicPaul4.png
END:VEVENT
END:VCALENDAR