BEGIN:VCALENDAR
VERSION:2.0
PRODID:-//Trinity UMC, Colusa - ECPv6.15.20//NONSGML v1.0//EN
CALSCALE:GREGORIAN
METHOD:PUBLISH
X-ORIGINAL-URL:https://colusaumc.org
X-WR-CALDESC:Events for Trinity UMC, Colusa
REFRESH-INTERVAL;VALUE=DURATION:PT1H
X-Robots-Tag:noindex
X-PUBLISHED-TTL:PT1H
BEGIN:VTIMEZONE
TZID:America/Los_Angeles
BEGIN:DAYLIGHT
TZOFFSETFROM:-0800
TZOFFSETTO:-0700
TZNAME:PDT
DTSTART:20240310T100000
END:DAYLIGHT
BEGIN:STANDARD
TZOFFSETFROM:-0700
TZOFFSETTO:-0800
TZNAME:PST
DTSTART:20241103T090000
END:STANDARD
BEGIN:DAYLIGHT
TZOFFSETFROM:-0800
TZOFFSETTO:-0700
TZNAME:PDT
DTSTART:20250309T100000
END:DAYLIGHT
BEGIN:STANDARD
TZOFFSETFROM:-0700
TZOFFSETTO:-0800
TZNAME:PST
DTSTART:20251102T090000
END:STANDARD
BEGIN:DAYLIGHT
TZOFFSETFROM:-0800
TZOFFSETTO:-0700
TZNAME:PDT
DTSTART:20260308T100000
END:DAYLIGHT
BEGIN:STANDARD
TZOFFSETFROM:-0700
TZOFFSETTO:-0800
TZNAME:PST
DTSTART:20261101T090000
END:STANDARD
END:VTIMEZONE
BEGIN:VEVENT
DTSTART;TZID=America/Los_Angeles:20250407T173000
DTEND;TZID=America/Los_Angeles:20250407T183000
DTSTAMP:20260424T083837
CREATED:20250226T202734Z
LAST-MODIFIED:20250226T202734Z
UID:7576-1744047000-1744050600@colusaumc.org
SUMMARY:Growing in Faith 5 - 4-7-25
DESCRIPTION:Join us for six weeks of reflection and invitation. Growing in Faith is a short series inviting you to learn more about your own faith and our Methodist tradition.\nInfo & Registration Here
URL:https://colusaumc.org/event/growing-in-faith-5-4-7-25/
LOCATION:Trinity\, 511 Oak Street\, Colusa\, CA\, 95932\, United States
CATEGORIES:Class
ATTACH;FMTTYPE=image/png:https://colusaumc.org/wp-content/uploads/resources/TrinityArtisticWithGIFLogo_366x1600-e1725132621289.png
END:VEVENT
BEGIN:VEVENT
DTSTART;TZID=America/Los_Angeles:20250414T173000
DTEND;TZID=America/Los_Angeles:20250414T183000
DTSTAMP:20260424T083837
CREATED:20250226T202555Z
LAST-MODIFIED:20250226T202906Z
UID:7575-1744651800-1744655400@colusaumc.org
SUMMARY:Growing in Faith 6 - 4-14-25
DESCRIPTION:Join us for six weeks of reflection and invitation. Growing in Faith is a short series inviting you to learn more about your own faith and our Methodist tradition.\nInfo & Registration Here
URL:https://colusaumc.org/event/growing-in-faith-6-4-14-25/
LOCATION:Trinity\, 511 Oak Street\, Colusa\, CA\, 95932\, United States
CATEGORIES:Class
ATTACH;FMTTYPE=image/png:https://colusaumc.org/wp-content/uploads/resources/TrinityArtisticWithGIFLogo_366x1600-e1725132621289.png
END:VEVENT
BEGIN:VEVENT
DTSTART;TZID=America/Los_Angeles:20250427T110000
DTEND;TZID=America/Los_Angeles:20250427T120000
DTSTAMP:20260424T083837
CREATED:20250329T213947Z
LAST-MODIFIED:20250529T214401Z
UID:7948-1745751600-1745755200@colusaumc.org
SUMMARY:The Faithfulness of Doubt and the Politics of Evil 4-27-25
DESCRIPTION:Doubt & Evil Study\nThe Faithfulness of Doubt and the Politics of Evil\nApril 27th – May 18th \nEaster is a season of celebration but also confusion. The disciples do not yet know what to make of the resurrection. The disciple Thomas demanded to touch Jesus’ wounds. Does this make him sinful? For two weeks we will focus on how the historic church had classified doubt and disbelief as evil. We will use our lectionary readings from the gospel of John chapters twenty and twenty-one to peer more deeply into church teachings and our own hearts. \nDrop in for one or all Sunday scripture studies. Each study is about 45 minutes long. Reflection pages are provided each week. \nWe will meet in the parlor at Trinity UMC following coffee hour on Sunday mornings. (511 Oak Street\, Colusa) Anyone may attend regardless religious background\, belief\, Christian experience\, or church affiliation. Enjoy a lively discussion and snacks.
URL:https://colusaumc.org/event/doubt-and-evil-4-27-25/
LOCATION:Trinity\, 511 Oak Street\, Colusa\, CA\, 95932\, United States
CATEGORIES:Bible Study,Class
ATTACH;FMTTYPE=image/png:https://colusaumc.org/wp-content/uploads/bulletin_images/Doubters_3_600x600.png
END:VEVENT
END:VCALENDAR