BEGIN:VCALENDAR
VERSION:2.0
PRODID:-//Trinity UMC, Colusa - ECPv6.15.20//NONSGML v1.0//EN
CALSCALE:GREGORIAN
METHOD:PUBLISH
X-ORIGINAL-URL:https://colusaumc.org
X-WR-CALDESC:Events for Trinity UMC, Colusa
REFRESH-INTERVAL;VALUE=DURATION:PT1H
X-Robots-Tag:noindex
X-PUBLISHED-TTL:PT1H
BEGIN:VTIMEZONE
TZID:America/Los_Angeles
BEGIN:DAYLIGHT
TZOFFSETFROM:-0800
TZOFFSETTO:-0700
TZNAME:PDT
DTSTART:20230312T100000
END:DAYLIGHT
BEGIN:STANDARD
TZOFFSETFROM:-0700
TZOFFSETTO:-0800
TZNAME:PST
DTSTART:20231105T090000
END:STANDARD
BEGIN:DAYLIGHT
TZOFFSETFROM:-0800
TZOFFSETTO:-0700
TZNAME:PDT
DTSTART:20240310T100000
END:DAYLIGHT
BEGIN:STANDARD
TZOFFSETFROM:-0700
TZOFFSETTO:-0800
TZNAME:PST
DTSTART:20241103T090000
END:STANDARD
BEGIN:DAYLIGHT
TZOFFSETFROM:-0800
TZOFFSETTO:-0700
TZNAME:PDT
DTSTART:20250309T100000
END:DAYLIGHT
BEGIN:STANDARD
TZOFFSETFROM:-0700
TZOFFSETTO:-0800
TZNAME:PST
DTSTART:20251102T090000
END:STANDARD
END:VTIMEZONE
BEGIN:VEVENT
DTSTART;TZID=America/Los_Angeles:20240505T110000
DTEND;TZID=America/Los_Angeles:20240505T120000
DTSTAMP:20260425T093802
CREATED:20240429T234523Z
LAST-MODIFIED:20240529T235055Z
UID:6802-1714906800-1714910400@colusaumc.org
SUMMARY:Early Christian Study 3- 5-5-24
DESCRIPTION:Early Christian History Study\nExplore the curious\, early history of the Way of Jesus.\nApril 21st – June 2nd\, Six Sundays\n(No class on Mother’s Day\, May 12th) \nBy popular request\, we will explore the first few centuries of Christianity\, learning more about the early communities\, struggles\, and formation of the faith we now call Christianity. \nDrop in for any or all of our six Sunday studies. Each study is about 45 minutes long. Discussion pages are provided each week. \nWe will meet in the parlor at Trinity following coffee hour on Sunday mornings. (511 Oak Street\, Colusa) Anyone may attend regardless of religious background\, belief\, Christian experience\, or church affiliation. Enjoy a lively discussion and snacks.
URL:https://colusaumc.org/event/early-christian-history-3-5-5-24/
LOCATION:Trinity\, 511 Oak Street\, Colusa\, CA\, 95932\, United States
CATEGORIES:Class
ATTACH;FMTTYPE=image/jpeg:https://colusaumc.org/wp-content/uploads/bulletin_images/1st-4th_CE_SousseArchaeologicalMuseum.jpg
END:VEVENT
END:VCALENDAR