BEGIN:VCALENDAR
VERSION:2.0
PRODID:-//Trinity UMC, Colusa - ECPv6.15.20//NONSGML v1.0//EN
CALSCALE:GREGORIAN
METHOD:PUBLISH
X-WR-CALNAME:Trinity UMC, Colusa
X-ORIGINAL-URL:https://colusaumc.org
X-WR-CALDESC:Events for Trinity UMC, Colusa
REFRESH-INTERVAL;VALUE=DURATION:PT1H
X-Robots-Tag:noindex
X-PUBLISHED-TTL:PT1H
BEGIN:VTIMEZONE
TZID:America/Los_Angeles
BEGIN:DAYLIGHT
TZOFFSETFROM:-0800
TZOFFSETTO:-0700
TZNAME:PDT
DTSTART:20240310T100000
END:DAYLIGHT
BEGIN:STANDARD
TZOFFSETFROM:-0700
TZOFFSETTO:-0800
TZNAME:PST
DTSTART:20241103T090000
END:STANDARD
BEGIN:DAYLIGHT
TZOFFSETFROM:-0800
TZOFFSETTO:-0700
TZNAME:PDT
DTSTART:20250309T100000
END:DAYLIGHT
BEGIN:STANDARD
TZOFFSETFROM:-0700
TZOFFSETTO:-0800
TZNAME:PST
DTSTART:20251102T090000
END:STANDARD
BEGIN:DAYLIGHT
TZOFFSETFROM:-0800
TZOFFSETTO:-0700
TZNAME:PDT
DTSTART:20260308T100000
END:DAYLIGHT
BEGIN:STANDARD
TZOFFSETFROM:-0700
TZOFFSETTO:-0800
TZNAME:PST
DTSTART:20261101T090000
END:STANDARD
BEGIN:DAYLIGHT
TZOFFSETFROM:-0800
TZOFFSETTO:-0700
TZNAME:PDT
DTSTART:20270314T100000
END:DAYLIGHT
BEGIN:STANDARD
TZOFFSETFROM:-0700
TZOFFSETTO:-0800
TZNAME:PST
DTSTART:20271107T090000
END:STANDARD
END:VTIMEZONE
BEGIN:VEVENT
DTSTART;TZID=America/Los_Angeles:20260422T173000
DTEND;TZID=America/Los_Angeles:20260422T190000
DTSTAMP:20260423T113443
CREATED:20260307T165138Z
LAST-MODIFIED:20260307T165233Z
UID:9695-1776879000-1776884400@colusaumc.org
SUMMARY:Growing in Faith 1 - 4-22-26
DESCRIPTION:Join us for six weeks of reflection and invitation. Growing in Faith is a short series inviting you to learn more about your own faith and our Methodist tradition.\nInfo & Registration Here
URL:https://colusaumc.org/event/growing-in-faith-1-4-22-26/
LOCATION:Trinity\, 511 Oak Street\, Colusa\, CA\, 95932\, United States
CATEGORIES:Class
ATTACH;FMTTYPE=image/png:https://colusaumc.org/wp-content/uploads/resources/TrinityArtisticWithGIFLogo_366x1600-e1725132621289.png
END:VEVENT
BEGIN:VEVENT
DTSTART;TZID=America/Los_Angeles:20260412T120000
DTEND;TZID=America/Los_Angeles:20260412T133000
DTSTAMP:20260423T113443
CREATED:20251211T011531Z
LAST-MODIFIED:20251211T011531Z
UID:9142-1775995200-1776000600@colusaumc.org
SUMMARY:Growing in Faith 1 - 4-12-26
DESCRIPTION:Join us for six weeks of reflection and invitation. Growing in Faith is a short series inviting you to learn more about your own faith and our Methodist tradition.\nInfo & Registration Here
URL:https://colusaumc.org/event/growing-in-faith-1-4-12-26/
LOCATION:Trinity\, 511 Oak Street\, Colusa\, CA\, 95932\, United States
CATEGORIES:Class
ATTACH;FMTTYPE=image/png:https://colusaumc.org/wp-content/uploads/resources/TrinityArtisticWithGIFLogo_366x1600-e1725132621289.png
END:VEVENT
BEGIN:VEVENT
DTSTART;TZID=America/Los_Angeles:20260405T090000
DTEND;TZID=America/Los_Angeles:20260405T100000
DTSTAMP:20260423T113443
CREATED:20260307T170759Z
LAST-MODIFIED:20260307T170759Z
UID:9715-1775379600-1775383200@colusaumc.org
SUMMARY:Chime Choir Practice 4/5/26
DESCRIPTION:Youth and adults are invited to join us Sunday morning for hand chimes. \n\nWe will perform on Easter Sunday\, April 5th\, 2025 at 10:00 am.\nPlease see Elizabeth Y. for more info and a firm practice time.
URL:https://colusaumc.org/event/chimes-4-5-26/
LOCATION:Trinity\, 511 Oak Street\, Colusa\, CA\, 95932\, United States
CATEGORIES:Class,Community,Practice,Sound Space,Special Sacred
ATTACH;FMTTYPE=image/jpeg:https://colusaumc.org/wp-content/uploads/bulletin_images/Chimes.jpg
END:VEVENT
BEGIN:VEVENT
DTSTART;TZID=America/Los_Angeles:20260401T173000
DTEND;TZID=America/Los_Angeles:20260401T190000
DTSTAMP:20260423T113443
CREATED:20251211T011239Z
LAST-MODIFIED:20251211T011239Z
UID:9129-1775064600-1775070000@colusaumc.org
SUMMARY:Growing in Faith 6 - 4-1-26
DESCRIPTION:Join us for six weeks of reflection and invitation. Growing in Faith is a short series inviting you to learn more about your own faith and our Methodist tradition.\nInfo & Registration Here
URL:https://colusaumc.org/event/growing-in-faith-5-4-1-26/
LOCATION:Trinity\, 511 Oak Street\, Colusa\, CA\, 95932\, United States
CATEGORIES:Class
ATTACH;FMTTYPE=image/png:https://colusaumc.org/wp-content/uploads/resources/TrinityArtisticWithGIFLogo_366x1600-e1725132621289.png
END:VEVENT
BEGIN:VEVENT
DTSTART;TZID=America/Los_Angeles:20260329T090000
DTEND;TZID=America/Los_Angeles:20260329T100000
DTSTAMP:20260423T113443
CREATED:20260307T170727Z
LAST-MODIFIED:20260307T170727Z
UID:9714-1774774800-1774778400@colusaumc.org
SUMMARY:Chime Choir Practice 3/29/26
DESCRIPTION:Youth and adults are invited to join us Sunday morning for hand chimes. \n\nWe will perform on Easter Sunday\, April 5th\, 2025 at 10:00 am.\nPlease see Elizabeth Y. for more info and a firm practice time.
URL:https://colusaumc.org/event/chimes-3-29-26/
LOCATION:Trinity\, 511 Oak Street\, Colusa\, CA\, 95932\, United States
CATEGORIES:Class,Community,Practice,Sound Space,Special Sacred
ATTACH;FMTTYPE=image/jpeg:https://colusaumc.org/wp-content/uploads/bulletin_images/Chimes.jpg
END:VEVENT
BEGIN:VEVENT
DTSTART;TZID=America/Los_Angeles:20260325T173000
DTEND;TZID=America/Los_Angeles:20260325T190000
DTSTAMP:20260423T113443
CREATED:20251211T011152Z
LAST-MODIFIED:20251211T011250Z
UID:9128-1774459800-1774465200@colusaumc.org
SUMMARY:Growing in Faith 5 - 3-25-26
DESCRIPTION:Join us for six weeks of reflection and invitation. Growing in Faith is a short series inviting you to learn more about your own faith and our Methodist tradition.\nInfo & Registration Here
URL:https://colusaumc.org/event/growing-in-faith-5-3-25-26/
LOCATION:Trinity\, 511 Oak Street\, Colusa\, CA\, 95932\, United States
CATEGORIES:Class
ATTACH;FMTTYPE=image/png:https://colusaumc.org/wp-content/uploads/resources/TrinityArtisticWithGIFLogo_366x1600-e1725132621289.png
END:VEVENT
BEGIN:VEVENT
DTSTART;TZID=America/Los_Angeles:20260322T090000
DTEND;TZID=America/Los_Angeles:20260322T100000
DTSTAMP:20260423T113443
CREATED:20260307T170705Z
LAST-MODIFIED:20260307T170705Z
UID:9713-1774170000-1774173600@colusaumc.org
SUMMARY:Chime Choir Practice 3/22/26
DESCRIPTION:Youth and adults are invited to join us Sunday morning for hand chimes. \n\nWe will perform on Easter Sunday\, April 5th\, 2025 at 10:00 am.\nPlease see Elizabeth Y. for more info and a firm practice time.
URL:https://colusaumc.org/event/chimes-3-22-26/
LOCATION:Trinity\, 511 Oak Street\, Colusa\, CA\, 95932\, United States
CATEGORIES:Class,Community,Practice,Sound Space,Special Sacred
ATTACH;FMTTYPE=image/jpeg:https://colusaumc.org/wp-content/uploads/bulletin_images/Chimes.jpg
END:VEVENT
BEGIN:VEVENT
DTSTART;TZID=America/Los_Angeles:20260318T173000
DTEND;TZID=America/Los_Angeles:20260318T190000
DTSTAMP:20260423T113443
CREATED:20251211T011128Z
LAST-MODIFIED:20251211T011128Z
UID:9127-1773855000-1773860400@colusaumc.org
SUMMARY:Growing in Faith 4 - 3-18-26
DESCRIPTION:Join us for six weeks of reflection and invitation. Growing in Faith is a short series inviting you to learn more about your own faith and our Methodist tradition.\nInfo & Registration Here
URL:https://colusaumc.org/event/growing-in-faith-4-3-18-26/
LOCATION:Trinity\, 511 Oak Street\, Colusa\, CA\, 95932\, United States
CATEGORIES:Class
ATTACH;FMTTYPE=image/png:https://colusaumc.org/wp-content/uploads/resources/TrinityArtisticWithGIFLogo_366x1600-e1725132621289.png
END:VEVENT
BEGIN:VEVENT
DTSTART;TZID=America/Los_Angeles:20260315T090000
DTEND;TZID=America/Los_Angeles:20260315T100000
DTSTAMP:20260423T113443
CREATED:20260307T170622Z
LAST-MODIFIED:20260307T170622Z
UID:9712-1773565200-1773568800@colusaumc.org
SUMMARY:Chime Choir Practice 3/15/26
DESCRIPTION:Youth and adults are invited to join us Sunday morning for hand chimes. \n\nWe will perform on Easter Sunday\, April 5th\, 2025 at 10:00 am.\nPlease see Elizabeth Y. for more info and a firm practice time.
URL:https://colusaumc.org/event/chimes-3-15-26/
LOCATION:Trinity\, 511 Oak Street\, Colusa\, CA\, 95932\, United States
CATEGORIES:Class,Community,Practice,Sound Space,Special Sacred
ATTACH;FMTTYPE=image/jpeg:https://colusaumc.org/wp-content/uploads/bulletin_images/Chimes.jpg
END:VEVENT
BEGIN:VEVENT
DTSTART;TZID=America/Los_Angeles:20260311T173000
DTEND;TZID=America/Los_Angeles:20260311T190000
DTSTAMP:20260423T113443
CREATED:20251211T011102Z
LAST-MODIFIED:20251211T011102Z
UID:9126-1773250200-1773255600@colusaumc.org
SUMMARY:Growing in Faith 3 - 3-11-26
DESCRIPTION:Join us for six weeks of reflection and invitation. Growing in Faith is a short series inviting you to learn more about your own faith and our Methodist tradition.\nInfo & Registration Here
URL:https://colusaumc.org/event/growing-in-faith-3-3-11-26/
LOCATION:Trinity\, 511 Oak Street\, Colusa\, CA\, 95932\, United States
CATEGORIES:Class
ATTACH;FMTTYPE=image/png:https://colusaumc.org/wp-content/uploads/resources/TrinityArtisticWithGIFLogo_366x1600-e1725132621289.png
END:VEVENT
BEGIN:VEVENT
DTSTART;TZID=America/Los_Angeles:20260308T090000
DTEND;TZID=America/Los_Angeles:20260308T100000
DTSTAMP:20260423T113443
CREATED:20260307T170459Z
LAST-MODIFIED:20260307T170640Z
UID:9707-1772960400-1772964000@colusaumc.org
SUMMARY:Chime Choir Practice 3/8/26
DESCRIPTION:Youth and adults are invited to join us Sunday morning for hand chimes. \n\nWe will perform on Easter Sunday\, April 5th\, 2025 at 10:00 am.\nPlease see Elizabeth Y. for more info and a firm practice time.
URL:https://colusaumc.org/event/chimes-3-8-26-2/
LOCATION:Trinity\, 511 Oak Street\, Colusa\, CA\, 95932\, United States
CATEGORIES:Class,Community,Practice,Sound Space,Special Sacred
ATTACH;FMTTYPE=image/jpeg:https://colusaumc.org/wp-content/uploads/bulletin_images/Chimes.jpg
END:VEVENT
BEGIN:VEVENT
DTSTART;TZID=America/Los_Angeles:20260304T173000
DTEND;TZID=America/Los_Angeles:20260304T190000
DTSTAMP:20260423T113443
CREATED:20251211T011006Z
LAST-MODIFIED:20251211T011038Z
UID:9125-1772645400-1772650800@colusaumc.org
SUMMARY:Growing in Faith 2 - 3-4-26
DESCRIPTION:Join us for six weeks of reflection and invitation. Growing in Faith is a short series inviting you to learn more about your own faith and our Methodist tradition.\nInfo & Registration Here
URL:https://colusaumc.org/event/growing-in-faith-2-3-4-26/
LOCATION:Trinity\, 511 Oak Street\, Colusa\, CA\, 95932\, United States
CATEGORIES:Class
ATTACH;FMTTYPE=image/png:https://colusaumc.org/wp-content/uploads/resources/TrinityArtisticWithGIFLogo_366x1600-e1725132621289.png
END:VEVENT
BEGIN:VEVENT
DTSTART;TZID=America/Los_Angeles:20260303T183000
DTEND;TZID=America/Los_Angeles:20260303T200000
DTSTAMP:20260423T113443
CREATED:20251211T004945Z
LAST-MODIFIED:20251211T005131Z
UID:9112-1772562600-1772568000@colusaumc.org
SUMMARY:Growing in Faith 6 - 3-3-26
DESCRIPTION:Join us for six weeks of reflection and invitation. Growing in Faith is a short series inviting you to learn more about your own faith and our Methodist tradition.\nInfo & Registration Here
URL:https://colusaumc.org/event/growing-in-faith-6-3-3-26/
LOCATION:Trinity\, 511 Oak Street\, Colusa\, CA\, 95932\, United States
CATEGORIES:Class
ATTACH;FMTTYPE=image/png:https://colusaumc.org/wp-content/uploads/resources/TrinityArtisticWithGIFLogo_366x1600-e1725132621289.png
END:VEVENT
BEGIN:VEVENT
DTSTART;TZID=America/Los_Angeles:20260225T173000
DTEND;TZID=America/Los_Angeles:20260225T190000
DTSTAMP:20260423T113443
CREATED:20251211T010935Z
LAST-MODIFIED:20251211T011046Z
UID:9124-1772040600-1772046000@colusaumc.org
SUMMARY:Growing in Faith 1 - 2-25-26
DESCRIPTION:Join us for six weeks of reflection and invitation. Growing in Faith is a short series inviting you to learn more about your own faith and our Methodist tradition.\nInfo & Registration Here
URL:https://colusaumc.org/event/growing-in-faith-1-2-25-26/
LOCATION:Trinity\, 511 Oak Street\, Colusa\, CA\, 95932\, United States
CATEGORIES:Class
ATTACH;FMTTYPE=image/png:https://colusaumc.org/wp-content/uploads/resources/TrinityArtisticWithGIFLogo_366x1600-e1725132621289.png
END:VEVENT
BEGIN:VEVENT
DTSTART;TZID=America/Los_Angeles:20260224T183000
DTEND;TZID=America/Los_Angeles:20260224T200000
DTSTAMP:20260423T113443
CREATED:20251211T005009Z
LAST-MODIFIED:20251211T005050Z
UID:9113-1771957800-1771963200@colusaumc.org
SUMMARY:Growing in Faith 5 - 2-24-26
DESCRIPTION:Join us for six weeks of reflection and invitation. Growing in Faith is a short series inviting you to learn more about your own faith and our Methodist tradition.\nInfo & Registration Here
URL:https://colusaumc.org/event/growing-in-faith-5-2-24-26/
LOCATION:Trinity\, 511 Oak Street\, Colusa\, CA\, 95932\, United States
CATEGORIES:Class
ATTACH;FMTTYPE=image/png:https://colusaumc.org/wp-content/uploads/resources/TrinityArtisticWithGIFLogo_366x1600-e1725132621289.png
END:VEVENT
BEGIN:VEVENT
DTSTART;TZID=America/Los_Angeles:20260217T183000
DTEND;TZID=America/Los_Angeles:20260217T200000
DTSTAMP:20260423T113443
CREATED:20251211T004925Z
LAST-MODIFIED:20251211T004925Z
UID:9111-1771353000-1771358400@colusaumc.org
SUMMARY:Growing in Faith 4 - 2-17-26
DESCRIPTION:Join us for six weeks of reflection and invitation. Growing in Faith is a short series inviting you to learn more about your own faith and our Methodist tradition.\nInfo & Registration Here
URL:https://colusaumc.org/event/growing-in-faith-4-2-17-26/
LOCATION:Trinity\, 511 Oak Street\, Colusa\, CA\, 95932\, United States
CATEGORIES:Class
ATTACH;FMTTYPE=image/png:https://colusaumc.org/wp-content/uploads/resources/TrinityArtisticWithGIFLogo_366x1600-e1725132621289.png
END:VEVENT
BEGIN:VEVENT
DTSTART;TZID=America/Los_Angeles:20260211T173000
DTEND;TZID=America/Los_Angeles:20260211T190000
DTSTAMP:20260423T113443
CREATED:20251230T222237Z
LAST-MODIFIED:20251230T222237Z
UID:9251-1770831000-1770836400@colusaumc.org
SUMMARY:Growing in Faith 6 - 2-11-26
DESCRIPTION:Join us for six weeks of reflection and invitation. Growing in Faith is a short series inviting you to learn more about your own faith and our Methodist tradition.\nInfo & Registration Here
URL:https://colusaumc.org/event/growing-in-faith-6-2-11-26/
LOCATION:Trinity\, 511 Oak Street\, Colusa\, CA\, 95932\, United States
CATEGORIES:Class
ATTACH;FMTTYPE=image/png:https://colusaumc.org/wp-content/uploads/resources/TrinityArtisticWithGIFLogo_366x1600-e1725132621289.png
END:VEVENT
BEGIN:VEVENT
DTSTART;TZID=America/Los_Angeles:20260210T180000
DTEND;TZID=America/Los_Angeles:20260210T200000
DTSTAMP:20260423T113443
CREATED:20251211T004855Z
LAST-MODIFIED:20251211T004855Z
UID:9110-1770746400-1770753600@colusaumc.org
SUMMARY:Growing in Faith 3 - 2-10-26
DESCRIPTION:Join us for six weeks of reflection and invitation. Growing in Faith is a short series inviting you to learn more about your own faith and our Methodist tradition.\nInfo & Registration Here
URL:https://colusaumc.org/event/growing-in-faith-3-2-10-26/
LOCATION:Trinity\, 511 Oak Street\, Colusa\, CA\, 95932\, United States
CATEGORIES:Class
ATTACH;FMTTYPE=image/png:https://colusaumc.org/wp-content/uploads/resources/TrinityArtisticWithGIFLogo_366x1600-e1725132621289.png
END:VEVENT
BEGIN:VEVENT
DTSTART;TZID=America/Los_Angeles:20260204T173000
DTEND;TZID=America/Los_Angeles:20260204T190000
DTSTAMP:20260423T113443
CREATED:20251230T222203Z
LAST-MODIFIED:20251230T222203Z
UID:9250-1770226200-1770231600@colusaumc.org
SUMMARY:Growing in Faith 5 - 2-4-26
DESCRIPTION:Join us for six weeks of reflection and invitation. Growing in Faith is a short series inviting you to learn more about your own faith and our Methodist tradition.\nInfo & Registration Here
URL:https://colusaumc.org/event/growing-in-faith-5-2-4-26/
LOCATION:Trinity\, 511 Oak Street\, Colusa\, CA\, 95932\, United States
CATEGORIES:Class
ATTACH;FMTTYPE=image/png:https://colusaumc.org/wp-content/uploads/resources/TrinityArtisticWithGIFLogo_366x1600-e1725132621289.png
END:VEVENT
BEGIN:VEVENT
DTSTART;TZID=America/Los_Angeles:20260203T183000
DTEND;TZID=America/Los_Angeles:20260203T200000
DTSTAMP:20260423T113443
CREATED:20251211T004832Z
LAST-MODIFIED:20251211T004832Z
UID:9109-1770143400-1770148800@colusaumc.org
SUMMARY:Growing in Faith 2 - 2-3-26
DESCRIPTION:Join us for six weeks of reflection and invitation. Growing in Faith is a short series inviting you to learn more about your own faith and our Methodist tradition.\nInfo & Registration Here
URL:https://colusaumc.org/event/growing-in-faith-2-2-3-26/
LOCATION:Trinity\, 511 Oak Street\, Colusa\, CA\, 95932\, United States
CATEGORIES:Class
ATTACH;FMTTYPE=image/png:https://colusaumc.org/wp-content/uploads/resources/TrinityArtisticWithGIFLogo_366x1600-e1725132621289.png
END:VEVENT
BEGIN:VEVENT
DTSTART;TZID=America/Los_Angeles:20260128T173000
DTEND;TZID=America/Los_Angeles:20260128T190000
DTSTAMP:20260423T113443
CREATED:20251230T221935Z
LAST-MODIFIED:20251230T221935Z
UID:9249-1769621400-1769626800@colusaumc.org
SUMMARY:Growing in Faith 4 - 1-28-26
DESCRIPTION:Join us for six weeks of reflection and invitation. Growing in Faith is a short series inviting you to learn more about your own faith and our Methodist tradition.\nInfo & Registration Here
URL:https://colusaumc.org/event/growing-in-faith-4-1-28-26/
LOCATION:Trinity\, 511 Oak Street\, Colusa\, CA\, 95932\, United States
CATEGORIES:Class
ATTACH;FMTTYPE=image/png:https://colusaumc.org/wp-content/uploads/resources/TrinityArtisticWithGIFLogo_366x1600-e1725132621289.png
END:VEVENT
BEGIN:VEVENT
DTSTART;TZID=America/Los_Angeles:20260127T183000
DTEND;TZID=America/Los_Angeles:20260127T200000
DTSTAMP:20260423T113443
CREATED:20251211T004807Z
LAST-MODIFIED:20251211T004807Z
UID:9108-1769538600-1769544000@colusaumc.org
SUMMARY:Growing in Faith 1 - 1-27-26
DESCRIPTION:Join us for six weeks of reflection and invitation. Growing in Faith is a short series inviting you to learn more about your own faith and our Methodist tradition.\nInfo & Registration Here
URL:https://colusaumc.org/event/growing-in-faith-1-1-27-26/
LOCATION:Trinity\, 511 Oak Street\, Colusa\, CA\, 95932\, United States
CATEGORIES:Class
ATTACH;FMTTYPE=image/png:https://colusaumc.org/wp-content/uploads/resources/TrinityArtisticWithGIFLogo_366x1600-e1725132621289.png
END:VEVENT
BEGIN:VEVENT
DTSTART;TZID=America/Los_Angeles:20260121T173000
DTEND;TZID=America/Los_Angeles:20260121T190000
DTSTAMP:20260423T113443
CREATED:20251230T221835Z
LAST-MODIFIED:20251230T221857Z
UID:9248-1769016600-1769022000@colusaumc.org
SUMMARY:Growing in Faith 3 - 1-21-26
DESCRIPTION:Join us for six weeks of reflection and invitation. Growing in Faith is a short series inviting you to learn more about your own faith and our Methodist tradition.\nInfo & Registration Here
URL:https://colusaumc.org/event/growing-in-faith-3-1-21-26/
LOCATION:Trinity\, 511 Oak Street\, Colusa\, CA\, 95932\, United States
CATEGORIES:Class
ATTACH;FMTTYPE=image/png:https://colusaumc.org/wp-content/uploads/resources/TrinityArtisticWithGIFLogo_366x1600-e1725132621289.png
END:VEVENT
BEGIN:VEVENT
DTSTART;TZID=America/Los_Angeles:20260114T173000
DTEND;TZID=America/Los_Angeles:20260114T190000
DTSTAMP:20260423T113443
CREATED:20251230T221800Z
LAST-MODIFIED:20251230T221800Z
UID:9247-1768411800-1768417200@colusaumc.org
SUMMARY:Growing in Faith 2 - 1-14-26
DESCRIPTION:Join us for six weeks of reflection and invitation. Growing in Faith is a short series inviting you to learn more about your own faith and our Methodist tradition.\nInfo & Registration Here
URL:https://colusaumc.org/event/growing-in-faith-2-1-14-26/
LOCATION:Trinity\, 511 Oak Street\, Colusa\, CA\, 95932\, United States
CATEGORIES:Class
ATTACH;FMTTYPE=image/png:https://colusaumc.org/wp-content/uploads/resources/TrinityArtisticWithGIFLogo_366x1600-e1725132621289.png
END:VEVENT
BEGIN:VEVENT
DTSTART;TZID=America/Los_Angeles:20260107T173000
DTEND;TZID=America/Los_Angeles:20260107T190000
DTSTAMP:20260423T113443
CREATED:20251230T221722Z
LAST-MODIFIED:20251230T221722Z
UID:9246-1767807000-1767812400@colusaumc.org
SUMMARY:Growing in Faith 1 - 1-7-26
DESCRIPTION:Join us for six weeks of reflection and invitation. Growing in Faith is a short series inviting you to learn more about your own faith and our Methodist tradition.\nInfo & Registration Here
URL:https://colusaumc.org/event/growing-in-faith-1-1-7-26/
LOCATION:Trinity\, 511 Oak Street\, Colusa\, CA\, 95932\, United States
CATEGORIES:Class
ATTACH;FMTTYPE=image/png:https://colusaumc.org/wp-content/uploads/resources/TrinityArtisticWithGIFLogo_366x1600-e1725132621289.png
END:VEVENT
BEGIN:VEVENT
DTSTART;TZID=America/Los_Angeles:20251216T183000
DTEND;TZID=America/Los_Angeles:20251216T200000
DTSTAMP:20260423T113443
CREATED:20251010T224517Z
LAST-MODIFIED:20251211T004606Z
UID:9098-1765909800-1765915200@colusaumc.org
SUMMARY:Growing in Faith 6 - 12-16-25
DESCRIPTION:Join us for six weeks of reflection and invitation. Growing in Faith is a short series inviting you to learn more about your own faith and our Methodist tradition.\nInfo & Registration Here
URL:https://colusaumc.org/event/growing-in-faith-6-12-16-25/
LOCATION:Trinity\, 511 Oak Street\, Colusa\, CA\, 95932\, United States
CATEGORIES:Class
ATTACH;FMTTYPE=image/png:https://colusaumc.org/wp-content/uploads/resources/TrinityArtisticWithGIFLogo_366x1600-e1725132621289.png
END:VEVENT
BEGIN:VEVENT
DTSTART;TZID=America/Los_Angeles:20251214T090000
DTEND;TZID=America/Los_Angeles:20251214T100000
DTSTAMP:20260423T113443
CREATED:20250820T001523Z
LAST-MODIFIED:20251120T034923Z
UID:8386-1765702800-1765706400@colusaumc.org
SUMMARY:Chime Choir Practice 12-14-25
DESCRIPTION:Youth and adults are invited to join us Sunday morning for hand chimes. \n\nWe will perform at the Community Choir Christmas Concert\, Friday\, December 14th\, 2025 at 7:00 pm.
URL:https://colusaumc.org/event/chimes-12-14-25/
LOCATION:Trinity\, 511 Oak Street\, Colusa\, CA\, 95932\, United States
CATEGORIES:Class,Community,Practice,Sound Space,Special Sacred
END:VEVENT
BEGIN:VEVENT
DTSTART;TZID=America/Los_Angeles:20251209T183000
DTEND;TZID=America/Los_Angeles:20251209T200000
DTSTAMP:20260423T113443
CREATED:20251010T224352Z
LAST-MODIFIED:20251211T004612Z
UID:9097-1765305000-1765310400@colusaumc.org
SUMMARY:Growing in Faith 5 - 12-9-25
DESCRIPTION:Join us for six weeks of reflection and invitation. Growing in Faith is a short series inviting you to learn more about your own faith and our Methodist tradition.\nInfo & Registration Here
URL:https://colusaumc.org/event/growing-in-faith-5-12-9-25/
LOCATION:Trinity\, 511 Oak Street\, Colusa\, CA\, 95932\, United States
CATEGORIES:Class
ATTACH;FMTTYPE=image/png:https://colusaumc.org/wp-content/uploads/resources/TrinityArtisticWithGIFLogo_366x1600-e1725132621289.png
END:VEVENT
BEGIN:VEVENT
DTSTART;TZID=America/Los_Angeles:20251207T090000
DTEND;TZID=America/Los_Angeles:20251207T100000
DTSTAMP:20260423T113443
CREATED:20250820T002401Z
LAST-MODIFIED:20251120T034732Z
UID:8369-1765098000-1765101600@colusaumc.org
SUMMARY:Chime Choir Practice 12-7-25
DESCRIPTION:Youth and adults are invited to join us Sunday morning for hand chimes. \n\nWe will perform at the Community Choir Christmas Concert\, Friday\, December 14th\, 2025 at 7:00 pm.
URL:https://colusaumc.org/event/chimes-12-7-25/
LOCATION:Trinity\, 511 Oak Street\, Colusa\, CA\, 95932\, United States
CATEGORIES:Class,Community,Practice,Sound Space,Special Sacred
END:VEVENT
BEGIN:VEVENT
DTSTART;TZID=America/Los_Angeles:20251203T183000
DTEND;TZID=America/Los_Angeles:20251203T200000
DTSTAMP:20260423T113443
CREATED:20251010T224938Z
LAST-MODIFIED:20251211T004600Z
UID:9096-1764786600-1764792000@colusaumc.org
SUMMARY:Growing in Faith 4 - 12-3-25
DESCRIPTION:Join us for six weeks of reflection and invitation. Growing in Faith is a short series inviting you to learn more about your own faith and our Methodist tradition.\nInfo & Registration Here
URL:https://colusaumc.org/event/growing-in-faith-4-12-3-25/
LOCATION:Trinity\, 511 Oak Street\, Colusa\, CA\, 95932\, United States
CATEGORIES:Class
ATTACH;FMTTYPE=image/png:https://colusaumc.org/wp-content/uploads/resources/TrinityArtisticWithGIFLogo_366x1600-e1725132621289.png
END:VEVENT
END:VCALENDAR