BEGIN:VCALENDAR
VERSION:2.0
PRODID:-//Trinity UMC, Colusa - ECPv6.15.20//NONSGML v1.0//EN
CALSCALE:GREGORIAN
METHOD:PUBLISH
X-WR-CALNAME:Trinity UMC, Colusa
X-ORIGINAL-URL:https://colusaumc.org
X-WR-CALDESC:Events for Trinity UMC, Colusa
REFRESH-INTERVAL;VALUE=DURATION:PT1H
X-Robots-Tag:noindex
X-PUBLISHED-TTL:PT1H
BEGIN:VTIMEZONE
TZID:America/Los_Angeles
BEGIN:DAYLIGHT
TZOFFSETFROM:-0800
TZOFFSETTO:-0700
TZNAME:PDT
DTSTART:20240310T100000
END:DAYLIGHT
BEGIN:STANDARD
TZOFFSETFROM:-0700
TZOFFSETTO:-0800
TZNAME:PST
DTSTART:20241103T090000
END:STANDARD
BEGIN:DAYLIGHT
TZOFFSETFROM:-0800
TZOFFSETTO:-0700
TZNAME:PDT
DTSTART:20250309T100000
END:DAYLIGHT
BEGIN:STANDARD
TZOFFSETFROM:-0700
TZOFFSETTO:-0800
TZNAME:PST
DTSTART:20251102T090000
END:STANDARD
BEGIN:DAYLIGHT
TZOFFSETFROM:-0800
TZOFFSETTO:-0700
TZNAME:PDT
DTSTART:20260308T100000
END:DAYLIGHT
BEGIN:STANDARD
TZOFFSETFROM:-0700
TZOFFSETTO:-0800
TZNAME:PST
DTSTART:20261101T090000
END:STANDARD
END:VTIMEZONE
BEGIN:VEVENT
DTSTART;TZID=America/Los_Angeles:20251109T090000
DTEND;TZID=America/Los_Angeles:20251109T100000
DTSTAMP:20260423T155613
CREATED:20250820T001746Z
LAST-MODIFIED:20251120T034740Z
UID:8343-1762678800-1762682400@colusaumc.org
SUMMARY:Chime Choir Practice 11-9-25
DESCRIPTION:Youth and adults are invited to join us Sunday morning for hand chimes. \n\nWe will perform at the Community Choir Christmas Concert\, Friday\, December 14th\, 2025 at 7:00 pm.
URL:https://colusaumc.org/event/chimes-11-9-25/
LOCATION:Trinity\, 511 Oak Street\, Colusa\, CA\, 95932\, United States
CATEGORIES:Class,Community,Practice,Sound Space,Special Sacred
END:VEVENT
BEGIN:VEVENT
DTSTART;TZID=America/Los_Angeles:20251102T090000
DTEND;TZID=America/Los_Angeles:20251102T100000
DTSTAMP:20260423T155613
CREATED:20250820T001502Z
LAST-MODIFIED:20251120T034742Z
UID:8387-1762074000-1762077600@colusaumc.org
SUMMARY:Chime Choir Practice 11-2-25
DESCRIPTION:Youth and adults are invited to join us Sunday morning for hand chimes. \n\nWe will perform at the Community Choir Christmas Concert\, Friday\, December 14th\, 2025 at 7:00 pm.
URL:https://colusaumc.org/event/chimes-11-2-25/
LOCATION:Trinity\, 511 Oak Street\, Colusa\, CA\, 95932\, United States
CATEGORIES:Class,Community,Practice,Sound Space,Special Sacred
END:VEVENT
BEGIN:VEVENT
DTSTART;TZID=America/Los_Angeles:20251015T183000
DTEND;TZID=America/Los_Angeles:20251015T200000
DTSTAMP:20260423T155613
CREATED:20250819T204225Z
LAST-MODIFIED:20250819T204234Z
UID:8291-1760553000-1760558400@colusaumc.org
SUMMARY:Growing in Faith 6 - 10-15-25
DESCRIPTION:Join us for six weeks of reflection and invitation. Growing in Faith is a short series inviting you to learn more about your own faith and our Methodist tradition.\nInfo & Registration Here
URL:https://colusaumc.org/event/growing-in-faith-6-10-15-25/
LOCATION:Trinity\, 511 Oak Street\, Colusa\, CA\, 95932\, United States
CATEGORIES:Class
ATTACH;FMTTYPE=image/png:https://colusaumc.org/wp-content/uploads/resources/TrinityArtisticWithGIFLogo_366x1600-e1725132621289.png
END:VEVENT
BEGIN:VEVENT
DTSTART;TZID=America/Los_Angeles:20251012T110000
DTEND;TZID=America/Los_Angeles:20251012T120000
DTSTAMP:20260423T155613
CREATED:20250819T211328Z
LAST-MODIFIED:20250819T211328Z
UID:8320-1760266800-1760270400@colusaumc.org
SUMMARY:Seraphim Bible Study 4- 10-12-25
DESCRIPTION:Seraphim\nFrom Numbers and Amos through Isaiah and Acts\, we will be noticing how people anointed with fire are sent on incredible journeys of the spirit.\nSeptember 14th – October 12th\n(no meeting 10/5) \nJoin us after worship service for four Sundays this fall to consider the fiery snake of cruddy consequences\, the seraphim. In the Bible\, we sometimes find seraphim and serpents at life inflection points in the story of God’s people. Beginning with John 3:13-17\, our lectionary readings will launch us into a discussion that will move us beyond these verses. We will wind from Numbers and Amos through Isaiah and Acts noticing how people anointed with fire are sent on incredible journeys of the spirit. How have you been touched by fire? \nDrop in for one or all Sunday scripture studies. Each study is about 45 minutes long. Reflection pages are provided each week. \nWe will meet in the parlor at Trinity UMC following coffee hour on Sunday mornings. (511 Oak Street\, Colusa) Anyone may attend regardless religious background\, belief\, Christian experience\, or church affiliation. Enjoy a lively discussion and snacks. \nBible knowledge is NOT required.
URL:https://colusaumc.org/event/seraphim-bible-study-4-10-12-25/
LOCATION:Trinity\, 511 Oak Street\, Colusa\, CA\, 95932\, United States
CATEGORIES:Bible Study,Class
ATTACH;FMTTYPE=image/png:https://colusaumc.org/wp-content/uploads/bulletin_images/S_2.png
END:VEVENT
BEGIN:VEVENT
DTSTART;TZID=America/Los_Angeles:20251008T183000
DTEND;TZID=America/Los_Angeles:20251008T200000
DTSTAMP:20260423T155613
CREATED:20250819T204201Z
LAST-MODIFIED:20250819T204201Z
UID:8290-1759948200-1759953600@colusaumc.org
SUMMARY:Growing in Faith 5 - 10-8-25
DESCRIPTION:Join us for six weeks of reflection and invitation. Growing in Faith is a short series inviting you to learn more about your own faith and our Methodist tradition.\nInfo & Registration Here
URL:https://colusaumc.org/event/growing-in-faith-5-10-8-25/
LOCATION:Trinity\, 511 Oak Street\, Colusa\, CA\, 95932\, United States
CATEGORIES:Class
ATTACH;FMTTYPE=image/png:https://colusaumc.org/wp-content/uploads/resources/TrinityArtisticWithGIFLogo_366x1600-e1725132621289.png
END:VEVENT
BEGIN:VEVENT
DTSTART;TZID=America/Los_Angeles:20250930T183000
DTEND;TZID=America/Los_Angeles:20250930T200000
DTSTAMP:20260423T155613
CREATED:20250819T203643Z
LAST-MODIFIED:20250819T203658Z
UID:8274-1759257000-1759262400@colusaumc.org
SUMMARY:Growing in Faith 6 - 9-30-25
DESCRIPTION:Join us for six weeks of reflection and invitation. Growing in Faith is a short series inviting you to learn more about your own faith and our Methodist tradition.\nInfo & Registration Here
URL:https://colusaumc.org/event/growing-in-faith-6-9-30-25/
LOCATION:Trinity\, 511 Oak Street\, Colusa\, CA\, 95932\, United States
CATEGORIES:Class
ATTACH;FMTTYPE=image/png:https://colusaumc.org/wp-content/uploads/resources/TrinityArtisticWithGIFLogo_366x1600-e1725132621289.png
END:VEVENT
BEGIN:VEVENT
DTSTART;TZID=America/Los_Angeles:20250928T110000
DTEND;TZID=America/Los_Angeles:20250928T120000
DTSTAMP:20260423T155613
CREATED:20250819T210649Z
LAST-MODIFIED:20250819T211318Z
UID:8319-1759057200-1759060800@colusaumc.org
SUMMARY:Seraphim Bible Study 3- 9-28-25
DESCRIPTION:Seraphim\nFrom Numbers and Amos through Isaiah and Acts\, we will be noticing how people anointed with fire are sent on incredible journeys of the spirit.\nSeptember 14th – October 12th\n(no meeting 10/5) \nJoin us after worship service for four Sundays this fall to consider the fiery snake of cruddy consequences\, the seraphim. In the Bible\, we sometimes find seraphim and serpents at life inflection points in the story of God’s people. Beginning with John 3:13-17\, our lectionary readings will launch us into a discussion that will move us beyond these verses. We will wind from Numbers and Amos through Isaiah and Acts noticing how people anointed with fire are sent on incredible journeys of the spirit. How have you been touched by fire? \nDrop in for one or all Sunday scripture studies. Each study is about 45 minutes long. Reflection pages are provided each week. \nWe will meet in the parlor at Trinity UMC following coffee hour on Sunday mornings. (511 Oak Street\, Colusa) Anyone may attend regardless religious background\, belief\, Christian experience\, or church affiliation. Enjoy a lively discussion and snacks. \nBible knowledge is NOT required.
URL:https://colusaumc.org/event/seraphim-bible-study-3-9-28-25/
LOCATION:Trinity\, 511 Oak Street\, Colusa\, CA\, 95932\, United States
CATEGORIES:Bible Study,Class
ATTACH;FMTTYPE=image/png:https://colusaumc.org/wp-content/uploads/bulletin_images/S_2.png
END:VEVENT
BEGIN:VEVENT
DTSTART;TZID=America/Los_Angeles:20250924T183000
DTEND;TZID=America/Los_Angeles:20250924T200000
DTSTAMP:20260423T155613
CREATED:20250819T204033Z
LAST-MODIFIED:20250819T204033Z
UID:8292-1758738600-1758744000@colusaumc.org
SUMMARY:Growing in Faith 4 - 9-24-25
DESCRIPTION:Join us for six weeks of reflection and invitation. Growing in Faith is a short series inviting you to learn more about your own faith and our Methodist tradition.\nInfo & Registration Here
URL:https://colusaumc.org/event/growing-in-faith-4-9-24-25/
LOCATION:Trinity\, 511 Oak Street\, Colusa\, CA\, 95932\, United States
CATEGORIES:Class
ATTACH;FMTTYPE=image/png:https://colusaumc.org/wp-content/uploads/resources/TrinityArtisticWithGIFLogo_366x1600-e1725132621289.png
END:VEVENT
BEGIN:VEVENT
DTSTART;TZID=America/Los_Angeles:20250923T183000
DTEND;TZID=America/Los_Angeles:20250923T200000
DTSTAMP:20260423T155613
CREATED:20250819T203623Z
LAST-MODIFIED:20250819T203623Z
UID:8275-1758652200-1758657600@colusaumc.org
SUMMARY:Growing in Faith 5 - 9-23-25
DESCRIPTION:Join us for six weeks of reflection and invitation. Growing in Faith is a short series inviting you to learn more about your own faith and our Methodist tradition.\nInfo & Registration Here
URL:https://colusaumc.org/event/growing-in-faith-5-9-23-25/
LOCATION:Trinity\, 511 Oak Street\, Colusa\, CA\, 95932\, United States
CATEGORIES:Class
ATTACH;FMTTYPE=image/png:https://colusaumc.org/wp-content/uploads/resources/TrinityArtisticWithGIFLogo_366x1600-e1725132621289.png
END:VEVENT
BEGIN:VEVENT
DTSTART;TZID=America/Los_Angeles:20250921T110000
DTEND;TZID=America/Los_Angeles:20250921T120000
DTSTAMP:20260423T155613
CREATED:20250819T210611Z
LAST-MODIFIED:20250819T211251Z
UID:8318-1758452400-1758456000@colusaumc.org
SUMMARY:Seraphim Bible Study 2 - 9-21-25
DESCRIPTION:Seraphim\nFrom Numbers and Amos through Isaiah and Acts\, we will be noticing how people anointed with fire are sent on incredible journeys of the spirit.\nSeptember 14th – October 12th\n(no meeting 10/5) \nJoin us after worship service for four Sundays this fall to consider the fiery snake of cruddy consequences\, the seraphim. In the Bible\, we sometimes find seraphim and serpents at life inflection points in the story of God’s people. Beginning with John 3:13-17\, our lectionary readings will launch us into a discussion that will move us beyond these verses. We will wind from Numbers and Amos through Isaiah and Acts noticing how people anointed with fire are sent on incredible journeys of the spirit. How have you been touched by fire? \nDrop in for one or all Sunday scripture studies. Each study is about 45 minutes long. Reflection pages are provided each week. \nWe will meet in the parlor at Trinity UMC following coffee hour on Sunday mornings. (511 Oak Street\, Colusa) Anyone may attend regardless religious background\, belief\, Christian experience\, or church affiliation. Enjoy a lively discussion and snacks. \nBible knowledge is NOT required.
URL:https://colusaumc.org/event/seraphim-bible-study-2-9-21-25/
LOCATION:Trinity\, 511 Oak Street\, Colusa\, CA\, 95932\, United States
CATEGORIES:Bible Study,Class
ATTACH;FMTTYPE=image/png:https://colusaumc.org/wp-content/uploads/bulletin_images/S_2.png
END:VEVENT
BEGIN:VEVENT
DTSTART;TZID=America/Los_Angeles:20250917T180000
DTEND;TZID=America/Los_Angeles:20250917T200000
DTSTAMP:20260423T155613
CREATED:20250819T204012Z
LAST-MODIFIED:20250819T204012Z
UID:8293-1758132000-1758139200@colusaumc.org
SUMMARY:Growing in Faith 3 - 9-9-25
DESCRIPTION:Join us for six weeks of reflection and invitation. Growing in Faith is a short series inviting you to learn more about your own faith and our Methodist tradition.\nInfo & Registration Here
URL:https://colusaumc.org/event/growing-in-faith-3-9-17-25/
LOCATION:Trinity\, 511 Oak Street\, Colusa\, CA\, 95932\, United States
CATEGORIES:Class
ATTACH;FMTTYPE=image/png:https://colusaumc.org/wp-content/uploads/resources/TrinityArtisticWithGIFLogo_366x1600-e1725132621289.png
END:VEVENT
BEGIN:VEVENT
DTSTART;TZID=America/Los_Angeles:20250916T183000
DTEND;TZID=America/Los_Angeles:20250916T200000
DTSTAMP:20260423T155613
CREATED:20250819T203558Z
LAST-MODIFIED:20250819T203558Z
UID:8276-1758047400-1758052800@colusaumc.org
SUMMARY:Growing in Faith 4 - 9-16-25
DESCRIPTION:Join us for six weeks of reflection and invitation. Growing in Faith is a short series inviting you to learn more about your own faith and our Methodist tradition.\nInfo & Registration Here
URL:https://colusaumc.org/event/growing-in-faith-4-9-16-25/
LOCATION:Trinity\, 511 Oak Street\, Colusa\, CA\, 95932\, United States
CATEGORIES:Class
ATTACH;FMTTYPE=image/png:https://colusaumc.org/wp-content/uploads/resources/TrinityArtisticWithGIFLogo_366x1600-e1725132621289.png
END:VEVENT
BEGIN:VEVENT
DTSTART;TZID=America/Los_Angeles:20250914T110000
DTEND;TZID=America/Los_Angeles:20250914T120000
DTSTAMP:20260423T155613
CREATED:20250819T210438Z
LAST-MODIFIED:20250819T211258Z
UID:8317-1757847600-1757851200@colusaumc.org
SUMMARY:Seraphim Bible Study 1 - 9-14-25
DESCRIPTION:Seraphim\nFrom Numbers and Amos through Isaiah and Acts\, we will be noticing how people anointed with fire are sent on incredible journeys of the spirit.\nSeptember 14th – October 12th\n(no meeting 10/5) \nJoin us after worship service for four Sundays this fall to consider the fiery snake of cruddy consequences\, the seraphim. In the Bible\, we sometimes find seraphim and serpents at life inflection points in the story of God’s people. Beginning with John 3:13-17\, our lectionary readings will launch us into a discussion that will move us beyond these verses. We will wind from Numbers and Amos through Isaiah and Acts noticing how people anointed with fire are sent on incredible journeys of the spirit. How have you been touched by fire? \nDrop in for one or all Sunday scripture studies. Each study is about 45 minutes long. Reflection pages are provided each week. \nWe will meet in the parlor at Trinity UMC following coffee hour on Sunday mornings. (511 Oak Street\, Colusa) Anyone may attend regardless religious background\, belief\, Christian experience\, or church affiliation. Enjoy a lively discussion and snacks. \nBible knowledge is NOT required.
URL:https://colusaumc.org/event/seraphim-bible-study-1-9-14-25/
LOCATION:Trinity\, 511 Oak Street\, Colusa\, CA\, 95932\, United States
CATEGORIES:Bible Study,Class
ATTACH;FMTTYPE=image/png:https://colusaumc.org/wp-content/uploads/bulletin_images/S_2.png
END:VEVENT
BEGIN:VEVENT
DTSTART;TZID=America/Los_Angeles:20250910T183000
DTEND;TZID=America/Los_Angeles:20250910T200000
DTSTAMP:20260423T155613
CREATED:20250819T203950Z
LAST-MODIFIED:20250819T203950Z
UID:8294-1757529000-1757534400@colusaumc.org
SUMMARY:Growing in Faith 2 - 9-10-25
DESCRIPTION:Join us for six weeks of reflection and invitation. Growing in Faith is a short series inviting you to learn more about your own faith and our Methodist tradition.\nInfo & Registration Here
URL:https://colusaumc.org/event/growing-in-faith-2-9-10-25/
LOCATION:Trinity\, 511 Oak Street\, Colusa\, CA\, 95932\, United States
CATEGORIES:Class
ATTACH;FMTTYPE=image/png:https://colusaumc.org/wp-content/uploads/resources/TrinityArtisticWithGIFLogo_366x1600-e1725132621289.png
END:VEVENT
BEGIN:VEVENT
DTSTART;TZID=America/Los_Angeles:20250910T140000
DTEND;TZID=America/Los_Angeles:20250910T163000
DTSTAMP:20260423T155613
CREATED:20250819T212658Z
LAST-MODIFIED:20250908T205041Z
UID:8322-1757512800-1757521800@colusaumc.org
SUMMARY:Dance\, Colusa! 9-10-25
DESCRIPTION:  \nThrough generous grants with the Great Northern District Union and New and Vital Congregations as well as valuable partnerships with the City of Colusa\, Stagehands Theater\, and the Colusa County Arts Council\, Sound Space is continuing making more music\, and now dance\, in Colusa in 2025-2026. \n\n4th\, 5th\, and 6th graders are invited to join us after school for movement and music with our dance teacher from the performing arts camp\, Margaret K. A UCSC dance team member\, Margaret has taught across the north state. \nRegister Today!
URL:https://colusaumc.org/event/dance-colusa-9-10-25/
LOCATION:Trinity\, 511 Oak Street\, Colusa\, CA\, 95932\, United States
CATEGORIES:Class,Sound Space
ATTACH;FMTTYPE=image/png:https://colusaumc.org/wp-content/uploads/program_logos/DanceColusaTitle_Sq.png
END:VEVENT
BEGIN:VEVENT
DTSTART;TZID=America/Los_Angeles:20250909T180000
DTEND;TZID=America/Los_Angeles:20250909T200000
DTSTAMP:20260423T155613
CREATED:20250819T203453Z
LAST-MODIFIED:20250819T203453Z
UID:8277-1757440800-1757448000@colusaumc.org
SUMMARY:Growing in Faith 3 - 9-9-25
DESCRIPTION:Join us for six weeks of reflection and invitation. Growing in Faith is a short series inviting you to learn more about your own faith and our Methodist tradition.\nInfo & Registration Here
URL:https://colusaumc.org/event/growing-in-faith-3-9-9-25/
LOCATION:Trinity\, 511 Oak Street\, Colusa\, CA\, 95932\, United States
CATEGORIES:Class
ATTACH;FMTTYPE=image/png:https://colusaumc.org/wp-content/uploads/resources/TrinityArtisticWithGIFLogo_366x1600-e1725132621289.png
END:VEVENT
BEGIN:VEVENT
DTSTART;TZID=America/Los_Angeles:20250903T183000
DTEND;TZID=America/Los_Angeles:20250903T200000
DTSTAMP:20260423T155613
CREATED:20250819T203931Z
LAST-MODIFIED:20250819T203931Z
UID:8295-1756924200-1756929600@colusaumc.org
SUMMARY:Growing in Faith 1 - 9-3-25
DESCRIPTION:Join us for six weeks of reflection and invitation. Growing in Faith is a short series inviting you to learn more about your own faith and our Methodist tradition.\nInfo & Registration Here
URL:https://colusaumc.org/event/growing-in-faith-1-9-3-25/
LOCATION:Trinity\, 511 Oak Street\, Colusa\, CA\, 95932\, United States
CATEGORIES:Class
ATTACH;FMTTYPE=image/png:https://colusaumc.org/wp-content/uploads/resources/TrinityArtisticWithGIFLogo_366x1600-e1725132621289.png
END:VEVENT
BEGIN:VEVENT
DTSTART;TZID=America/Los_Angeles:20250903T140000
DTEND;TZID=America/Los_Angeles:20250903T163000
DTSTAMP:20260423T155613
CREATED:20250819T212830Z
LAST-MODIFIED:20250908T205022Z
UID:8335-1756908000-1756917000@colusaumc.org
SUMMARY:Dance\, Colusa! 9-3-25
DESCRIPTION:  \nThrough generous grants with the Great Northern District Union and New and Vital Congregations as well as valuable partnerships with the City of Colusa\, Stagehands Theater\, and the Colusa County Arts Council\, Sound Space is continuing making more music\, and now dance\, in Colusa in 2025-2026. \n\n4th\, 5th\, and 6th graders are invited to join us after school for movement and music with our dance teacher from the performing arts camp\, Margaret K. A UCSC dance team member\, Margaret has taught across the north state. \nRegister Today!
URL:https://colusaumc.org/event/dance-colusa-9-3-25/
LOCATION:Trinity\, 511 Oak Street\, Colusa\, CA\, 95932\, United States
CATEGORIES:Class,Sound Space
ATTACH;FMTTYPE=image/png:https://colusaumc.org/wp-content/uploads/program_logos/DanceColusaTitle_Sq.png
END:VEVENT
BEGIN:VEVENT
DTSTART;TZID=America/Los_Angeles:20250902T183000
DTEND;TZID=America/Los_Angeles:20250902T200000
DTSTAMP:20260423T155613
CREATED:20250819T203419Z
LAST-MODIFIED:20250819T203419Z
UID:8278-1756837800-1756843200@colusaumc.org
SUMMARY:Growing in Faith 2 - 9-2-25
DESCRIPTION:Join us for six weeks of reflection and invitation. Growing in Faith is a short series inviting you to learn more about your own faith and our Methodist tradition.\nInfo & Registration Here
URL:https://colusaumc.org/event/growing-in-faith-2-9-2-25/
LOCATION:Trinity\, 511 Oak Street\, Colusa\, CA\, 95932\, United States
CATEGORIES:Class
ATTACH;FMTTYPE=image/png:https://colusaumc.org/wp-content/uploads/resources/TrinityArtisticWithGIFLogo_366x1600-e1725132621289.png
END:VEVENT
BEGIN:VEVENT
DTSTART;TZID=America/Los_Angeles:20250826T183000
DTEND;TZID=America/Los_Angeles:20250826T200000
DTSTAMP:20260423T155613
CREATED:20250819T203528Z
LAST-MODIFIED:20250819T203528Z
UID:8279-1756233000-1756238400@colusaumc.org
SUMMARY:Growing in Faith 1 - 8-26-25
DESCRIPTION:Join us for six weeks of reflection and invitation. Growing in Faith is a short series inviting you to learn more about your own faith and our Methodist tradition.\nInfo & Registration Here
URL:https://colusaumc.org/event/growing-in-faith-1-8-26-25/
LOCATION:Trinity\, 511 Oak Street\, Colusa\, CA\, 95932\, United States
CATEGORIES:Class
ATTACH;FMTTYPE=image/png:https://colusaumc.org/wp-content/uploads/resources/TrinityArtisticWithGIFLogo_366x1600-e1725132621289.png
END:VEVENT
BEGIN:VEVENT
DTSTART;TZID=America/Los_Angeles:20250715T183000
DTEND;TZID=America/Los_Angeles:20250715T200000
DTSTAMP:20260423T155613
CREATED:20250529T210802Z
LAST-MODIFIED:20250529T210802Z
UID:7910-1752604200-1752609600@colusaumc.org
SUMMARY:Growing in Faith 6 - 7-15-25
DESCRIPTION:Join us for six weeks of reflection and invitation. Growing in Faith is a short series inviting you to learn more about your own faith and our Methodist tradition.\nInfo & Registration Here
URL:https://colusaumc.org/event/growing-in-faith-6-7-15-25/
LOCATION:Trinity\, 511 Oak Street\, Colusa\, CA\, 95932\, United States
CATEGORIES:Class
ATTACH;FMTTYPE=image/png:https://colusaumc.org/wp-content/uploads/resources/TrinityArtisticWithGIFLogo_366x1600-e1725132621289.png
END:VEVENT
BEGIN:VEVENT
DTSTART;TZID=America/Los_Angeles:20250701T183000
DTEND;TZID=America/Los_Angeles:20250701T200000
DTSTAMP:20260423T155613
CREATED:20250529T210652Z
LAST-MODIFIED:20250529T210652Z
UID:7908-1751394600-1751400000@colusaumc.org
SUMMARY:Growing in Faith 5 - 7-1-25
DESCRIPTION:Join us for six weeks of reflection and invitation. Growing in Faith is a short series inviting you to learn more about your own faith and our Methodist tradition.\nInfo & Registration Here
URL:https://colusaumc.org/event/growing-in-faith-5-7-1-25/
LOCATION:Trinity\, 511 Oak Street\, Colusa\, CA\, 95932\, United States
CATEGORIES:Class
ATTACH;FMTTYPE=image/png:https://colusaumc.org/wp-content/uploads/resources/TrinityArtisticWithGIFLogo_366x1600-e1725132621289.png
END:VEVENT
BEGIN:VEVENT
DTSTART;TZID=America/Los_Angeles:20250623T183000
DTEND;TZID=America/Los_Angeles:20250623T200000
DTSTAMP:20260423T155613
CREATED:20250529T210251Z
LAST-MODIFIED:20250529T210539Z
UID:7904-1750703400-1750708800@colusaumc.org
SUMMARY:Growing in Faith 4 - 6-23-25 MONDAY!
DESCRIPTION:Join us for six weeks of reflection and invitation. Growing in Faith is a short series inviting you to learn more about your own faith and our Methodist tradition.\nInfo & Registration Here
URL:https://colusaumc.org/event/growing-in-faith-4-6-23-25/
LOCATION:Trinity\, 511 Oak Street\, Colusa\, CA\, 95932\, United States
CATEGORIES:Class
ATTACH;FMTTYPE=image/png:https://colusaumc.org/wp-content/uploads/resources/TrinityArtisticWithGIFLogo_366x1600-e1725132621289.png
END:VEVENT
BEGIN:VEVENT
DTSTART;TZID=America/Los_Angeles:20250617T180000
DTEND;TZID=America/Los_Angeles:20250617T200000
DTSTAMP:20260423T155613
CREATED:20250529T210130Z
LAST-MODIFIED:20250529T210130Z
UID:7902-1750183200-1750190400@colusaumc.org
SUMMARY:Growing in Faith 3 - 6-17-25
DESCRIPTION:Join us for six weeks of reflection and invitation. Growing in Faith is a short series inviting you to learn more about your own faith and our Methodist tradition.\nInfo & Registration Here
URL:https://colusaumc.org/event/growing-in-faith-3-6-17-25/
LOCATION:Trinity\, 511 Oak Street\, Colusa\, CA\, 95932\, United States
CATEGORIES:Class
ATTACH;FMTTYPE=image/png:https://colusaumc.org/wp-content/uploads/resources/TrinityArtisticWithGIFLogo_366x1600-e1725132621289.png
END:VEVENT
BEGIN:VEVENT
DTSTART;TZID=America/Los_Angeles:20250611T183000
DTEND;TZID=America/Los_Angeles:20250611T200000
DTSTAMP:20260423T155613
CREATED:20250429T183835Z
LAST-MODIFIED:20250529T184148Z
UID:7886-1749666600-1749672000@colusaumc.org
SUMMARY:Growing in Faith 6 - 6-11-25
DESCRIPTION:Join us for six weeks of reflection and invitation. Growing in Faith is a short series inviting you to learn more about your own faith and our Methodist tradition.\nInfo & Registration Here
URL:https://colusaumc.org/event/growing-in-faith-6-6-11-25/
LOCATION:Trinity\, 511 Oak Street\, Colusa\, CA\, 95932\, United States
CATEGORIES:Class
ATTACH;FMTTYPE=image/png:https://colusaumc.org/wp-content/uploads/resources/TrinityArtisticWithGIFLogo_366x1600-e1725132621289.png
END:VEVENT
BEGIN:VEVENT
DTSTART;TZID=America/Los_Angeles:20250610T183000
DTEND;TZID=America/Los_Angeles:20250610T200000
DTSTAMP:20260423T155613
CREATED:20250529T205640Z
LAST-MODIFIED:20250529T205640Z
UID:7899-1749580200-1749585600@colusaumc.org
SUMMARY:Growing in Faith 2 - 6-10-25
DESCRIPTION:Join us for six weeks of reflection and invitation. Growing in Faith is a short series inviting you to learn more about your own faith and our Methodist tradition.\nInfo & Registration Here
URL:https://colusaumc.org/event/growing-in-faith-2-6-10-25/
LOCATION:Trinity\, 511 Oak Street\, Colusa\, CA\, 95932\, United States
CATEGORIES:Class
ATTACH;FMTTYPE=image/png:https://colusaumc.org/wp-content/uploads/resources/TrinityArtisticWithGIFLogo_366x1600-e1725132621289.png
END:VEVENT
BEGIN:VEVENT
DTSTART;TZID=America/Los_Angeles:20250604T183000
DTEND;TZID=America/Los_Angeles:20250604T200000
DTSTAMP:20260423T155613
CREATED:20250429T183737Z
LAST-MODIFIED:20250529T184202Z
UID:7887-1749061800-1749067200@colusaumc.org
SUMMARY:Growing in Faith 5 - 6-4-25
DESCRIPTION:Join us for six weeks of reflection and invitation. Growing in Faith is a short series inviting you to learn more about your own faith and our Methodist tradition.\nInfo & Registration Here
URL:https://colusaumc.org/event/growing-in-faith-5-6-4-25/
LOCATION:Trinity\, 511 Oak Street\, Colusa\, CA\, 95932\, United States
CATEGORIES:Class
ATTACH;FMTTYPE=image/png:https://colusaumc.org/wp-content/uploads/resources/TrinityArtisticWithGIFLogo_366x1600-e1725132621289.png
END:VEVENT
BEGIN:VEVENT
DTSTART;TZID=America/Los_Angeles:20250603T183000
DTEND;TZID=America/Los_Angeles:20250603T200000
DTSTAMP:20260423T155613
CREATED:20250529T205554Z
LAST-MODIFIED:20250529T205554Z
UID:7897-1748975400-1748980800@colusaumc.org
SUMMARY:Growing in Faith 1 - 6-3-25
DESCRIPTION:Join us for six weeks of reflection and invitation. Growing in Faith is a short series inviting you to learn more about your own faith and our Methodist tradition.\nInfo & Registration Here
URL:https://colusaumc.org/event/growing-in-faith-6-3-7-25/
LOCATION:Trinity\, 511 Oak Street\, Colusa\, CA\, 95932\, United States
CATEGORIES:Class
ATTACH;FMTTYPE=image/png:https://colusaumc.org/wp-content/uploads/resources/TrinityArtisticWithGIFLogo_366x1600-e1725132621289.png
END:VEVENT
BEGIN:VEVENT
DTSTART;TZID=America/Los_Angeles:20250521T183000
DTEND;TZID=America/Los_Angeles:20250521T200000
DTSTAMP:20260423T155613
CREATED:20250429T183714Z
LAST-MODIFIED:20250529T184127Z
UID:7885-1747852200-1747857600@colusaumc.org
SUMMARY:Growing in Faith 4 - 5-28-25
DESCRIPTION:Join us for six weeks of reflection and invitation. Growing in Faith is a short series inviting you to learn more about your own faith and our Methodist tradition.\nInfo & Registration Here
URL:https://colusaumc.org/event/growing-in-faith-5-28-25/
LOCATION:Trinity\, 511 Oak Street\, Colusa\, CA\, 95932\, United States
CATEGORIES:Class
ATTACH;FMTTYPE=image/png:https://colusaumc.org/wp-content/uploads/resources/TrinityArtisticWithGIFLogo_366x1600-e1725132621289.png
END:VEVENT
BEGIN:VEVENT
DTSTART;TZID=America/Los_Angeles:20250521T180000
DTEND;TZID=America/Los_Angeles:20250521T200000
DTSTAMP:20260423T155613
CREATED:20250429T183823Z
LAST-MODIFIED:20250529T205808Z
UID:7884-1747850400-1747857600@colusaumc.org
SUMMARY:Growing in Faith 3 - 5-21-25
DESCRIPTION:Join us for six weeks of reflection and invitation. Growing in Faith is a short series inviting you to learn more about your own faith and our Methodist tradition.\nInfo & Registration Here
URL:https://colusaumc.org/event/growing-in-faith-3-5-21-25/
LOCATION:Trinity\, 511 Oak Street\, Colusa\, CA\, 95932\, United States
CATEGORIES:Class
ATTACH;FMTTYPE=image/png:https://colusaumc.org/wp-content/uploads/resources/TrinityArtisticWithGIFLogo_366x1600-e1725132621289.png
END:VEVENT
END:VCALENDAR