BEGIN:VCALENDAR
VERSION:2.0
PRODID:-//Trinity UMC, Colusa - ECPv6.15.20//NONSGML v1.0//EN
CALSCALE:GREGORIAN
METHOD:PUBLISH
X-ORIGINAL-URL:https://colusaumc.org
X-WR-CALDESC:Events for Trinity UMC, Colusa
REFRESH-INTERVAL;VALUE=DURATION:PT1H
X-Robots-Tag:noindex
X-PUBLISHED-TTL:PT1H
BEGIN:VTIMEZONE
TZID:America/Los_Angeles
BEGIN:DAYLIGHT
TZOFFSETFROM:-0800
TZOFFSETTO:-0700
TZNAME:PDT
DTSTART:20240310T100000
END:DAYLIGHT
BEGIN:STANDARD
TZOFFSETFROM:-0700
TZOFFSETTO:-0800
TZNAME:PST
DTSTART:20241103T090000
END:STANDARD
BEGIN:DAYLIGHT
TZOFFSETFROM:-0800
TZOFFSETTO:-0700
TZNAME:PDT
DTSTART:20250309T100000
END:DAYLIGHT
BEGIN:STANDARD
TZOFFSETFROM:-0700
TZOFFSETTO:-0800
TZNAME:PST
DTSTART:20251102T090000
END:STANDARD
BEGIN:DAYLIGHT
TZOFFSETFROM:-0800
TZOFFSETTO:-0700
TZNAME:PDT
DTSTART:20260308T100000
END:DAYLIGHT
BEGIN:STANDARD
TZOFFSETFROM:-0700
TZOFFSETTO:-0800
TZNAME:PST
DTSTART:20261101T090000
END:STANDARD
END:VTIMEZONE
BEGIN:VEVENT
DTSTART;VALUE=DATE:20250724
DTEND;VALUE=DATE:20250725
DTSTAMP:20260424T041909
CREATED:20250529T213807Z
LAST-MODIFIED:20250529T232456Z
UID:7944-1753315200-1753401599@colusaumc.org
SUMMARY:Performing Arts Camp PERFORMANCE! 7-24-25
DESCRIPTION:Performing Arts Camp 2025 – PERFORMANCE!\nJoin us at Veterans Memorial Park as our campers kick off the Levitt AMP Thursday night concert in the park as the opening act for Jessica Fichot. \n\nCampers are invited to come early to prep and the show will begin about 5:45! \n\n\nThe Colusa County Arts Council is partnering with Sound Space\, The Stagehands\, and the City of Colusa\, to offer Performing Arts Camp!
URL:https://colusaumc.org/event/performing-arts-camp-7-24-25/
LOCATION:Veterans Memorial Park\, 9th & Jay\, Colusa\, 95932\, United States
CATEGORIES:Camp,Community
ATTACH;FMTTYPE=image/png:https://colusaumc.org/wp-content/uploads/bulletin_images/PerformingArtsCamp_1x1-2025.png
END:VEVENT
END:VCALENDAR