BEGIN:VCALENDAR
VERSION:2.0
PRODID:-//Trinity UMC, Colusa - ECPv6.15.20//NONSGML v1.0//EN
CALSCALE:GREGORIAN
METHOD:PUBLISH
X-ORIGINAL-URL:https://colusaumc.org
X-WR-CALDESC:Events for Trinity UMC, Colusa
REFRESH-INTERVAL;VALUE=DURATION:PT1H
X-Robots-Tag:noindex
X-PUBLISHED-TTL:PT1H
BEGIN:VTIMEZONE
TZID:America/Los_Angeles
BEGIN:DAYLIGHT
TZOFFSETFROM:-0800
TZOFFSETTO:-0700
TZNAME:PDT
DTSTART:20250309T100000
END:DAYLIGHT
BEGIN:STANDARD
TZOFFSETFROM:-0700
TZOFFSETTO:-0800
TZNAME:PST
DTSTART:20251102T090000
END:STANDARD
BEGIN:DAYLIGHT
TZOFFSETFROM:-0800
TZOFFSETTO:-0700
TZNAME:PDT
DTSTART:20260308T100000
END:DAYLIGHT
BEGIN:STANDARD
TZOFFSETFROM:-0700
TZOFFSETTO:-0800
TZNAME:PST
DTSTART:20261101T090000
END:STANDARD
BEGIN:DAYLIGHT
TZOFFSETFROM:-0800
TZOFFSETTO:-0700
TZNAME:PDT
DTSTART:20270314T100000
END:DAYLIGHT
BEGIN:STANDARD
TZOFFSETFROM:-0700
TZOFFSETTO:-0800
TZNAME:PST
DTSTART:20271107T090000
END:STANDARD
END:VTIMEZONE
BEGIN:VEVENT
DTSTART;TZID=America/Los_Angeles:20260615T112000
DTEND;TZID=America/Los_Angeles:20260615T130000
DTSTAMP:20260423T160027
CREATED:20260127T194906Z
LAST-MODIFIED:20260127T195300Z
UID:9413-1781522400-1781528400@colusaumc.org
SUMMARY:Hand Up Lunch 6-15-26
DESCRIPTION:Mondays in February\, June\, and October\, 11:20am\nmeets at Presbyterian Church\nsee Carolyn G. or Elizabeth Y. to help
URL:https://colusaumc.org/event/hand-up-lunch-6-15-26/
LOCATION:Presbyterian Church\, 261 Fourth Street\, Colusa\, CA\, 95932\, United States
CATEGORIES:Community
END:VEVENT
BEGIN:VEVENT
DTSTART;TZID=America/Los_Angeles:20260615T173000
DTEND;TZID=America/Los_Angeles:20260615T180000
DTSTAMP:20260423T160027
CREATED:20251210T165525Z
LAST-MODIFIED:20251210T165525Z
UID:9071-1781544600-1781546400@colusaumc.org
SUMMARY:Mid Month Mondays - 6-15-26
DESCRIPTION:Mid-Month Mondays \n5:30pm to 6:00pm (sanctuary opens at 5:15pm) \nThere is something about being able to practice deep contemplation in the company of others. Mid-Month Mondays provide this space. All traditions are welcome. You need not believe or practice anything at all to join. \nThe Trinity sanctuary opens at 5:15pm for a time of quiet prayer practice from 5:30pm to 6:00pm. For those not used to silent prayer\, candles and quiet background music provide an entry point into contemplation. \nChildcare will be provided at the January 20th meeting. \n 
URL:https://colusaumc.org/event/mid-month-mondays-6-15-26/
LOCATION:Trinity\, 511 Oak Street\, Colusa\, CA\, 95932\, United States
CATEGORIES:Community,Special Sacred
ATTACH;FMTTYPE=image/jpeg:https://colusaumc.org/wp-content/uploads/bulletin_images/MidMonth_NoDates-e1765385267591.jpg
END:VEVENT
END:VCALENDAR