BEGIN:VCALENDAR
VERSION:2.0
PRODID:-//Trinity UMC, Colusa - ECPv6.15.20//NONSGML v1.0//EN
CALSCALE:GREGORIAN
METHOD:PUBLISH
X-WR-CALNAME:Trinity UMC, Colusa
X-ORIGINAL-URL:https://colusaumc.org
X-WR-CALDESC:Events for Trinity UMC, Colusa
REFRESH-INTERVAL;VALUE=DURATION:PT1H
X-Robots-Tag:noindex
X-PUBLISHED-TTL:PT1H
BEGIN:VTIMEZONE
TZID:America/Los_Angeles
BEGIN:DAYLIGHT
TZOFFSETFROM:-0800
TZOFFSETTO:-0700
TZNAME:PDT
DTSTART:20220313T100000
END:DAYLIGHT
BEGIN:STANDARD
TZOFFSETFROM:-0700
TZOFFSETTO:-0800
TZNAME:PST
DTSTART:20221106T090000
END:STANDARD
BEGIN:DAYLIGHT
TZOFFSETFROM:-0800
TZOFFSETTO:-0700
TZNAME:PDT
DTSTART:20230312T100000
END:DAYLIGHT
BEGIN:STANDARD
TZOFFSETFROM:-0700
TZOFFSETTO:-0800
TZNAME:PST
DTSTART:20231105T090000
END:STANDARD
BEGIN:DAYLIGHT
TZOFFSETFROM:-0800
TZOFFSETTO:-0700
TZNAME:PDT
DTSTART:20240310T100000
END:DAYLIGHT
BEGIN:STANDARD
TZOFFSETFROM:-0700
TZOFFSETTO:-0800
TZNAME:PST
DTSTART:20241103T090000
END:STANDARD
BEGIN:DAYLIGHT
TZOFFSETFROM:-0800
TZOFFSETTO:-0700
TZNAME:PDT
DTSTART:20250309T100000
END:DAYLIGHT
BEGIN:STANDARD
TZOFFSETFROM:-0700
TZOFFSETTO:-0800
TZNAME:PST
DTSTART:20251102T090000
END:STANDARD
END:VTIMEZONE
BEGIN:VEVENT
DTSTART;TZID=America/Los_Angeles:20241224T173000
DTEND;TZID=America/Los_Angeles:20241224T183000
DTSTAMP:20260424T020157
CREATED:20241126T224509Z
LAST-MODIFIED:20241223T205735Z
UID:7338-1735061400-1735065000@colusaumc.org
SUMMARY:Christmas Eve Service 2024  -  5:30pm
DESCRIPTION:Christmas Eve Service\n5:30 pm\nall are welcome \nJoin us our Christmas Eve Service celebrating the birth of Jesus. \nWe light the Christ candle. The angels remind us all to seek something better– God alive in the world. We are called to do this without fear. We can’t control the world\, but we can choose how we live. \n  \n \n 
URL:https://colusaumc.org/event/christmas-eve-service-2024-530pm/
LOCATION:Trinity\, 511 Oak Street\, Colusa\, CA\, 95932\, United States
CATEGORIES:Community,Special Sacred
ATTACH;FMTTYPE=image/png:https://colusaumc.org/wp-content/uploads/bulletin_images/RejoiceRejoice_2_Sm.png
END:VEVENT
BEGIN:VEVENT
DTSTART;TZID=America/Los_Angeles:20241216T173000
DTEND;TZID=America/Los_Angeles:20241216T180000
DTSTAMP:20260424T020157
CREATED:20241127T003106Z
LAST-MODIFIED:20241127T003106Z
UID:7363-1734370200-1734372000@colusaumc.org
SUMMARY:Mid Month Mondays - 12-16-24
DESCRIPTION:Mid-Month Mondays \nNovember 18th * December 16th * January 20th \n5:30pm to 6:00pm (sanctuary opens at 5:15pm) \nThere is something about being able to practice deep contemplation in the company of others. Mid-Month Mondays provide this space. All traditions are welcome. You need not believe or practice anything at all to join. \nThe Trinity sanctuary opens at 5:15pm for a time of quiet prayer practice from 5:30pm to 6:00pm. For those not used to silent prayer\, candles and quiet background music provide an entry point into contemplation. \nChildcare will be provided at the January 20th meeting. Please contact us if you need childcare in November or December.
URL:https://colusaumc.org/event/mid-month-mondays-12-16-24/
LOCATION:Trinity\, 511 Oak Street\, Colusa\, CA\, 95932\, United States
CATEGORIES:Community,Special Sacred
ATTACH;FMTTYPE=image/jpeg:https://colusaumc.org/wp-content/uploads/bulletin_images/MidMonth-e1765385180731.jpg
END:VEVENT
BEGIN:VEVENT
DTSTART;TZID=America/Los_Angeles:20241118T173000
DTEND;TZID=America/Los_Angeles:20241118T180000
DTSTAMP:20260424T020157
CREATED:20241031T220326Z
LAST-MODIFIED:20241126T231040Z
UID:7360-1731951000-1731952800@colusaumc.org
SUMMARY:Mid Month Mondays - 11-18-24
DESCRIPTION:Mid-Month Mondays \nNovember 18th * December 16th * January 20th \n5:30pm to 6:00pm (sanctuary opens at 5:15pm) \nThere is something about being able to practice deep contemplation in the company of others. Mid-Month Mondays provide this space. All traditions are welcome. You need not believe or practice anything at all to join. \nThe Trinity sanctuary opens at 5:15pm for a time of quiet prayer practice from 5:30pm to 6:00pm. For those not used to silent prayer\, candles and quiet background music provide an entry point into contemplation. \nChildcare will be provided at the January 20th meeting. Please contact us if you need childcare in November or December.
URL:https://colusaumc.org/event/mid-month-mondays-11-18-24/
LOCATION:Trinity\, 511 Oak Street\, Colusa\, CA\, 95932\, United States
CATEGORIES:Community,Special Sacred
ATTACH;FMTTYPE=image/jpeg:https://colusaumc.org/wp-content/uploads/bulletin_images/MidMonth-e1765385180731.jpg
END:VEVENT
BEGIN:VEVENT
DTSTART;TZID=America/Los_Angeles:20241028T112000
DTEND;TZID=America/Los_Angeles:20241028T130000
DTSTAMP:20260424T020157
CREATED:20240822T180708Z
LAST-MODIFIED:20240822T180708Z
UID:7098-1730114400-1730120400@colusaumc.org
SUMMARY:Hand Up Lunch 10-28-24
DESCRIPTION:Mondays in October\, 11:20am\nmeets at Presbyterian Church\nsee Carolyn G. or Elizabeth Y. to help
URL:https://colusaumc.org/event/hand-up-lunch-10-28-24/
LOCATION:Presbyterian Church\, 261 Fourth Street\, Colusa\, CA\, 95932\, United States
CATEGORIES:Community
END:VEVENT
BEGIN:VEVENT
DTSTART;TZID=America/Los_Angeles:20241021T112000
DTEND;TZID=America/Los_Angeles:20241021T130000
DTSTAMP:20260424T020157
CREATED:20240822T180635Z
LAST-MODIFIED:20240822T180635Z
UID:7096-1729509600-1729515600@colusaumc.org
SUMMARY:Hand Up Lunch 10-21-24
DESCRIPTION:Mondays in October\, 11:20am\nmeets at Presbyterian Church\nsee Carolyn G. or Elizabeth Y. to help
URL:https://colusaumc.org/event/hand-up-lunch-10-21-24/
LOCATION:Presbyterian Church\, 261 Fourth Street\, Colusa\, CA\, 95932\, United States
CATEGORIES:Community
END:VEVENT
BEGIN:VEVENT
DTSTART;TZID=America/Los_Angeles:20241014T112000
DTEND;TZID=America/Los_Angeles:20241014T130000
DTSTAMP:20260424T020157
CREATED:20240822T180557Z
LAST-MODIFIED:20240822T180557Z
UID:7094-1728904800-1728910800@colusaumc.org
SUMMARY:Hand Up Lunch 10-14-24
DESCRIPTION:Mondays in October\, 11:20am\nmeets at Presbyterian Church\nsee Carolyn G. or Elizabeth Y. to help
URL:https://colusaumc.org/event/hand-up-lunch-10-14-24/
LOCATION:Presbyterian Church\, 261 Fourth Street\, Colusa\, CA\, 95932\, United States
CATEGORIES:Community
END:VEVENT
BEGIN:VEVENT
DTSTART;TZID=America/Los_Angeles:20241007T112000
DTEND;TZID=America/Los_Angeles:20241007T130000
DTSTAMP:20260424T020157
CREATED:20240822T180514Z
LAST-MODIFIED:20240822T180514Z
UID:7092-1728300000-1728306000@colusaumc.org
SUMMARY:Hand Up Lunch 10-7-24
DESCRIPTION:Mondays in October\, 11:20am\nmeets at Presbyterian Church\nsee Carolyn G. or Elizabeth Y. to help
URL:https://colusaumc.org/event/hand-up-lunch-10-7-24/
LOCATION:Presbyterian Church\, 261 Fourth Street\, Colusa\, CA\, 95932\, United States
CATEGORIES:Community
END:VEVENT
BEGIN:VEVENT
DTSTART;TZID=America/Los_Angeles:20240624T112000
DTEND;TZID=America/Los_Angeles:20240624T130000
DTSTAMP:20260424T020157
CREATED:20240529T234456Z
LAST-MODIFIED:20240529T234901Z
UID:6800-1719228000-1719234000@colusaumc.org
SUMMARY:Hand Up Lunch 6-24-24
DESCRIPTION:Mondays in June\, 11:20am\nmeets at Presbyterian Church\nsee Carolyn G. or Elizabeth Y. to help
URL:https://colusaumc.org/event/hand-up-lunch-6-24-24/
LOCATION:Presbyterian Church\, 261 Fourth Street\, Colusa\, CA\, 95932\, United States
CATEGORIES:Community
END:VEVENT
BEGIN:VEVENT
DTSTART;TZID=America/Los_Angeles:20240617T112000
DTEND;TZID=America/Los_Angeles:20240617T130000
DTSTAMP:20260424T020157
CREATED:20240529T234416Z
LAST-MODIFIED:20240529T234853Z
UID:6798-1718623200-1718629200@colusaumc.org
SUMMARY:Hand Up Lunch 6-17-24
DESCRIPTION:Mondays in June\, 11:20am\nmeets at Presbyterian Church\nsee Carolyn G. or Elizabeth Y. to help
URL:https://colusaumc.org/event/hand-up-lunch-6-17-24/
LOCATION:Presbyterian Church\, 261 Fourth Street\, Colusa\, CA\, 95932\, United States
CATEGORIES:Community
END:VEVENT
BEGIN:VEVENT
DTSTART;TZID=America/Los_Angeles:20240610T112000
DTEND;TZID=America/Los_Angeles:20240610T130000
DTSTAMP:20260424T020157
CREATED:20240529T234340Z
LAST-MODIFIED:20240529T234835Z
UID:6796-1718018400-1718024400@colusaumc.org
SUMMARY:Hand Up Lunch 6-10-24
DESCRIPTION:Mondays in June\, 11:20am\nmeets at Presbyterian Church\nsee Carolyn G. or Elizabeth Y. to help
URL:https://colusaumc.org/event/hand-up-lunch-6-10-24/
LOCATION:Presbyterian Church\, 261 Fourth Street\, Colusa\, CA\, 95932\, United States
CATEGORIES:Community
END:VEVENT
BEGIN:VEVENT
DTSTART;TZID=America/Los_Angeles:20240603T112000
DTEND;TZID=America/Los_Angeles:20240603T130000
DTSTAMP:20260424T020157
CREATED:20240521T233540Z
LAST-MODIFIED:20240529T233654Z
UID:6789-1717413600-1717419600@colusaumc.org
SUMMARY:Hand Up Lunch 6-3-24
DESCRIPTION:Mondays in June\, 11:20am\nmeets at Presbyterian Church\nsee Carolyn G. or Elizabeth Y. to help
URL:https://colusaumc.org/event/hand-up-lunch-6-3-24/
LOCATION:Presbyterian Church\, 261 Fourth Street\, Colusa\, CA\, 95932\, United States
CATEGORIES:Community
END:VEVENT
BEGIN:VEVENT
DTSTART;TZID=America/Los_Angeles:20240226T112000
DTEND;TZID=America/Los_Angeles:20240226T130000
DTSTAMP:20260424T020157
CREATED:20240112T130656Z
LAST-MODIFIED:20240313T010724Z
UID:6505-1708946400-1708952400@colusaumc.org
SUMMARY:Hand Up Lunch 2-26-24
DESCRIPTION:Mondays in February\, 11:20am\nmeets at Presbyterian Church\nsee Carolyn G. or Elizabeth Y. to help
URL:https://colusaumc.org/event/hand-up-lunch-2-26-24/
LOCATION:Presbyterian Church\, 261 Fourth Street\, Colusa\, CA\, 95932\, United States
CATEGORIES:Community
END:VEVENT
BEGIN:VEVENT
DTSTART;TZID=America/Los_Angeles:20240219T112000
DTEND;TZID=America/Los_Angeles:20240219T130000
DTSTAMP:20260424T020157
CREATED:20240112T130500Z
LAST-MODIFIED:20240313T010638Z
UID:6500-1708341600-1708347600@colusaumc.org
SUMMARY:Hand Up Lunch 2-19-24
DESCRIPTION:Mondays in February\, 11:20am\nmeets at Presbyterian Church\nsee Carolyn G. or Elizabeth Y. to help
URL:https://colusaumc.org/event/hand-up-lunch-2-19-24/
LOCATION:Presbyterian Church\, 261 Fourth Street\, Colusa\, CA\, 95932\, United States
CATEGORIES:Community
END:VEVENT
BEGIN:VEVENT
DTSTART;TZID=America/Los_Angeles:20240212T112000
DTEND;TZID=America/Los_Angeles:20240212T130000
DTSTAMP:20260424T020157
CREATED:20240112T130417Z
LAST-MODIFIED:20240313T010614Z
UID:6498-1707736800-1707742800@colusaumc.org
SUMMARY:Hand Up Lunch 2-12-24
DESCRIPTION:Mondays in February\, 11:20am\nmeets at Presbyterian Church\nsee Carolyn G. or Elizabeth Y. to help
URL:https://colusaumc.org/event/hand-up-lunch-2-12-24/
LOCATION:Presbyterian Church\, 261 Fourth Street\, Colusa\, CA\, 95932\, United States
CATEGORIES:Community
END:VEVENT
BEGIN:VEVENT
DTSTART;TZID=America/Los_Angeles:20240205T112000
DTEND;TZID=America/Los_Angeles:20240205T130000
DTSTAMP:20260424T020157
CREATED:20240112T130257Z
LAST-MODIFIED:20240313T010559Z
UID:6496-1707132000-1707138000@colusaumc.org
SUMMARY:Hand Up Lunch 2-5-24
DESCRIPTION:Mondays in February\, 11:20am\nmeets at Presbyterian Church\nsee Carolyn G. or Elizabeth Y. to help
URL:https://colusaumc.org/event/hand-up-lunch-2-5-24/
LOCATION:Presbyterian Church\, 261 Fourth Street\, Colusa\, CA\, 95932\, United States
CATEGORIES:Community
END:VEVENT
BEGIN:VEVENT
DTSTART;TZID=America/Los_Angeles:20231225T120000
DTEND;TZID=America/Los_Angeles:20231225T130000
DTSTAMP:20260424T020157
CREATED:20231216T175655Z
LAST-MODIFIED:20231216T175655Z
UID:6241-1703505600-1703509200@colusaumc.org
SUMMARY:Yuletide Dinner 2023
DESCRIPTION:Yuletide Dinner Service\n12 pm – 1 pm\nall are welcome \nJoin us Christmas Day for a mid-day\, community meal celebrating the birth of Jesus. We will serve dinner in Friendship Hall on the Oak Street side of the church and deliver meals to the housebound upon request. \nVolunteers are needed to make holiday foods\, set up\, serve\, package for delivery\, drive meals around town\, and clean up. All help is welcome. All are welcome to drop in and eat. \n  \n    \n  \n 
URL:https://colusaumc.org/event/yuletide-dinner-2023/
LOCATION:Trinity\, 511 Oak Street\, Colusa\, CA\, 95932\, United States
CATEGORIES:Community
ATTACH;FMTTYPE=image/jpeg:https://colusaumc.org/wp-content/uploads/site/58ed82726c32f.image_.jpg
END:VEVENT
BEGIN:VEVENT
DTSTART;TZID=America/Los_Angeles:20231210T190000
DTEND;TZID=America/Los_Angeles:20231210T203000
DTSTAMP:20260424T020157
CREATED:20231205T233042Z
LAST-MODIFIED:20231209T182251Z
UID:5872-1702234800-1702240200@colusaumc.org
SUMMARY:Christmas Choir Performance 12-10-23
DESCRIPTION:Christmas Choir\nChristmas choir will again perform at several Colusa County locations\, including Trinity\, on December 7th\, 8th\, and 10th! \nThursday\, December 7th\, 7 pm in Arbuckle; \nFriday\, December 8th\, 7 pm in Grimes; \nSunday\, December 10th\, 7 pm in Colusa at Trinity.
URL:https://colusaumc.org/event/christmas-choir-12-10-23/
LOCATION:CA
CATEGORIES:Community,Performance,Special Sacred
ATTACH;FMTTYPE=image/png:https://colusaumc.org/wp-content/uploads/bulletin_images/2212_ChristmasChoir_Crop-1-e1694813990300.png
END:VEVENT
BEGIN:VEVENT
DTSTART;TZID=America/Los_Angeles:20231208T190000
DTEND;TZID=America/Los_Angeles:20231208T203000
DTSTAMP:20260424T020157
CREATED:20230909T000046Z
LAST-MODIFIED:20231209T182123Z
UID:5869-1702062000-1702067400@colusaumc.org
SUMMARY:Christmas Choir Performance 12-8-23
DESCRIPTION:Christmas Choir\nChristmas choir will again perform at several Colusa County locations\, including Trinity\, on December 7th\, 8th\, and 10th! \nThursday\, December 7th\, 7 pm in Arbuckle; \nFriday\, December 8th\, 7 pm in Grimes; \nSunday\, December 10th\, 7 pm in Colusa at Trinity.
URL:https://colusaumc.org/event/christmas-choir-12-8-23/
LOCATION:CA
CATEGORIES:Community,Performance,Special Sacred
ATTACH;FMTTYPE=image/png:https://colusaumc.org/wp-content/uploads/bulletin_images/2212_ChristmasChoir_Crop-1-e1694813990300.png
END:VEVENT
BEGIN:VEVENT
DTSTART;TZID=America/Los_Angeles:20231207T190000
DTEND;TZID=America/Los_Angeles:20231207T203000
DTSTAMP:20260424T020157
CREATED:20230908T000047Z
LAST-MODIFIED:20231209T181618Z
UID:5867-1701975600-1701981000@colusaumc.org
SUMMARY:Christmas Choir Performance 12-7-23
DESCRIPTION:Christmas Choir\nChristmas choir will again perform at several Colusa County locations\, including Trinity\, on December 7th\, 8th\, and 10th! \nThursday\, December 7th\, 7 pm in Arbuckle; \nFriday\, December 8th\, 7 pm in Grimes; \nSunday\, December 10th\, 7 pm in Colusa at Trinity.
URL:https://colusaumc.org/event/christmas-choir-12-7-23/
LOCATION:CA
CATEGORIES:Community,Performance,Special Sacred
ATTACH;FMTTYPE=image/png:https://colusaumc.org/wp-content/uploads/bulletin_images/2212_ChristmasChoir_Crop-1-e1694813990300.png
END:VEVENT
BEGIN:VEVENT
DTSTART;TZID=America/Los_Angeles:20231029T112000
DTEND;TZID=America/Los_Angeles:20231029T130000
DTSTAMP:20260424T020157
CREATED:20230916T182033Z
LAST-MODIFIED:20230916T182033Z
UID:5950-1698578400-1698584400@colusaumc.org
SUMMARY:Hand Up Lunch 10-29-23
DESCRIPTION:Mondays in October\, 11:20am\nmeets at Presbyterian Church\nsee Carolyn G. or Elizabeth Y. to help
URL:https://colusaumc.org/event/hand-up-lunch-10-29-23/
LOCATION:Presbyterian Church\, 261 Fourth Street\, Colusa\, CA\, 95932\, United States
CATEGORIES:Community
END:VEVENT
BEGIN:VEVENT
DTSTART;TZID=America/Los_Angeles:20231022T112000
DTEND;TZID=America/Los_Angeles:20231022T130000
DTSTAMP:20260424T020157
CREATED:20230916T182013Z
LAST-MODIFIED:20230916T182013Z
UID:5949-1697973600-1697979600@colusaumc.org
SUMMARY:Hand Up Lunch 10-22-23
DESCRIPTION:Mondays in October\, 11:20am\nmeets at Presbyterian Church\nsee Carolyn G. or Elizabeth Y. to help
URL:https://colusaumc.org/event/hand-up-lunch-10-22-23/
LOCATION:Presbyterian Church\, 261 Fourth Street\, Colusa\, CA\, 95932\, United States
CATEGORIES:Community
END:VEVENT
BEGIN:VEVENT
DTSTART;TZID=America/Los_Angeles:20231015T112000
DTEND;TZID=America/Los_Angeles:20231015T130000
DTSTAMP:20260424T020157
CREATED:20230916T181958Z
LAST-MODIFIED:20230916T181958Z
UID:5948-1697368800-1697374800@colusaumc.org
SUMMARY:Hand Up Lunch 10-15-23
DESCRIPTION:Mondays in October\, 11:20am\nmeets at Presbyterian Church\nsee Carolyn G. or Elizabeth Y. to help
URL:https://colusaumc.org/event/hand-up-lunch-10-15-23/
LOCATION:Presbyterian Church\, 261 Fourth Street\, Colusa\, CA\, 95932\, United States
CATEGORIES:Community
END:VEVENT
BEGIN:VEVENT
DTSTART;TZID=America/Los_Angeles:20231008T112000
DTEND;TZID=America/Los_Angeles:20231008T130000
DTSTAMP:20260424T020157
CREATED:20230916T181929Z
LAST-MODIFIED:20230916T181935Z
UID:5947-1696764000-1696770000@colusaumc.org
SUMMARY:Hand Up Lunch 10-8-23
DESCRIPTION:Mondays in October\, 11:20am\nmeets at Presbyterian Church\nsee Carolyn G. or Elizabeth Y. to help
URL:https://colusaumc.org/event/hand-up-lunch-10-8-23/
LOCATION:Presbyterian Church\, 261 Fourth Street\, Colusa\, CA\, 95932\, United States
CATEGORIES:Community
END:VEVENT
BEGIN:VEVENT
DTSTART;TZID=America/Los_Angeles:20231001T112000
DTEND;TZID=America/Los_Angeles:20231001T130000
DTSTAMP:20260424T020157
CREATED:20230916T174006Z
LAST-MODIFIED:20230916T181836Z
UID:5943-1696159200-1696165200@colusaumc.org
SUMMARY:Hand Up Lunch 10-1-23
DESCRIPTION:Mondays in October\, 11:20am\nmeets at Presbyterian Church\nsee Carolyn G. or Elizabeth Y. to help
URL:https://colusaumc.org/event/hand-up-lunch-10-1-23/
LOCATION:Presbyterian Church\, 261 Fourth Street\, Colusa\, CA\, 95932\, United States
CATEGORIES:Community
END:VEVENT
END:VCALENDAR