BEGIN:VCALENDAR
VERSION:2.0
PRODID:-//Trinity UMC, Colusa - ECPv6.15.20//NONSGML v1.0//EN
CALSCALE:GREGORIAN
METHOD:PUBLISH
X-WR-CALNAME:Trinity UMC, Colusa
X-ORIGINAL-URL:https://colusaumc.org
X-WR-CALDESC:Events for Trinity UMC, Colusa
REFRESH-INTERVAL;VALUE=DURATION:PT1H
X-Robots-Tag:noindex
X-PUBLISHED-TTL:PT1H
BEGIN:VTIMEZONE
TZID:America/Los_Angeles
BEGIN:DAYLIGHT
TZOFFSETFROM:-0800
TZOFFSETTO:-0700
TZNAME:PDT
DTSTART:20220313T100000
END:DAYLIGHT
BEGIN:STANDARD
TZOFFSETFROM:-0700
TZOFFSETTO:-0800
TZNAME:PST
DTSTART:20221106T090000
END:STANDARD
BEGIN:DAYLIGHT
TZOFFSETFROM:-0800
TZOFFSETTO:-0700
TZNAME:PDT
DTSTART:20230312T100000
END:DAYLIGHT
BEGIN:STANDARD
TZOFFSETFROM:-0700
TZOFFSETTO:-0800
TZNAME:PST
DTSTART:20231105T090000
END:STANDARD
BEGIN:DAYLIGHT
TZOFFSETFROM:-0800
TZOFFSETTO:-0700
TZNAME:PDT
DTSTART:20240310T100000
END:DAYLIGHT
BEGIN:STANDARD
TZOFFSETFROM:-0700
TZOFFSETTO:-0800
TZNAME:PST
DTSTART:20241103T090000
END:STANDARD
BEGIN:DAYLIGHT
TZOFFSETFROM:-0800
TZOFFSETTO:-0700
TZNAME:PDT
DTSTART:20250309T100000
END:DAYLIGHT
BEGIN:STANDARD
TZOFFSETFROM:-0700
TZOFFSETTO:-0800
TZNAME:PST
DTSTART:20251102T090000
END:STANDARD
BEGIN:DAYLIGHT
TZOFFSETFROM:-0800
TZOFFSETTO:-0700
TZNAME:PDT
DTSTART:20260308T100000
END:DAYLIGHT
BEGIN:STANDARD
TZOFFSETFROM:-0700
TZOFFSETTO:-0800
TZNAME:PST
DTSTART:20261101T090000
END:STANDARD
END:VTIMEZONE
BEGIN:VEVENT
DTSTART;TZID=America/Los_Angeles:20250125T100000
DTEND;TZID=America/Los_Angeles:20250125T110000
DTSTAMP:20260423T162755
CREATED:20250110T174647Z
LAST-MODIFIED:20250117T184541Z
UID:7486-1737799200-1737802800@colusaumc.org
SUMMARY:Linda Cape Memorial
DESCRIPTION:Celebrating the Love\, Life\, and Light of \nLinda Cape \n \nPlease join us at 10:00 a.m. on Saturday\, January 25\, 2025\, to remember member and longtime Colusa resident Linda Cape. A reception will follow in Friendship Hall.
URL:https://colusaumc.org/event/linda-cape-memorial/
LOCATION:Trinity\, 511 Oak Street\, Colusa\, CA\, 95932\, United States
CATEGORIES:Memorial
ATTACH;FMTTYPE=image/png:https://colusaumc.org/wp-content/uploads/bulletin_images/LindaCape2-e1737139361780.png
END:VEVENT
BEGIN:VEVENT
DTSTART;TZID=America/Los_Angeles:20230930T100000
DTEND;TZID=America/Los_Angeles:20230930T100000
DTSTAMP:20260423T162755
CREATED:20230915T165829Z
LAST-MODIFIED:20230915T220505Z
UID:5783-1696068000-1696068000@colusaumc.org
SUMMARY:Celebration of Life Laura Moles
DESCRIPTION:Celebration of Life \n\n\n\n\nLaura Mae (McCullough) Moles \n\n\n\n\n \nPlease join us at 10:00 a.m. on Saturday\, September 30\, 2023\, to remember longtime Colusa resident Laura Mae (McCullough) Moles. She will be dearly missed. \n 
URL:https://colusaumc.org/event/celebration-of-life-laura-moles/
LOCATION:Trinity\, 511 Oak Street\, Colusa\, CA\, 95932\, United States
CATEGORIES:Memorial
ATTACH;FMTTYPE=image/jpeg:https://colusaumc.org/wp-content/uploads/bulletin_images/LauraMolesHighSchool_Vignette.jpeg
END:VEVENT
END:VCALENDAR