BEGIN:VCALENDAR
VERSION:2.0
PRODID:-//Trinity UMC, Colusa - ECPv6.15.20//NONSGML v1.0//EN
CALSCALE:GREGORIAN
METHOD:PUBLISH
X-WR-CALNAME:Trinity UMC, Colusa
X-ORIGINAL-URL:https://colusaumc.org
X-WR-CALDESC:Events for Trinity UMC, Colusa
REFRESH-INTERVAL;VALUE=DURATION:PT1H
X-Robots-Tag:noindex
X-PUBLISHED-TTL:PT1H
BEGIN:VTIMEZONE
TZID:America/Los_Angeles
BEGIN:DAYLIGHT
TZOFFSETFROM:-0800
TZOFFSETTO:-0700
TZNAME:PDT
DTSTART:20220313T100000
END:DAYLIGHT
BEGIN:STANDARD
TZOFFSETFROM:-0700
TZOFFSETTO:-0800
TZNAME:PST
DTSTART:20221106T090000
END:STANDARD
BEGIN:DAYLIGHT
TZOFFSETFROM:-0800
TZOFFSETTO:-0700
TZNAME:PDT
DTSTART:20230312T100000
END:DAYLIGHT
BEGIN:STANDARD
TZOFFSETFROM:-0700
TZOFFSETTO:-0800
TZNAME:PST
DTSTART:20231105T090000
END:STANDARD
BEGIN:DAYLIGHT
TZOFFSETFROM:-0800
TZOFFSETTO:-0700
TZNAME:PDT
DTSTART:20240310T100000
END:DAYLIGHT
BEGIN:STANDARD
TZOFFSETFROM:-0700
TZOFFSETTO:-0800
TZNAME:PST
DTSTART:20241103T090000
END:STANDARD
END:VTIMEZONE
BEGIN:VEVENT
DTSTART;TZID=America/Los_Angeles:20231025T180000
DTEND;TZID=America/Los_Angeles:20231025T193000
DTSTAMP:20260423T162234
CREATED:20230915T213342Z
LAST-MODIFIED:20231007T172553Z
UID:5843-1698256800-1698262200@colusaumc.org
SUMMARY:Christmas Choir Practice 10-25-23
DESCRIPTION:Christmas Choir\nChristmas choir will again perform at several Colusa County locations\, including Trinity\, on December 7th\, 8th\, and 10th. \nRehearsals are Wednesday nights starting October 11th. Please contact Elizabeth Y. for more information.
URL:https://colusaumc.org/event/christmas-choir-practice-10-25-23/
CATEGORIES:Practice
ATTACH;FMTTYPE=image/png:https://colusaumc.org/wp-content/uploads/bulletin_images/2212_ChristmasChoir_Crop-1-e1694813990300.png
END:VEVENT
BEGIN:VEVENT
DTSTART;TZID=America/Los_Angeles:20231018T180000
DTEND;TZID=America/Los_Angeles:20231018T193000
DTSTAMP:20260423T162234
CREATED:20230915T211451Z
LAST-MODIFIED:20231007T172528Z
UID:5836-1697652000-1697657400@colusaumc.org
SUMMARY:Christmas Choir Practice 10-18-23
DESCRIPTION:Christmas Choir\nChristmas choir will again perform at several Colusa County locations\, including Trinity\, on December 7th\, 8th\, and 10th. \nRehearsals are Wednesday nights starting October 11th. Please contact Elizabeth Y. for more information.
URL:https://colusaumc.org/event/christmas-choir-practice-10-18-23/
CATEGORIES:Practice
ATTACH;FMTTYPE=image/png:https://colusaumc.org/wp-content/uploads/bulletin_images/2212_ChristmasChoir_Crop-1-e1694813990300.png
END:VEVENT
BEGIN:VEVENT
DTSTART;TZID=America/Los_Angeles:20231011T180000
DTEND;TZID=America/Los_Angeles:20231011T193000
DTSTAMP:20260423T162234
CREATED:20230915T211532Z
LAST-MODIFIED:20231007T172150Z
UID:5838-1697047200-1697052600@colusaumc.org
SUMMARY:Christmas Choir Practice 10-11-23
DESCRIPTION:Christmas Choir\nChristmas choir will again perform at several Colusa County locations\, including Trinity\, on December 8th-10th. \nRehearsals are Wednesday nights starting October 11th. Please contact Elizabeth Y. for more information.
URL:https://colusaumc.org/event/christmas-choir-practice-10-11-23/
CATEGORIES:Practice
ATTACH;FMTTYPE=image/png:https://colusaumc.org/wp-content/uploads/bulletin_images/2212_ChristmasChoir_Crop-1-e1694813990300.png
END:VEVENT
END:VCALENDAR