BEGIN:VCALENDAR
VERSION:2.0
PRODID:-//Trinity UMC, Colusa - ECPv6.15.20//NONSGML v1.0//EN
CALSCALE:GREGORIAN
METHOD:PUBLISH
X-ORIGINAL-URL:https://colusaumc.org
X-WR-CALDESC:Events for Trinity UMC, Colusa
REFRESH-INTERVAL;VALUE=DURATION:PT1H
X-Robots-Tag:noindex
X-PUBLISHED-TTL:PT1H
BEGIN:VTIMEZONE
TZID:America/Los_Angeles
BEGIN:DAYLIGHT
TZOFFSETFROM:-0800
TZOFFSETTO:-0700
TZNAME:PDT
DTSTART:20240310T100000
END:DAYLIGHT
BEGIN:STANDARD
TZOFFSETFROM:-0700
TZOFFSETTO:-0800
TZNAME:PST
DTSTART:20241103T090000
END:STANDARD
BEGIN:DAYLIGHT
TZOFFSETFROM:-0800
TZOFFSETTO:-0700
TZNAME:PDT
DTSTART:20250309T100000
END:DAYLIGHT
BEGIN:STANDARD
TZOFFSETFROM:-0700
TZOFFSETTO:-0800
TZNAME:PST
DTSTART:20251102T090000
END:STANDARD
BEGIN:DAYLIGHT
TZOFFSETFROM:-0800
TZOFFSETTO:-0700
TZNAME:PDT
DTSTART:20260308T100000
END:DAYLIGHT
BEGIN:STANDARD
TZOFFSETFROM:-0700
TZOFFSETTO:-0800
TZNAME:PST
DTSTART:20261101T090000
END:STANDARD
END:VTIMEZONE
BEGIN:VEVENT
DTSTART;TZID=America/Los_Angeles:20250414T173000
DTEND;TZID=America/Los_Angeles:20250414T180000
DTSTAMP:20260424T085852
CREATED:20250305T205728Z
LAST-MODIFIED:20250226T200040Z
UID:7563-1744651800-1744653600@colusaumc.org
SUMMARY:Mid Month Mondays - 4-14-25
DESCRIPTION:Mid-Month Mondays \n5:30pm to 6:00pm (sanctuary opens at 5:15pm) \nThere is something about being able to practice deep contemplation in the company of others. Mid-Month Mondays provide this space. All traditions are welcome. You need not believe or practice anything at all to join. \nThe Trinity sanctuary opens at 5:15pm for a time of quiet prayer practice from 5:30pm to 6:00pm. For those not used to silent prayer\, candles and quiet background music provide an entry point into contemplation. \nChildcare will be provided at the January 20th meeting. \n 
URL:https://colusaumc.org/event/mid-month-mondays-4-14-25/
LOCATION:Trinity\, 511 Oak Street\, Colusa\, CA\, 95932\, United States
CATEGORIES:Community,Special Sacred
ATTACH;FMTTYPE=image/jpeg:https://colusaumc.org/wp-content/uploads/bulletin_images/MidMonth-e1765385180731.jpg
END:VEVENT
BEGIN:VEVENT
DTSTART;TZID=America/Los_Angeles:20250418T110000
DTEND;TZID=America/Los_Angeles:20250418T130000
DTSTAMP:20260424T085852
CREATED:20250407T211032Z
LAST-MODIFIED:20250407T211032Z
UID:7737-1744974000-1744981200@colusaumc.org
SUMMARY:Good Friday Prayer Space 4-18-25
DESCRIPTION:Good Friday \n\n\n\n\n11:00 am – 1:00 pm \n“Way of the Cross\,” \nThis year’s Good Friday self-guided prayer space will be open from 11 am to 1 pm. You are invited to enter into some moments of quiet contemplation in the sanctuary\, meditating on the way of the cross\, and lighting candles. \n\n		\n		\n			\n				\n			\n				\n				Walking the Path\n				\n			\n				\n			\n				\n				Communion\n				\n			\n				\n			\n				\n				Coming to the Cross\n				\n			\n				\n			\n				\n				Illumination on the Way\n				\n			\n				\n			\n				\n				Way of the Cross Detail\n				\n			\n				\n			\n				\n				Scripture Meditation\n				\n		\n\nWay of the Cross\nHistory\n“The Way of the Cross” contemplation originated with pilgrims and crusaders to Jerusalem following the steps of Jesus to Golgatha. For centuries\, Christians have remembered Jesus’ final days in pictures placed along a path or as a printed sheet. \nImages\nIllustrations by John Murphy \nStations\n\nJesus prays in the Garden of Gethsemane\nJesus is betrayed by Judas and arrested\nJesus is condemned by the Sanhedrin\nJesus is thrice denied by Peter\nJesus is judged by Pilate\nJesus is scourged and crowned with thorns\nJesus takes up his cross\nJesus is helped by Simon of Cyrene to carry his cross\nJesus meets the women of Jerusalem\nJesus is crucified\nJesus promises his kingdom to the dying criminal\nJesus entrusts Mary and the beloved disciple to each other\nJesus dies on the cross\nJesus is laid in the tomb\n\nMeditation\nScripture\nJohn 18:1 – 19:42  \n\n\n\n\nQuestions\n\nWhat passage in this scripture most resonates or offends you? Why?\nHow did you walk through an awful situation? Did this experience change your understanding of\, or connection with\, God?\nWhen have your shown courageous love by going the distance for someone?\nWhat does the cross mean to you\, personally?\n\nPrayer\nJesus\, help us be awake with you in Gethsemane.\nHelp us stay awake and unafraid\nas we walk a path through suffering. \nHelp us resist the impulse to pin you down\,\nto fit you inside a story and inside a book that can be shut.\nHelp us resist the impulse to pin ourselves down\,\nto fit ourselves inside a story too small for our souls.\nThe truth is too big for a book– it’s loose in the world. \nChrist\, help us be awake with you in the world.\nHelp us stay awake and unafraid\nas we walk a path through suffering.\nAmen. \n\n\n\n\nLearn More\n\nWay of the Cross\n\nWikipedia\nMethodist Experiences\nUMC Youth Resources
URL:https://colusaumc.org/event/good-friday-4-18-25/
LOCATION:Trinity\, 511 Oak Street\, Colusa\, CA\, 95932\, United States
CATEGORIES:Special Sacred
ATTACH;FMTTYPE=image/jpeg:https://colusaumc.org/wp-content/uploads/bulletin_images/GoodFriday_02-1-scaled.jpg
END:VEVENT
END:VCALENDAR