BEGIN:VCALENDAR
VERSION:2.0
PRODID:-//Trinity UMC, Colusa - ECPv6.15.20//NONSGML v1.0//EN
CALSCALE:GREGORIAN
METHOD:PUBLISH
X-ORIGINAL-URL:https://colusaumc.org
X-WR-CALDESC:Events for Trinity UMC, Colusa
REFRESH-INTERVAL;VALUE=DURATION:PT1H
X-Robots-Tag:noindex
X-PUBLISHED-TTL:PT1H
BEGIN:VTIMEZONE
TZID:America/Los_Angeles
BEGIN:DAYLIGHT
TZOFFSETFROM:-0800
TZOFFSETTO:-0700
TZNAME:PDT
DTSTART:20220313T100000
END:DAYLIGHT
BEGIN:STANDARD
TZOFFSETFROM:-0700
TZOFFSETTO:-0800
TZNAME:PST
DTSTART:20221106T090000
END:STANDARD
BEGIN:DAYLIGHT
TZOFFSETFROM:-0800
TZOFFSETTO:-0700
TZNAME:PDT
DTSTART:20230312T100000
END:DAYLIGHT
BEGIN:STANDARD
TZOFFSETFROM:-0700
TZOFFSETTO:-0800
TZNAME:PST
DTSTART:20231105T090000
END:STANDARD
BEGIN:DAYLIGHT
TZOFFSETFROM:-0800
TZOFFSETTO:-0700
TZNAME:PDT
DTSTART:20240310T100000
END:DAYLIGHT
BEGIN:STANDARD
TZOFFSETFROM:-0700
TZOFFSETTO:-0800
TZNAME:PST
DTSTART:20241103T090000
END:STANDARD
END:VTIMEZONE
BEGIN:VEVENT
DTSTART;TZID=America/Los_Angeles:20231210T190000
DTEND;TZID=America/Los_Angeles:20231210T203000
DTSTAMP:20260423T174327
CREATED:20231205T233042Z
LAST-MODIFIED:20231209T182251Z
UID:5872-1702234800-1702240200@colusaumc.org
SUMMARY:Christmas Choir Performance 12-10-23
DESCRIPTION:Christmas Choir\nChristmas choir will again perform at several Colusa County locations\, including Trinity\, on December 7th\, 8th\, and 10th! \nThursday\, December 7th\, 7 pm in Arbuckle; \nFriday\, December 8th\, 7 pm in Grimes; \nSunday\, December 10th\, 7 pm in Colusa at Trinity.
URL:https://colusaumc.org/event/christmas-choir-12-10-23/
LOCATION:CA
CATEGORIES:Community,Performance,Special Sacred
ATTACH;FMTTYPE=image/png:https://colusaumc.org/wp-content/uploads/bulletin_images/2212_ChristmasChoir_Crop-1-e1694813990300.png
END:VEVENT
BEGIN:VEVENT
DTSTART;TZID=America/Los_Angeles:20231208T190000
DTEND;TZID=America/Los_Angeles:20231208T203000
DTSTAMP:20260423T174327
CREATED:20230909T000046Z
LAST-MODIFIED:20231209T182123Z
UID:5869-1702062000-1702067400@colusaumc.org
SUMMARY:Christmas Choir Performance 12-8-23
DESCRIPTION:Christmas Choir\nChristmas choir will again perform at several Colusa County locations\, including Trinity\, on December 7th\, 8th\, and 10th! \nThursday\, December 7th\, 7 pm in Arbuckle; \nFriday\, December 8th\, 7 pm in Grimes; \nSunday\, December 10th\, 7 pm in Colusa at Trinity.
URL:https://colusaumc.org/event/christmas-choir-12-8-23/
LOCATION:CA
CATEGORIES:Community,Performance,Special Sacred
ATTACH;FMTTYPE=image/png:https://colusaumc.org/wp-content/uploads/bulletin_images/2212_ChristmasChoir_Crop-1-e1694813990300.png
END:VEVENT
BEGIN:VEVENT
DTSTART;TZID=America/Los_Angeles:20231207T190000
DTEND;TZID=America/Los_Angeles:20231207T203000
DTSTAMP:20260423T174327
CREATED:20230908T000047Z
LAST-MODIFIED:20231209T181618Z
UID:5867-1701975600-1701981000@colusaumc.org
SUMMARY:Christmas Choir Performance 12-7-23
DESCRIPTION:Christmas Choir\nChristmas choir will again perform at several Colusa County locations\, including Trinity\, on December 7th\, 8th\, and 10th! \nThursday\, December 7th\, 7 pm in Arbuckle; \nFriday\, December 8th\, 7 pm in Grimes; \nSunday\, December 10th\, 7 pm in Colusa at Trinity.
URL:https://colusaumc.org/event/christmas-choir-12-7-23/
LOCATION:CA
CATEGORIES:Community,Performance,Special Sacred
ATTACH;FMTTYPE=image/png:https://colusaumc.org/wp-content/uploads/bulletin_images/2212_ChristmasChoir_Crop-1-e1694813990300.png
END:VEVENT
BEGIN:VEVENT
DTSTART;TZID=America/Los_Angeles:20231028T090000
DTEND;TZID=America/Los_Angeles:20231028T120000
DTSTAMP:20260423T174327
CREATED:20230915T171816Z
LAST-MODIFIED:20231025T221325Z
UID:5832-1698483600-1698494400@colusaumc.org
SUMMARY:All Saints Labyrinth
DESCRIPTION:Labyrinth\n9am-12pm \nJoin us close to All Saints Day with a prayerful labyrinth walk in Friendship Hall. We will have the candle lit walk open from 9am to 12pm. Drop in! All are welcome. Light refreshments will be served. \n  \n \n  \nAbout Labyrinths Labyrinths are one-way\, maze-like paths used for walking prayer and contemplation. This year you are invited to walk the path thinking about loved ones who have passed. \n  \nThe labyrinth walking path has been with humanity for thousands of years. Christianity adopted and tweaked the ancient labyrinth form to speak specifically to the journey toward the heart of Christ. The path traced by a labyrinth is a symbol of spiritual movement. It is a way to think of living a disciplined spiritual life. \n  \nThe switchbacks and redirections are predictable. One minute you are walking directly toward the heart of Christ\, then you find yourself on the outer ring. You walk your way back to the center. Eventually\, though\, the path leads to God at the center of things. \n  \nThe paths first became associated with Christianity and Christian architecture under Constantine but reached their height of use in the middle ages. Many medieval cathedrals built labyrinths into their floors by using different colors of stone or tile. It was popular\, at that time\, to go on either pilgrimage or crusade to Jerusalem as an act of devotion. The labyrinth was a counterpoint to that trend. You don’t need to travel thousands of miles to experience God. God isn’t sitting at a holy site thousands of miles away\, God is right here calling out to you. Pilgrimage towards God is an attitude. \n  \nLabyrinths have been experiencing a resurgence within the last 20 years. Churches are building them as places of walking prayer on church grounds. The UMC church in Paradise church may be the closest permanent labyrinth to us found at a United Methodist Church\, but labyrinths transcend denomination. Temporary labyrinths\, like ours\, are common.
URL:https://colusaumc.org/event/all-saints-labyrinth/
LOCATION:Trinity\, 511 Oak Street\, Colusa\, CA\, 95932\, United States
CATEGORIES:Special Sacred
ATTACH;FMTTYPE=image/jpeg:https://colusaumc.org/wp-content/uploads/site/Labyrinth3-scaled.jpeg
END:VEVENT
END:VCALENDAR