BEGIN:VCALENDAR
VERSION:2.0
PRODID:-//Trinity UMC, Colusa - ECPv6.15.20//NONSGML v1.0//EN
CALSCALE:GREGORIAN
METHOD:PUBLISH
X-WR-CALNAME:Trinity UMC, Colusa
X-ORIGINAL-URL:https://colusaumc.org
X-WR-CALDESC:Events for Trinity UMC, Colusa
REFRESH-INTERVAL;VALUE=DURATION:PT1H
X-Robots-Tag:noindex
X-PUBLISHED-TTL:PT1H
BEGIN:VTIMEZONE
TZID:America/Los_Angeles
BEGIN:DAYLIGHT
TZOFFSETFROM:-0800
TZOFFSETTO:-0700
TZNAME:PDT
DTSTART:20250309T100000
END:DAYLIGHT
BEGIN:STANDARD
TZOFFSETFROM:-0700
TZOFFSETTO:-0800
TZNAME:PST
DTSTART:20251102T090000
END:STANDARD
BEGIN:DAYLIGHT
TZOFFSETFROM:-0800
TZOFFSETTO:-0700
TZNAME:PDT
DTSTART:20260308T100000
END:DAYLIGHT
BEGIN:STANDARD
TZOFFSETFROM:-0700
TZOFFSETTO:-0800
TZNAME:PST
DTSTART:20261101T090000
END:STANDARD
BEGIN:DAYLIGHT
TZOFFSETFROM:-0800
TZOFFSETTO:-0700
TZNAME:PDT
DTSTART:20270314T100000
END:DAYLIGHT
BEGIN:STANDARD
TZOFFSETFROM:-0700
TZOFFSETTO:-0800
TZNAME:PST
DTSTART:20271107T090000
END:STANDARD
END:VTIMEZONE
BEGIN:VEVENT
DTSTART;TZID=America/Los_Angeles:20260414T163000
DTEND;TZID=America/Los_Angeles:20260414T173000
DTSTAMP:20260423T150847
CREATED:20251208T220333Z
LAST-MODIFIED:20251208T221212Z
UID:9022-1776184200-1776187800@colusaumc.org
SUMMARY:Staff Parish Relations Committee 4-14-26
DESCRIPTION:closed meeting\, please contact Elizabeth Y. to learn about this committee \nTuesday\, April 14\, 2026 4:30 pm\nmeet in the parlor
URL:https://colusaumc.org/event/sprc-4-14-26/
LOCATION:Trinity\, 511 Oak Street\, Colusa\, CA\, 95932\, United States
CATEGORIES:Administrative
END:VEVENT
BEGIN:VEVENT
DTSTART;TZID=America/Los_Angeles:20260419T111500
DTEND;TZID=America/Los_Angeles:20260419T121500
DTSTAMP:20260423T150847
CREATED:20251120T204953Z
LAST-MODIFIED:20251120T205309Z
UID:8868-1776597300-1776600900@colusaumc.org
SUMMARY:Executive Committee and Trustees 4-19-26  !SPECIAL TIME!
DESCRIPTION:all members are encouraged to attend this business meeting \nSpecial off-week meeting so as to not be on Easter Sunday this year! \nThe Executive Committee is a regular\, combined coordination meeting that includes Trustees\, Ad Council\, Finance\, and Memorials committees. \nNormally\, Communion Sunday\, Even Months\n11:15 am\nmeets in Parlor after worship
URL:https://colusaumc.org/event/excom-4-19-26/
LOCATION:Trinity\, 511 Oak Street\, Colusa\, CA\, 95932\, United States
CATEGORIES:Administrative
END:VEVENT
BEGIN:VEVENT
DTSTART;TZID=America/Los_Angeles:20260420T173000
DTEND;TZID=America/Los_Angeles:20260420T180000
DTSTAMP:20260423T150847
CREATED:20251210T165217Z
LAST-MODIFIED:20251210T165217Z
UID:9069-1776706200-1776708000@colusaumc.org
SUMMARY:Mid Month Mondays - 4-20-26
DESCRIPTION:Mid-Month Mondays \n5:30pm to 6:00pm (sanctuary opens at 5:15pm) \nThere is something about being able to practice deep contemplation in the company of others. Mid-Month Mondays provide this space. All traditions are welcome. You need not believe or practice anything at all to join. \nThe Trinity sanctuary opens at 5:15pm for a time of quiet prayer practice from 5:30pm to 6:00pm. For those not used to silent prayer\, candles and quiet background music provide an entry point into contemplation. \nChildcare will be provided at the January 20th meeting. \n 
URL:https://colusaumc.org/event/mid-month-mondays-4-20-26/
LOCATION:Trinity\, 511 Oak Street\, Colusa\, CA\, 95932\, United States
CATEGORIES:Community,Special Sacred
ATTACH;FMTTYPE=image/jpeg:https://colusaumc.org/wp-content/uploads/bulletin_images/MidMonth_NoDates-e1765385267591.jpg
END:VEVENT
BEGIN:VEVENT
DTSTART;TZID=America/Los_Angeles:20260422T173000
DTEND;TZID=America/Los_Angeles:20260422T190000
DTSTAMP:20260423T150847
CREATED:20260307T165138Z
LAST-MODIFIED:20260307T165233Z
UID:9695-1776879000-1776884400@colusaumc.org
SUMMARY:Growing in Faith 1 - 4-22-26
DESCRIPTION:Join us for six weeks of reflection and invitation. Growing in Faith is a short series inviting you to learn more about your own faith and our Methodist tradition.\nInfo & Registration Here
URL:https://colusaumc.org/event/growing-in-faith-1-4-22-26/
LOCATION:Trinity\, 511 Oak Street\, Colusa\, CA\, 95932\, United States
CATEGORIES:Class
ATTACH;FMTTYPE=image/png:https://colusaumc.org/wp-content/uploads/resources/TrinityArtisticWithGIFLogo_366x1600-e1725132621289.png
END:VEVENT
BEGIN:VEVENT
DTSTART;TZID=America/Los_Angeles:20260424T110000
DTEND;TZID=America/Los_Angeles:20260424T130000
DTSTAMP:20260423T150847
CREATED:20260224T002825Z
LAST-MODIFIED:20260224T002825Z
UID:9661-1777028400-1777035600@colusaumc.org
SUMMARY:Senior Spread Lunch 4-24-26
DESCRIPTION:Join us for the next Senior Spread\, a social lunch for Colusa senior citizens! \n2nd and 4th Fridays \nDoors open 11:00am \nLunch from 12:00pm to 1:00pm
URL:https://colusaumc.org/event/senior-spread-4-24-26/
LOCATION:Trinity\, 511 Oak Street\, Colusa\, CA\, 95932\, United States
CATEGORIES:Community
ATTACH;FMTTYPE=image/png:https://colusaumc.org/wp-content/uploads/program_logos/SeniorSpread_Logo_Sq_Color-e1765384940403.png
END:VEVENT
BEGIN:VEVENT
DTSTART;TZID=America/Los_Angeles:20260426T120000
DTEND;TZID=America/Los_Angeles:20260426T133000
DTSTAMP:20260423T150847
CREATED:20251211T011703Z
LAST-MODIFIED:20251211T011703Z
UID:9141-1777204800-1777210200@colusaumc.org
SUMMARY:Growing in Faith 2 - 4-26-26
DESCRIPTION:Join us for six weeks of reflection and invitation. Growing in Faith is a short series inviting you to learn more about your own faith and our Methodist tradition.\nInfo & Registration Here
URL:https://colusaumc.org/event/growing-in-faith-2-4-26-26/
LOCATION:Trinity\, 511 Oak Street\, Colusa\, CA\, 95932\, United States
CATEGORIES:Class
ATTACH;FMTTYPE=image/png:https://colusaumc.org/wp-content/uploads/resources/TrinityArtisticWithGIFLogo_366x1600-e1725132621289.png
END:VEVENT
BEGIN:VEVENT
DTSTART;TZID=America/Los_Angeles:20260429T173000
DTEND;TZID=America/Los_Angeles:20260429T190000
DTSTAMP:20260423T150847
CREATED:20260307T165220Z
LAST-MODIFIED:20260307T165220Z
UID:9696-1777483800-1777489200@colusaumc.org
SUMMARY:Growing in Faith 2 - 4-29-26
DESCRIPTION:Join us for six weeks of reflection and invitation. Growing in Faith is a short series inviting you to learn more about your own faith and our Methodist tradition.\nInfo & Registration Here
URL:https://colusaumc.org/event/growing-in-faith-2-4-29-26/
LOCATION:Trinity\, 511 Oak Street\, Colusa\, CA\, 95932\, United States
CATEGORIES:Class
ATTACH;FMTTYPE=image/png:https://colusaumc.org/wp-content/uploads/resources/TrinityArtisticWithGIFLogo_366x1600-e1725132621289.png
END:VEVENT
BEGIN:VEVENT
DTSTART;TZID=America/Los_Angeles:20260503T120000
DTEND;TZID=America/Los_Angeles:20260503T133000
DTSTAMP:20260423T150847
CREATED:20251211T011727Z
LAST-MODIFIED:20251211T011727Z
UID:9140-1777809600-1777815000@colusaumc.org
SUMMARY:Growing in Faith 3 - 5-3-26
DESCRIPTION:Join us for six weeks of reflection and invitation. Growing in Faith is a short series inviting you to learn more about your own faith and our Methodist tradition.\nInfo & Registration Here
URL:https://colusaumc.org/event/growing-in-faith-3-5-3-26/
LOCATION:Trinity\, 511 Oak Street\, Colusa\, CA\, 95932\, United States
CATEGORIES:Class
ATTACH;FMTTYPE=image/png:https://colusaumc.org/wp-content/uploads/resources/TrinityArtisticWithGIFLogo_366x1600-e1725132621289.png
END:VEVENT
BEGIN:VEVENT
DTSTART;TZID=America/Los_Angeles:20260503T140000
DTEND;TZID=America/Los_Angeles:20260503T150000
DTSTAMP:20260423T150847
CREATED:20260328T161748Z
LAST-MODIFIED:20260328T161748Z
UID:9880-1777816800-1777820400@colusaumc.org
SUMMARY:Sound Space Performance 5-3-26 2:00pm
DESCRIPTION:Sound Space Performance\n  \nMay 3rd\, 2026 2:00 pm \nMiddle schoolers in 4th\, 5th\, and 6th grade will showcase their percussive talents on bucket drum! \nThe performance is in the Trinity sanctuary with refreshments to follow in the parlor. \nThis event is for the entire community!
URL:https://colusaumc.org/event/sound-space-performance-5-2-26/
LOCATION:Trinity\, 511 Oak Street\, Colusa\, CA\, 95932\, United States
CATEGORIES:Performance,Sound Space
ATTACH;FMTTYPE=image/jpeg:https://colusaumc.org/wp-content/uploads/bulletin_images/BucketDrum-scaled.jpg
END:VEVENT
BEGIN:VEVENT
DTSTART;TZID=America/Los_Angeles:20260506T173000
DTEND;TZID=America/Los_Angeles:20260506T190000
DTSTAMP:20260423T150847
CREATED:20260307T165326Z
LAST-MODIFIED:20260307T165326Z
UID:9697-1778088600-1778094000@colusaumc.org
SUMMARY:Growing in Faith 3 - 5-6-26
DESCRIPTION:Join us for six weeks of reflection and invitation. Growing in Faith is a short series inviting you to learn more about your own faith and our Methodist tradition.\nInfo & Registration Here
URL:https://colusaumc.org/event/growing-in-faith-3-5-6-26/
LOCATION:Trinity\, 511 Oak Street\, Colusa\, CA\, 95932\, United States
CATEGORIES:Class
ATTACH;FMTTYPE=image/png:https://colusaumc.org/wp-content/uploads/resources/TrinityArtisticWithGIFLogo_366x1600-e1725132621289.png
END:VEVENT
BEGIN:VEVENT
DTSTART;TZID=America/Los_Angeles:20260508T110000
DTEND;TZID=America/Los_Angeles:20260508T130000
DTSTAMP:20260423T150847
CREATED:20260224T002851Z
LAST-MODIFIED:20260224T002851Z
UID:9662-1778238000-1778245200@colusaumc.org
SUMMARY:Senior Spread Lunch 5-8-26
DESCRIPTION:Join us for the next Senior Spread\, a social lunch for Colusa senior citizens! \n2nd and 4th Fridays \nDoors open 11:00am \nLunch from 12:00pm to 1:00pm
URL:https://colusaumc.org/event/senior-spread-5-8-26/
LOCATION:Trinity\, 511 Oak Street\, Colusa\, CA\, 95932\, United States
CATEGORIES:Community
ATTACH;FMTTYPE=image/png:https://colusaumc.org/wp-content/uploads/program_logos/SeniorSpread_Logo_Sq_Color-e1765384940403.png
END:VEVENT
BEGIN:VEVENT
DTSTART;TZID=America/Los_Angeles:20260510T120000
DTEND;TZID=America/Los_Angeles:20260510T133000
DTSTAMP:20260423T150847
CREATED:20251211T011752Z
LAST-MODIFIED:20251211T011752Z
UID:9139-1778414400-1778419800@colusaumc.org
SUMMARY:Growing in Faith 4 - 5-10-26
DESCRIPTION:Join us for six weeks of reflection and invitation. Growing in Faith is a short series inviting you to learn more about your own faith and our Methodist tradition.\nInfo & Registration Here
URL:https://colusaumc.org/event/growing-in-faith-4-5-10-26/
LOCATION:Trinity\, 511 Oak Street\, Colusa\, CA\, 95932\, United States
CATEGORIES:Class
ATTACH;FMTTYPE=image/png:https://colusaumc.org/wp-content/uploads/resources/TrinityArtisticWithGIFLogo_366x1600-e1725132621289.png
END:VEVENT
BEGIN:VEVENT
DTSTART;TZID=America/Los_Angeles:20260513T173000
DTEND;TZID=America/Los_Angeles:20260513T190000
DTSTAMP:20260423T150847
CREATED:20260307T165412Z
LAST-MODIFIED:20260307T165412Z
UID:9698-1778693400-1778698800@colusaumc.org
SUMMARY:Growing in Faith 4 - 5-13-26
DESCRIPTION:Join us for six weeks of reflection and invitation. Growing in Faith is a short series inviting you to learn more about your own faith and our Methodist tradition.\nInfo & Registration Here
URL:https://colusaumc.org/event/growing-in-faith-4-5-13-26/
LOCATION:Trinity\, 511 Oak Street\, Colusa\, CA\, 95932\, United States
CATEGORIES:Class
ATTACH;FMTTYPE=image/png:https://colusaumc.org/wp-content/uploads/resources/TrinityArtisticWithGIFLogo_366x1600-e1725132621289.png
END:VEVENT
BEGIN:VEVENT
DTSTART;TZID=America/Los_Angeles:20260517T120000
DTEND;TZID=America/Los_Angeles:20260517T133000
DTSTAMP:20260423T150847
CREATED:20251211T011815Z
LAST-MODIFIED:20251211T011815Z
UID:9138-1779019200-1779024600@colusaumc.org
SUMMARY:Growing in Faith 5 - 5-17-26
DESCRIPTION:Join us for six weeks of reflection and invitation. Growing in Faith is a short series inviting you to learn more about your own faith and our Methodist tradition.\nInfo & Registration Here
URL:https://colusaumc.org/event/growing-in-faith-5-5-17-26/
LOCATION:Trinity\, 511 Oak Street\, Colusa\, CA\, 95932\, United States
CATEGORIES:Class
ATTACH;FMTTYPE=image/png:https://colusaumc.org/wp-content/uploads/resources/TrinityArtisticWithGIFLogo_366x1600-e1725132621289.png
END:VEVENT
BEGIN:VEVENT
DTSTART;TZID=America/Los_Angeles:20260518T173000
DTEND;TZID=America/Los_Angeles:20260518T180000
DTSTAMP:20260423T150847
CREATED:20251210T165447Z
LAST-MODIFIED:20251210T165447Z
UID:9070-1779125400-1779127200@colusaumc.org
SUMMARY:Mid Month Mondays - 5-18-26
DESCRIPTION:Mid-Month Mondays \n5:30pm to 6:00pm (sanctuary opens at 5:15pm) \nThere is something about being able to practice deep contemplation in the company of others. Mid-Month Mondays provide this space. All traditions are welcome. You need not believe or practice anything at all to join. \nThe Trinity sanctuary opens at 5:15pm for a time of quiet prayer practice from 5:30pm to 6:00pm. For those not used to silent prayer\, candles and quiet background music provide an entry point into contemplation. \nChildcare will be provided at the January 20th meeting. \n 
URL:https://colusaumc.org/event/mid-month-mondays-5-18-26/
LOCATION:Trinity\, 511 Oak Street\, Colusa\, CA\, 95932\, United States
CATEGORIES:Community,Special Sacred
ATTACH;FMTTYPE=image/jpeg:https://colusaumc.org/wp-content/uploads/bulletin_images/MidMonth_NoDates-e1765385267591.jpg
END:VEVENT
BEGIN:VEVENT
DTSTART;TZID=America/Los_Angeles:20260520T173000
DTEND;TZID=America/Los_Angeles:20260520T190000
DTSTAMP:20260423T150847
CREATED:20260307T165457Z
LAST-MODIFIED:20260307T165457Z
UID:9699-1779298200-1779303600@colusaumc.org
SUMMARY:Growing in Faith 5 - 5-20-26
DESCRIPTION:Join us for six weeks of reflection and invitation. Growing in Faith is a short series inviting you to learn more about your own faith and our Methodist tradition.\nInfo & Registration Here
URL:https://colusaumc.org/event/growing-in-faith-5-5-20-26/
LOCATION:Trinity\, 511 Oak Street\, Colusa\, CA\, 95932\, United States
CATEGORIES:Class
ATTACH;FMTTYPE=image/png:https://colusaumc.org/wp-content/uploads/resources/TrinityArtisticWithGIFLogo_366x1600-e1725132621289.png
END:VEVENT
BEGIN:VEVENT
DTSTART;TZID=America/Los_Angeles:20260522T110000
DTEND;TZID=America/Los_Angeles:20260522T130000
DTSTAMP:20260423T150847
CREATED:20260224T002909Z
LAST-MODIFIED:20260224T002909Z
UID:9663-1779447600-1779454800@colusaumc.org
SUMMARY:Senior Spread Lunch 5-21-26
DESCRIPTION:Join us for the next Senior Spread\, a social lunch for Colusa senior citizens! \n2nd and 4th Fridays \nDoors open 11:00am \nLunch from 12:00pm to 1:00pm
URL:https://colusaumc.org/event/senior-spread-5-22-26/
LOCATION:Trinity\, 511 Oak Street\, Colusa\, CA\, 95932\, United States
CATEGORIES:Community
ATTACH;FMTTYPE=image/png:https://colusaumc.org/wp-content/uploads/program_logos/SeniorSpread_Logo_Sq_Color-e1765384940403.png
END:VEVENT
BEGIN:VEVENT
DTSTART;TZID=America/Los_Angeles:20260524T120000
DTEND;TZID=America/Los_Angeles:20260524T133000
DTSTAMP:20260423T150847
CREATED:20251211T011841Z
LAST-MODIFIED:20251211T011841Z
UID:9137-1779624000-1779629400@colusaumc.org
SUMMARY:Growing in Faith 6 - 5-24-26
DESCRIPTION:Join us for six weeks of reflection and invitation. Growing in Faith is a short series inviting you to learn more about your own faith and our Methodist tradition.\nInfo & Registration Here
URL:https://colusaumc.org/event/growing-in-faith-5-5-24-26/
LOCATION:Trinity\, 511 Oak Street\, Colusa\, CA\, 95932\, United States
CATEGORIES:Class
ATTACH;FMTTYPE=image/png:https://colusaumc.org/wp-content/uploads/resources/TrinityArtisticWithGIFLogo_366x1600-e1725132621289.png
END:VEVENT
BEGIN:VEVENT
DTSTART;TZID=America/Los_Angeles:20260527T173000
DTEND;TZID=America/Los_Angeles:20260527T190000
DTSTAMP:20260423T150847
CREATED:20260307T165537Z
LAST-MODIFIED:20260307T165537Z
UID:9700-1779903000-1779908400@colusaumc.org
SUMMARY:Growing in Faith 6 - 5-27-26
DESCRIPTION:Join us for six weeks of reflection and invitation. Growing in Faith is a short series inviting you to learn more about your own faith and our Methodist tradition.\nInfo & Registration Here
URL:https://colusaumc.org/event/growing-in-faith-5-5-27-26/
LOCATION:Trinity\, 511 Oak Street\, Colusa\, CA\, 95932\, United States
CATEGORIES:Class
ATTACH;FMTTYPE=image/png:https://colusaumc.org/wp-content/uploads/resources/TrinityArtisticWithGIFLogo_366x1600-e1725132621289.png
END:VEVENT
BEGIN:VEVENT
DTSTART;TZID=America/Los_Angeles:20260601T112000
DTEND;TZID=America/Los_Angeles:20260601T130000
DTSTAMP:20260423T150847
CREATED:20260127T194759Z
LAST-MODIFIED:20260127T195603Z
UID:9407-1780312800-1780318800@colusaumc.org
SUMMARY:Hand Up Lunch 6-1-26
DESCRIPTION:Mondays in February\, June\, and October\, 11:20am\nmeets at Presbyterian Church\nsee Carolyn G. or Elizabeth Y. to help
URL:https://colusaumc.org/event/hand-up-lunch-6-1-26-2/
LOCATION:Presbyterian Church\, 261 Fourth Street\, Colusa\, CA\, 95932\, United States
CATEGORIES:Community
END:VEVENT
BEGIN:VEVENT
DTSTART;TZID=America/Los_Angeles:20260607T111500
DTEND;TZID=America/Los_Angeles:20260607T121500
DTSTAMP:20260423T150847
CREATED:20251120T205355Z
LAST-MODIFIED:20251120T205832Z
UID:8873-1780830900-1780834500@colusaumc.org
SUMMARY:Executive Committee and Trustees 6-7-26
DESCRIPTION:all members are encouraged to attend this business meeting \nThe Executive Committee is a regular\, combined coordination meeting that includes Trustees\, Ad Council\, Finance\, and Memorials committees. \nCommunion Sunday\, Even Months\n11:15 am\nmeets in Parlor after worship
URL:https://colusaumc.org/event/excom-6-7-26/
LOCATION:Trinity\, 511 Oak Street\, Colusa\, CA\, 95932\, United States
CATEGORIES:Administrative
END:VEVENT
BEGIN:VEVENT
DTSTART;TZID=America/Los_Angeles:20260615T112000
DTEND;TZID=America/Los_Angeles:20260615T130000
DTSTAMP:20260423T150847
CREATED:20260127T194906Z
LAST-MODIFIED:20260127T195300Z
UID:9413-1781522400-1781528400@colusaumc.org
SUMMARY:Hand Up Lunch 6-15-26
DESCRIPTION:Mondays in February\, June\, and October\, 11:20am\nmeets at Presbyterian Church\nsee Carolyn G. or Elizabeth Y. to help
URL:https://colusaumc.org/event/hand-up-lunch-6-15-26/
LOCATION:Presbyterian Church\, 261 Fourth Street\, Colusa\, CA\, 95932\, United States
CATEGORIES:Community
END:VEVENT
BEGIN:VEVENT
DTSTART;TZID=America/Los_Angeles:20260615T173000
DTEND;TZID=America/Los_Angeles:20260615T180000
DTSTAMP:20260423T150847
CREATED:20251210T165525Z
LAST-MODIFIED:20251210T165525Z
UID:9071-1781544600-1781546400@colusaumc.org
SUMMARY:Mid Month Mondays - 6-15-26
DESCRIPTION:Mid-Month Mondays \n5:30pm to 6:00pm (sanctuary opens at 5:15pm) \nThere is something about being able to practice deep contemplation in the company of others. Mid-Month Mondays provide this space. All traditions are welcome. You need not believe or practice anything at all to join. \nThe Trinity sanctuary opens at 5:15pm for a time of quiet prayer practice from 5:30pm to 6:00pm. For those not used to silent prayer\, candles and quiet background music provide an entry point into contemplation. \nChildcare will be provided at the January 20th meeting. \n 
URL:https://colusaumc.org/event/mid-month-mondays-6-15-26/
LOCATION:Trinity\, 511 Oak Street\, Colusa\, CA\, 95932\, United States
CATEGORIES:Community,Special Sacred
ATTACH;FMTTYPE=image/jpeg:https://colusaumc.org/wp-content/uploads/bulletin_images/MidMonth_NoDates-e1765385267591.jpg
END:VEVENT
BEGIN:VEVENT
DTSTART;TZID=America/Los_Angeles:20260622T112000
DTEND;TZID=America/Los_Angeles:20260622T130000
DTSTAMP:20260423T150847
CREATED:20260127T195316Z
LAST-MODIFIED:20260127T195316Z
UID:9414-1782127200-1782133200@colusaumc.org
SUMMARY:Hand Up Lunch 6-22-26
DESCRIPTION:Mondays in February\, June\, and October\, 11:20am\nmeets at Presbyterian Church\nsee Carolyn G. or Elizabeth Y. to help
URL:https://colusaumc.org/event/hand-up-lunch-6-22-26/
LOCATION:Presbyterian Church\, 261 Fourth Street\, Colusa\, CA\, 95932\, United States
CATEGORIES:Community
END:VEVENT
BEGIN:VEVENT
DTSTART;TZID=America/Los_Angeles:20260629T112000
DTEND;TZID=America/Los_Angeles:20260629T130000
DTSTAMP:20260423T150847
CREATED:20260127T195344Z
LAST-MODIFIED:20260127T195344Z
UID:9415-1782732000-1782738000@colusaumc.org
SUMMARY:Hand Up Lunch 6-29-26
DESCRIPTION:Mondays in February\, June\, and October\, 11:20am\nmeets at Presbyterian Church\nsee Carolyn G. or Elizabeth Y. to help
URL:https://colusaumc.org/event/hand-up-lunch-6-29-26/
LOCATION:Presbyterian Church\, 261 Fourth Street\, Colusa\, CA\, 95932\, United States
CATEGORIES:Community
END:VEVENT
BEGIN:VEVENT
DTSTART;TZID=America/Los_Angeles:20260713T163000
DTEND;TZID=America/Los_Angeles:20260713T173000
DTSTAMP:20260423T150847
CREATED:20251009T014202Z
LAST-MODIFIED:20251009T014202Z
UID:8684-1783960200-1783963800@colusaumc.org
SUMMARY:Worship & Discipleship Committee 7/13/26
DESCRIPTION:Worship & Discipleship members are encouraged to attend this regular meeting \nThe Worship & Discipleship Committee meets quarterly to coordinate activities and plan worship for Trinity. \nMeets 2nd Monday of January\, April\, July\, and October\n4:30 pm\nmeets in Parlor
URL:https://colusaumc.org/event/worship-discipleship-committee-7-13-26/
LOCATION:Trinity\, 511 Oak Street\, Colusa\, CA\, 95932\, United States
CATEGORIES:Administrative
ATTACH;FMTTYPE=image/png:https://colusaumc.org/wp-content/uploads/bulletin_images/LoavesFishesNew.png
END:VEVENT
BEGIN:VEVENT
DTSTART;TZID=America/Los_Angeles:20260714T163000
DTEND;TZID=America/Los_Angeles:20260714T173000
DTSTAMP:20260423T150847
CREATED:20251208T220441Z
LAST-MODIFIED:20251208T221226Z
UID:9024-1784046600-1784050200@colusaumc.org
SUMMARY:Staff Parish Relations Committee 7-14-26
DESCRIPTION:closed meeting\, please contact Elizabeth Y. to learn about this committee \nTuesday\, July 14\, 2026 4:30 pm\nmeet in the parlor
URL:https://colusaumc.org/event/sprc-7-14-26/
LOCATION:Trinity\, 511 Oak Street\, Colusa\, CA\, 95932\, United States
CATEGORIES:Administrative
END:VEVENT
BEGIN:VEVENT
DTSTART;TZID=America/Los_Angeles:20260802T111500
DTEND;TZID=America/Los_Angeles:20260802T121500
DTSTAMP:20260423T150847
CREATED:20251120T205429Z
LAST-MODIFIED:20251120T205429Z
UID:8875-1785669300-1785672900@colusaumc.org
SUMMARY:Executive Committee and Trustees 8-2-26
DESCRIPTION:all members are encouraged to attend this business meeting \nThe Executive Committee is a regular\, combined coordination meeting that includes Trustees\, Ad Council\, Finance\, and Memorials committees. \nCommunion Sunday\, Even Months\n11:15 am\nmeets in Parlor after worship
URL:https://colusaumc.org/event/excom-8-2-26/
LOCATION:Trinity\, 511 Oak Street\, Colusa\, CA\, 95932\, United States
CATEGORIES:Administrative
END:VEVENT
BEGIN:VEVENT
DTSTART;TZID=America/Los_Angeles:20260817T173000
DTEND;TZID=America/Los_Angeles:20260817T180000
DTSTAMP:20260423T150847
CREATED:20251210T170012Z
LAST-MODIFIED:20251210T170012Z
UID:9072-1786987800-1786989600@colusaumc.org
SUMMARY:Mid Month Mondays - 8-17-26
DESCRIPTION:Mid-Month Mondays \n5:30pm to 6:00pm (sanctuary opens at 5:15pm) \nThere is something about being able to practice deep contemplation in the company of others. Mid-Month Mondays provide this space. All traditions are welcome. You need not believe or practice anything at all to join. \nThe Trinity sanctuary opens at 5:15pm for a time of quiet prayer practice from 5:30pm to 6:00pm. For those not used to silent prayer\, candles and quiet background music provide an entry point into contemplation. \nChildcare will be provided at the January 20th meeting. \n 
URL:https://colusaumc.org/event/mid-month-mondays-8-17-26/
LOCATION:Trinity\, 511 Oak Street\, Colusa\, CA\, 95932\, United States
CATEGORIES:Community,Special Sacred
ATTACH;FMTTYPE=image/jpeg:https://colusaumc.org/wp-content/uploads/bulletin_images/MidMonth_NoDates-e1765385267591.jpg
END:VEVENT
BEGIN:VEVENT
DTSTART;TZID=America/Los_Angeles:20260921T173000
DTEND;TZID=America/Los_Angeles:20260921T180000
DTSTAMP:20260423T150847
CREATED:20251210T165940Z
LAST-MODIFIED:20251210T165940Z
UID:9073-1790011800-1790013600@colusaumc.org
SUMMARY:Mid Month Mondays - 9-21-26
DESCRIPTION:Mid-Month Mondays \n5:30pm to 6:00pm (sanctuary opens at 5:15pm) \nThere is something about being able to practice deep contemplation in the company of others. Mid-Month Mondays provide this space. All traditions are welcome. You need not believe or practice anything at all to join. \nThe Trinity sanctuary opens at 5:15pm for a time of quiet prayer practice from 5:30pm to 6:00pm. For those not used to silent prayer\, candles and quiet background music provide an entry point into contemplation. \nChildcare will be provided at the January 20th meeting. \n 
URL:https://colusaumc.org/event/mid-month-mondays-9-21-26/
LOCATION:Trinity\, 511 Oak Street\, Colusa\, CA\, 95932\, United States
CATEGORIES:Community,Special Sacred
ATTACH;FMTTYPE=image/jpeg:https://colusaumc.org/wp-content/uploads/bulletin_images/MidMonth_NoDates-e1765385267591.jpg
END:VEVENT
END:VCALENDAR