BEGIN:VCALENDAR
VERSION:2.0
PRODID:-//Trinity UMC, Colusa - ECPv6.15.20//NONSGML v1.0//EN
CALSCALE:GREGORIAN
METHOD:PUBLISH
X-WR-CALNAME:Trinity UMC, Colusa
X-ORIGINAL-URL:https://colusaumc.org
X-WR-CALDESC:Events for Trinity UMC, Colusa
REFRESH-INTERVAL;VALUE=DURATION:PT1H
X-Robots-Tag:noindex
X-PUBLISHED-TTL:PT1H
BEGIN:VTIMEZONE
TZID:America/Los_Angeles
BEGIN:DAYLIGHT
TZOFFSETFROM:-0800
TZOFFSETTO:-0700
TZNAME:PDT
DTSTART:20240310T100000
END:DAYLIGHT
BEGIN:STANDARD
TZOFFSETFROM:-0700
TZOFFSETTO:-0800
TZNAME:PST
DTSTART:20241103T090000
END:STANDARD
BEGIN:DAYLIGHT
TZOFFSETFROM:-0800
TZOFFSETTO:-0700
TZNAME:PDT
DTSTART:20250309T100000
END:DAYLIGHT
BEGIN:STANDARD
TZOFFSETFROM:-0700
TZOFFSETTO:-0800
TZNAME:PST
DTSTART:20251102T090000
END:STANDARD
BEGIN:DAYLIGHT
TZOFFSETFROM:-0800
TZOFFSETTO:-0700
TZNAME:PDT
DTSTART:20260308T100000
END:DAYLIGHT
BEGIN:STANDARD
TZOFFSETFROM:-0700
TZOFFSETTO:-0800
TZNAME:PST
DTSTART:20261101T090000
END:STANDARD
END:VTIMEZONE
BEGIN:VEVENT
DTSTART;TZID=America/Los_Angeles:20250917T180000
DTEND;TZID=America/Los_Angeles:20250917T200000
DTSTAMP:20260424T030214
CREATED:20250819T204012Z
LAST-MODIFIED:20250819T204012Z
UID:8293-1758132000-1758139200@colusaumc.org
SUMMARY:Growing in Faith 3 - 9-9-25
DESCRIPTION:Join us for six weeks of reflection and invitation. Growing in Faith is a short series inviting you to learn more about your own faith and our Methodist tradition.\nInfo & Registration Here
URL:https://colusaumc.org/event/growing-in-faith-3-9-17-25/
LOCATION:Trinity\, 511 Oak Street\, Colusa\, CA\, 95932\, United States
CATEGORIES:Class
ATTACH;FMTTYPE=image/png:https://colusaumc.org/wp-content/uploads/resources/TrinityArtisticWithGIFLogo_366x1600-e1725132621289.png
END:VEVENT
BEGIN:VEVENT
DTSTART;TZID=America/Los_Angeles:20250916T183000
DTEND;TZID=America/Los_Angeles:20250916T200000
DTSTAMP:20260424T030214
CREATED:20250819T203558Z
LAST-MODIFIED:20250819T203558Z
UID:8276-1758047400-1758052800@colusaumc.org
SUMMARY:Growing in Faith 4 - 9-16-25
DESCRIPTION:Join us for six weeks of reflection and invitation. Growing in Faith is a short series inviting you to learn more about your own faith and our Methodist tradition.\nInfo & Registration Here
URL:https://colusaumc.org/event/growing-in-faith-4-9-16-25/
LOCATION:Trinity\, 511 Oak Street\, Colusa\, CA\, 95932\, United States
CATEGORIES:Class
ATTACH;FMTTYPE=image/png:https://colusaumc.org/wp-content/uploads/resources/TrinityArtisticWithGIFLogo_366x1600-e1725132621289.png
END:VEVENT
BEGIN:VEVENT
DTSTART;TZID=America/Los_Angeles:20250915T173000
DTEND;TZID=America/Los_Angeles:20250915T180000
DTSTAMP:20260424T030214
CREATED:20250604T222403Z
LAST-MODIFIED:20250819T201826Z
UID:7992-1757957400-1757959200@colusaumc.org
SUMMARY:Mid Month Mondays - 9-15-25
DESCRIPTION:Mid-Month Mondays \n5:30pm to 6:00pm (sanctuary opens at 5:15pm) \nThere is something about being able to practice deep contemplation in the company of others. Mid-Month Mondays provide this space. All traditions are welcome. You need not believe or practice anything at all to join. \nThe Trinity sanctuary opens at 5:15pm for a time of quiet prayer practice from 5:30pm to 6:00pm. For those not used to silent prayer\, candles and quiet background music provide an entry point into contemplation. \nChildcare will be provided at the January 20th meeting. \n 
URL:https://colusaumc.org/event/mid-month-mondays-9-15-25/
LOCATION:Trinity\, 511 Oak Street\, Colusa\, CA\, 95932\, United States
CATEGORIES:Community,Special Sacred
ATTACH;FMTTYPE=image/jpeg:https://colusaumc.org/wp-content/uploads/bulletin_images/MidMonth-e1765385180731.jpg
END:VEVENT
BEGIN:VEVENT
DTSTART;TZID=America/Los_Angeles:20250914T110000
DTEND;TZID=America/Los_Angeles:20250914T120000
DTSTAMP:20260424T030214
CREATED:20250819T210438Z
LAST-MODIFIED:20250819T211258Z
UID:8317-1757847600-1757851200@colusaumc.org
SUMMARY:Seraphim Bible Study 1 - 9-14-25
DESCRIPTION:Seraphim\nFrom Numbers and Amos through Isaiah and Acts\, we will be noticing how people anointed with fire are sent on incredible journeys of the spirit.\nSeptember 14th – October 12th\n(no meeting 10/5) \nJoin us after worship service for four Sundays this fall to consider the fiery snake of cruddy consequences\, the seraphim. In the Bible\, we sometimes find seraphim and serpents at life inflection points in the story of God’s people. Beginning with John 3:13-17\, our lectionary readings will launch us into a discussion that will move us beyond these verses. We will wind from Numbers and Amos through Isaiah and Acts noticing how people anointed with fire are sent on incredible journeys of the spirit. How have you been touched by fire? \nDrop in for one or all Sunday scripture studies. Each study is about 45 minutes long. Reflection pages are provided each week. \nWe will meet in the parlor at Trinity UMC following coffee hour on Sunday mornings. (511 Oak Street\, Colusa) Anyone may attend regardless religious background\, belief\, Christian experience\, or church affiliation. Enjoy a lively discussion and snacks. \nBible knowledge is NOT required.
URL:https://colusaumc.org/event/seraphim-bible-study-1-9-14-25/
LOCATION:Trinity\, 511 Oak Street\, Colusa\, CA\, 95932\, United States
CATEGORIES:Bible Study,Class
ATTACH;FMTTYPE=image/png:https://colusaumc.org/wp-content/uploads/bulletin_images/S_2.png
END:VEVENT
BEGIN:VEVENT
DTSTART;TZID=America/Los_Angeles:20250912T110000
DTEND;TZID=America/Los_Angeles:20250912T130000
DTSTAMP:20260424T030214
CREATED:20250819T202254Z
LAST-MODIFIED:20250908T205342Z
UID:8252-1757674800-1757682000@colusaumc.org
SUMMARY:Senior Spread Lunch 9-12-25
DESCRIPTION:Join us for the next Senior Spread\, a social lunch for Colusa senior citizens! \n2nd and 4th Fridays \nDoors open 11:00am \nLunch from 12:00pm to 1:00pm
URL:https://colusaumc.org/event/senior-spread-9-12-25/
LOCATION:Trinity\, 511 Oak Street\, Colusa\, CA\, 95932\, United States
CATEGORIES:Community
ATTACH;FMTTYPE=image/png:https://colusaumc.org/wp-content/uploads/program_logos/SeniorSpread_Logo_Sq_Color-e1765384940403.png
END:VEVENT
BEGIN:VEVENT
DTSTART;TZID=America/Los_Angeles:20250910T183000
DTEND;TZID=America/Los_Angeles:20250910T200000
DTSTAMP:20260424T030214
CREATED:20250819T203950Z
LAST-MODIFIED:20250819T203950Z
UID:8294-1757529000-1757534400@colusaumc.org
SUMMARY:Growing in Faith 2 - 9-10-25
DESCRIPTION:Join us for six weeks of reflection and invitation. Growing in Faith is a short series inviting you to learn more about your own faith and our Methodist tradition.\nInfo & Registration Here
URL:https://colusaumc.org/event/growing-in-faith-2-9-10-25/
LOCATION:Trinity\, 511 Oak Street\, Colusa\, CA\, 95932\, United States
CATEGORIES:Class
ATTACH;FMTTYPE=image/png:https://colusaumc.org/wp-content/uploads/resources/TrinityArtisticWithGIFLogo_366x1600-e1725132621289.png
END:VEVENT
BEGIN:VEVENT
DTSTART;TZID=America/Los_Angeles:20250910T140000
DTEND;TZID=America/Los_Angeles:20250910T163000
DTSTAMP:20260424T030214
CREATED:20250819T212658Z
LAST-MODIFIED:20250908T205041Z
UID:8322-1757512800-1757521800@colusaumc.org
SUMMARY:Dance\, Colusa! 9-10-25
DESCRIPTION:  \nThrough generous grants with the Great Northern District Union and New and Vital Congregations as well as valuable partnerships with the City of Colusa\, Stagehands Theater\, and the Colusa County Arts Council\, Sound Space is continuing making more music\, and now dance\, in Colusa in 2025-2026. \n\n4th\, 5th\, and 6th graders are invited to join us after school for movement and music with our dance teacher from the performing arts camp\, Margaret K. A UCSC dance team member\, Margaret has taught across the north state. \nRegister Today!
URL:https://colusaumc.org/event/dance-colusa-9-10-25/
LOCATION:Trinity\, 511 Oak Street\, Colusa\, CA\, 95932\, United States
CATEGORIES:Class,Sound Space
ATTACH;FMTTYPE=image/png:https://colusaumc.org/wp-content/uploads/program_logos/DanceColusaTitle_Sq.png
END:VEVENT
BEGIN:VEVENT
DTSTART;TZID=America/Los_Angeles:20250909T180000
DTEND;TZID=America/Los_Angeles:20250909T200000
DTSTAMP:20260424T030214
CREATED:20250819T203453Z
LAST-MODIFIED:20250819T203453Z
UID:8277-1757440800-1757448000@colusaumc.org
SUMMARY:Growing in Faith 3 - 9-9-25
DESCRIPTION:Join us for six weeks of reflection and invitation. Growing in Faith is a short series inviting you to learn more about your own faith and our Methodist tradition.\nInfo & Registration Here
URL:https://colusaumc.org/event/growing-in-faith-3-9-9-25/
LOCATION:Trinity\, 511 Oak Street\, Colusa\, CA\, 95932\, United States
CATEGORIES:Class
ATTACH;FMTTYPE=image/png:https://colusaumc.org/wp-content/uploads/resources/TrinityArtisticWithGIFLogo_366x1600-e1725132621289.png
END:VEVENT
BEGIN:VEVENT
DTSTART;TZID=America/Los_Angeles:20250903T183000
DTEND;TZID=America/Los_Angeles:20250903T200000
DTSTAMP:20260424T030214
CREATED:20250819T203931Z
LAST-MODIFIED:20250819T203931Z
UID:8295-1756924200-1756929600@colusaumc.org
SUMMARY:Growing in Faith 1 - 9-3-25
DESCRIPTION:Join us for six weeks of reflection and invitation. Growing in Faith is a short series inviting you to learn more about your own faith and our Methodist tradition.\nInfo & Registration Here
URL:https://colusaumc.org/event/growing-in-faith-1-9-3-25/
LOCATION:Trinity\, 511 Oak Street\, Colusa\, CA\, 95932\, United States
CATEGORIES:Class
ATTACH;FMTTYPE=image/png:https://colusaumc.org/wp-content/uploads/resources/TrinityArtisticWithGIFLogo_366x1600-e1725132621289.png
END:VEVENT
BEGIN:VEVENT
DTSTART;TZID=America/Los_Angeles:20250903T140000
DTEND;TZID=America/Los_Angeles:20250903T163000
DTSTAMP:20260424T030214
CREATED:20250819T212830Z
LAST-MODIFIED:20250908T205022Z
UID:8335-1756908000-1756917000@colusaumc.org
SUMMARY:Dance\, Colusa! 9-3-25
DESCRIPTION:  \nThrough generous grants with the Great Northern District Union and New and Vital Congregations as well as valuable partnerships with the City of Colusa\, Stagehands Theater\, and the Colusa County Arts Council\, Sound Space is continuing making more music\, and now dance\, in Colusa in 2025-2026. \n\n4th\, 5th\, and 6th graders are invited to join us after school for movement and music with our dance teacher from the performing arts camp\, Margaret K. A UCSC dance team member\, Margaret has taught across the north state. \nRegister Today!
URL:https://colusaumc.org/event/dance-colusa-9-3-25/
LOCATION:Trinity\, 511 Oak Street\, Colusa\, CA\, 95932\, United States
CATEGORIES:Class,Sound Space
ATTACH;FMTTYPE=image/png:https://colusaumc.org/wp-content/uploads/program_logos/DanceColusaTitle_Sq.png
END:VEVENT
BEGIN:VEVENT
DTSTART;TZID=America/Los_Angeles:20250902T183000
DTEND;TZID=America/Los_Angeles:20250902T200000
DTSTAMP:20260424T030214
CREATED:20250819T203419Z
LAST-MODIFIED:20250819T203419Z
UID:8278-1756837800-1756843200@colusaumc.org
SUMMARY:Growing in Faith 2 - 9-2-25
DESCRIPTION:Join us for six weeks of reflection and invitation. Growing in Faith is a short series inviting you to learn more about your own faith and our Methodist tradition.\nInfo & Registration Here
URL:https://colusaumc.org/event/growing-in-faith-2-9-2-25/
LOCATION:Trinity\, 511 Oak Street\, Colusa\, CA\, 95932\, United States
CATEGORIES:Class
ATTACH;FMTTYPE=image/png:https://colusaumc.org/wp-content/uploads/resources/TrinityArtisticWithGIFLogo_366x1600-e1725132621289.png
END:VEVENT
BEGIN:VEVENT
DTSTART;TZID=America/Los_Angeles:20250826T183000
DTEND;TZID=America/Los_Angeles:20250826T200000
DTSTAMP:20260424T030214
CREATED:20250819T203528Z
LAST-MODIFIED:20250819T203528Z
UID:8279-1756233000-1756238400@colusaumc.org
SUMMARY:Growing in Faith 1 - 8-26-25
DESCRIPTION:Join us for six weeks of reflection and invitation. Growing in Faith is a short series inviting you to learn more about your own faith and our Methodist tradition.\nInfo & Registration Here
URL:https://colusaumc.org/event/growing-in-faith-1-8-26-25/
LOCATION:Trinity\, 511 Oak Street\, Colusa\, CA\, 95932\, United States
CATEGORIES:Class
ATTACH;FMTTYPE=image/png:https://colusaumc.org/wp-content/uploads/resources/TrinityArtisticWithGIFLogo_366x1600-e1725132621289.png
END:VEVENT
BEGIN:VEVENT
DTSTART;TZID=America/Los_Angeles:20250822T110000
DTEND;TZID=America/Los_Angeles:20250822T130000
DTSTAMP:20260424T030214
CREATED:20250819T202147Z
LAST-MODIFIED:20250819T202147Z
UID:8250-1755860400-1755867600@colusaumc.org
SUMMARY:Senior Spread Lunch 8-22-25
DESCRIPTION:Join us for the next Senior Spread\, a social lunch for Colusa senior citizens! \n2nd and 4th Fridays \nDoors open 11:00am \nLunch from 12:00pm to 1:00pm
URL:https://colusaumc.org/event/senior-spread-8-22-25/
LOCATION:Trinity\, 511 Oak Street\, Colusa\, CA\, 95932\, United States
CATEGORIES:Community
ATTACH;FMTTYPE=image/png:https://colusaumc.org/wp-content/uploads/bulletin_images/SeniorSpread_PlateLogo_Color-e1765385048603.png
END:VEVENT
BEGIN:VEVENT
DTSTART;TZID=America/Los_Angeles:20250819T180000
DTEND;TZID=America/Los_Angeles:20250819T180000
DTSTAMP:20260424T030214
CREATED:20250819T234807Z
LAST-MODIFIED:20251120T035507Z
UID:8350-1755626400-1755626400@colusaumc.org
SUMMARY:Christmas Choir Practice 10-15-25
DESCRIPTION:Christmas Choir\nChristmas choir will again perform at several Colusa County locations\, including Trinity\, on December 11th\, 12th\, 13th\, and 14th. \nRehearsals are Wednesday nights starting October 15th. Please contact Elizabeth Y. for more information.
URL:https://colusaumc.org/event/christmas-choir-practice-10-15-25/
LOCATION:CA
CATEGORIES:Practice
ATTACH;FMTTYPE=image/jpeg:https://colusaumc.org/wp-content/uploads/bulletin_images/ChristmasConcertAngel-2024.jpg
END:VEVENT
BEGIN:VEVENT
DTSTART;TZID=America/Los_Angeles:20250818T173000
DTEND;TZID=America/Los_Angeles:20250818T180000
DTSTAMP:20260424T030214
CREATED:20250604T222134Z
LAST-MODIFIED:20250529T222243Z
UID:7991-1755538200-1755540000@colusaumc.org
SUMMARY:Mid Month Mondays - 8-18-25
DESCRIPTION:Mid-Month Mondays \n5:30pm to 6:00pm (sanctuary opens at 5:15pm) \nThere is something about being able to practice deep contemplation in the company of others. Mid-Month Mondays provide this space. All traditions are welcome. You need not believe or practice anything at all to join. \nThe Trinity sanctuary opens at 5:15pm for a time of quiet prayer practice from 5:30pm to 6:00pm. For those not used to silent prayer\, candles and quiet background music provide an entry point into contemplation. \nChildcare will be provided at the January 20th meeting. \n 
URL:https://colusaumc.org/event/mid-month-mondays-8-18-25/
LOCATION:Trinity\, 511 Oak Street\, Colusa\, CA\, 95932\, United States
CATEGORIES:Community,Special Sacred
ATTACH;FMTTYPE=image/jpeg:https://colusaumc.org/wp-content/uploads/bulletin_images/MidMonth-e1765385180731.jpg
END:VEVENT
BEGIN:VEVENT
DTSTART;TZID=America/Los_Angeles:20250808T110000
DTEND;TZID=America/Los_Angeles:20250808T130000
DTSTAMP:20260424T030214
CREATED:20250819T202116Z
LAST-MODIFIED:20250819T202116Z
UID:8248-1754650800-1754658000@colusaumc.org
SUMMARY:Senior Spread Lunch 8-8-25
DESCRIPTION:Join us for the next Senior Spread\, a social lunch for Colusa senior citizens! \n2nd and 4th Fridays \nDoors open 11:00am \nLunch from 12:00pm to 1:00pm
URL:https://colusaumc.org/event/senior-spread-8-8-25/
LOCATION:Trinity\, 511 Oak Street\, Colusa\, CA\, 95932\, United States
CATEGORIES:Community
ATTACH;FMTTYPE=image/png:https://colusaumc.org/wp-content/uploads/bulletin_images/SeniorSpread_PlateLogo_Color-e1765385048603.png
END:VEVENT
BEGIN:VEVENT
DTSTART;TZID=America/Los_Angeles:20250803T111500
DTEND;TZID=America/Los_Angeles:20250803T121500
DTSTAMP:20260424T030214
CREATED:20250526T193443Z
LAST-MODIFIED:20250529T210013Z
UID:7627-1754219700-1754223300@colusaumc.org
SUMMARY:Executive Committee and Trustees 8-3-25
DESCRIPTION:all members are encouraged to attend this business meeting \nThe Executive Committee is a regular\, combined coordination meeting that includes Trustees\, Ad Council\, Finance\, and Memorials committees. \nCommunion Sunday\, Even Months\n11:15 am\nmeets in Parlor after worship
URL:https://colusaumc.org/event/excom-8-3-25/
LOCATION:Trinity\, 511 Oak Street\, Colusa\, CA\, 95932\, United States
CATEGORIES:Administrative
END:VEVENT
BEGIN:VEVENT
DTSTART;TZID=America/Los_Angeles:20250725T110000
DTEND;TZID=America/Los_Angeles:20250725T130000
DTSTAMP:20260424T030214
CREATED:20250819T202024Z
LAST-MODIFIED:20250819T202024Z
UID:8246-1753441200-1753448400@colusaumc.org
SUMMARY:Senior Spread Lunch 7-25-25
DESCRIPTION:Join us for the next Senior Spread\, a social lunch for Colusa senior citizens! \n2nd and 4th Fridays \nDoors open 11:00am \nLunch from 12:00pm to 1:00pm
URL:https://colusaumc.org/event/senior-spread-7-25-25/
LOCATION:Trinity\, 511 Oak Street\, Colusa\, CA\, 95932\, United States
CATEGORIES:Community
ATTACH;FMTTYPE=image/png:https://colusaumc.org/wp-content/uploads/bulletin_images/SeniorSpread_PlateLogo_Color-e1765385048603.png
END:VEVENT
BEGIN:VEVENT
DTSTART;VALUE=DATE:20250724
DTEND;VALUE=DATE:20250725
DTSTAMP:20260424T030214
CREATED:20250529T213807Z
LAST-MODIFIED:20250529T232456Z
UID:7944-1753315200-1753401599@colusaumc.org
SUMMARY:Performing Arts Camp PERFORMANCE! 7-24-25
DESCRIPTION:Performing Arts Camp 2025 – PERFORMANCE!\nJoin us at Veterans Memorial Park as our campers kick off the Levitt AMP Thursday night concert in the park as the opening act for Jessica Fichot. \n\nCampers are invited to come early to prep and the show will begin about 5:45! \n\n\nThe Colusa County Arts Council is partnering with Sound Space\, The Stagehands\, and the City of Colusa\, to offer Performing Arts Camp!
URL:https://colusaumc.org/event/performing-arts-camp-7-24-25/
LOCATION:Veterans Memorial Park\, 9th & Jay\, Colusa\, 95932\, United States
CATEGORIES:Camp,Community
ATTACH;FMTTYPE=image/png:https://colusaumc.org/wp-content/uploads/bulletin_images/PerformingArtsCamp_1x1-2025.png
END:VEVENT
BEGIN:VEVENT
DTSTART;VALUE=DATE:20250723
DTEND;VALUE=DATE:20250724
DTSTAMP:20260424T030214
CREATED:20250529T212832Z
LAST-MODIFIED:20250529T212907Z
UID:7934-1753228800-1753315199@colusaumc.org
SUMMARY:Performing Arts Camp 7-23-25
DESCRIPTION:Performing Arts Camp 2025\n\nThe Colusa County Arts Council is partnering with Sound Space\, The Stagehands\, and the City of Colusa\, to offer a three-day Performing Arts Camp for kids ages 5-13 at Trinity United Methodist Church. \nThe camp will focus on Music\, Dance\, and Theater instruction and activities geared toward young performers. The goal of this camp is to provide children with the opportunity to explore their self-expression through body movement\, music\, and voice in a FUN and nurturing environment. We look forward to seeing you this summer!
URL:https://colusaumc.org/event/performing-arts-camp-7-23-25/
LOCATION:Trinity\, 511 Oak Street\, Colusa\, CA\, 95932\, United States
CATEGORIES:Camp,Community
ATTACH;FMTTYPE=image/png:https://colusaumc.org/wp-content/uploads/bulletin_images/PerformingArtsCamp_1x1-2025.png
END:VEVENT
BEGIN:VEVENT
DTSTART;VALUE=DATE:20250722
DTEND;VALUE=DATE:20250723
DTSTAMP:20260424T030214
CREATED:20250529T212626Z
LAST-MODIFIED:20250529T213908Z
UID:7932-1753142400-1753228799@colusaumc.org
SUMMARY:Performing Arts Camp 7-22-25
DESCRIPTION:Performing Arts Camp 2025\n\nThe Colusa County Arts Council is partnering with Sound Space\, The Stagehands\, and the City of Colusa\, to offer a three-day Performing Arts Camp for kids ages 5-13 at Trinity United Methodist Church. \nThe camp will focus on Music\, Dance\, and Theater instruction and activities geared toward young performers. The goal of this camp is to provide children with the opportunity to explore their self-expression through body movement\, music\, and voice in a FUN and nurturing environment. We look forward to seeing you this summer!
URL:https://colusaumc.org/event/performing-arts-camp-7-22-25/
LOCATION:Trinity\, 511 Oak Street\, Colusa\, CA\, 95932\, United States
CATEGORIES:Camp,Community
ATTACH;FMTTYPE=image/png:https://colusaumc.org/wp-content/uploads/bulletin_images/PerformingArtsCamp_1x1-2025.png
END:VEVENT
BEGIN:VEVENT
DTSTART;VALUE=DATE:20250721
DTEND;VALUE=DATE:20250722
DTSTAMP:20260424T030214
CREATED:20250529T212548Z
LAST-MODIFIED:20250529T213856Z
UID:7929-1753056000-1753142399@colusaumc.org
SUMMARY:Performing Arts Camp 7-21-25
DESCRIPTION:Performing Arts Camp 2025\n\nThe Colusa County Arts Council is partnering with Sound Space\, The Stagehands\, and the City of Colusa\, to offer a three-day Performing Arts Camp for kids ages 5-13 at Trinity United Methodist Church. \nThe camp will focus on Music\, Dance\, and Theater instruction and activities geared toward young performers. The goal of this camp is to provide children with the opportunity to explore their self-expression through body movement\, music\, and voice in a FUN and nurturing environment. We look forward to seeing you this summer!
URL:https://colusaumc.org/event/performing-arts-camp-7-21-25/
LOCATION:Trinity\, 511 Oak Street\, Colusa\, CA\, 95932\, United States
CATEGORIES:Camp,Community
ATTACH;FMTTYPE=image/png:https://colusaumc.org/wp-content/uploads/bulletin_images/PerformingArtsCamp_1x1-2025.png
END:VEVENT
BEGIN:VEVENT
DTSTART;VALUE=DATE:20250716
DTEND;VALUE=DATE:20250717
DTSTAMP:20260424T030214
CREATED:20250529T212256Z
LAST-MODIFIED:20250529T213846Z
UID:7927-1752624000-1752710399@colusaumc.org
SUMMARY:Visual Arts Camp 7-16-25
DESCRIPTION:Visual Art Camp 2025\n\nThe Colusa County Arts Council\, in partnership with the City of Colusa\, is offering a three-day art camp for kids ages 5-10. Upper elementary students will be at Trinity United Methodist Church. \nThe camp will include hands-on activities (painting\, drawing\, sculpting\, and more) geared toward nurturing creativity and imagination. The goal of this camp is to provide children with the opportunity to explore their artistic side in a supportive\, nurturing\, and FUN environment. We look forward to seeing you this summer!
URL:https://colusaumc.org/event/visual-arts-camp-7-16-25/
LOCATION:Trinity\, 511 Oak Street\, Colusa\, CA\, 95932\, United States
CATEGORIES:Camp,Community
ATTACH;FMTTYPE=image/png:https://colusaumc.org/wp-content/uploads/bulletin_images/SummerARTCamps-2025-1.png
END:VEVENT
BEGIN:VEVENT
DTSTART;TZID=America/Los_Angeles:20250715T183000
DTEND;TZID=America/Los_Angeles:20250715T200000
DTSTAMP:20260424T030214
CREATED:20250529T210802Z
LAST-MODIFIED:20250529T210802Z
UID:7910-1752604200-1752609600@colusaumc.org
SUMMARY:Growing in Faith 6 - 7-15-25
DESCRIPTION:Join us for six weeks of reflection and invitation. Growing in Faith is a short series inviting you to learn more about your own faith and our Methodist tradition.\nInfo & Registration Here
URL:https://colusaumc.org/event/growing-in-faith-6-7-15-25/
LOCATION:Trinity\, 511 Oak Street\, Colusa\, CA\, 95932\, United States
CATEGORIES:Class
ATTACH;FMTTYPE=image/png:https://colusaumc.org/wp-content/uploads/resources/TrinityArtisticWithGIFLogo_366x1600-e1725132621289.png
END:VEVENT
BEGIN:VEVENT
DTSTART;VALUE=DATE:20250715
DTEND;VALUE=DATE:20250716
DTSTAMP:20260424T030214
CREATED:20250529T212128Z
LAST-MODIFIED:20250529T213838Z
UID:7923-1752537600-1752623999@colusaumc.org
SUMMARY:Visual Arts Camp 7-15-25
DESCRIPTION:Visual Art Camp 2025\n\nThe Colusa County Arts Council\, in partnership with the City of Colusa\, is offering a three-day art camp for kids ages 5-10. Upper elementary students will be at Trinity United Methodist Church. \nThe camp will include hands-on activities (painting\, drawing\, sculpting\, and more) geared toward nurturing creativity and imagination. The goal of this camp is to provide children with the opportunity to explore their artistic side in a supportive\, nurturing\, and FUN environment. We look forward to seeing you this summer!
URL:https://colusaumc.org/event/visual-arts-camp-7-15-25/
LOCATION:Trinity\, 511 Oak Street\, Colusa\, CA\, 95932\, United States
CATEGORIES:Camp,Community
ATTACH;FMTTYPE=image/png:https://colusaumc.org/wp-content/uploads/bulletin_images/SummerARTCamps-2025-1.png
END:VEVENT
BEGIN:VEVENT
DTSTART;TZID=America/Los_Angeles:20250714T173000
DTEND;TZID=America/Los_Angeles:20250714T180000
DTSTAMP:20260424T030214
CREATED:20250604T222132Z
LAST-MODIFIED:20250529T222204Z
UID:7990-1752514200-1752516000@colusaumc.org
SUMMARY:Mid Month Mondays - 7-14-25
DESCRIPTION:Mid-Month Mondays \n5:30pm to 6:00pm (sanctuary opens at 5:15pm) \nThere is something about being able to practice deep contemplation in the company of others. Mid-Month Mondays provide this space. All traditions are welcome. You need not believe or practice anything at all to join. \nThe Trinity sanctuary opens at 5:15pm for a time of quiet prayer practice from 5:30pm to 6:00pm. For those not used to silent prayer\, candles and quiet background music provide an entry point into contemplation. \nChildcare will be provided at the January 20th meeting. \n 
URL:https://colusaumc.org/event/mid-month-mondays-7-14-25/
LOCATION:Trinity\, 511 Oak Street\, Colusa\, CA\, 95932\, United States
CATEGORIES:Community,Special Sacred
ATTACH;FMTTYPE=image/jpeg:https://colusaumc.org/wp-content/uploads/bulletin_images/MidMonth-e1765385180731.jpg
END:VEVENT
BEGIN:VEVENT
DTSTART;VALUE=DATE:20250714
DTEND;VALUE=DATE:20250715
DTSTAMP:20260424T030214
CREATED:20250529T212008Z
LAST-MODIFIED:20250529T213826Z
UID:7920-1752451200-1752537599@colusaumc.org
SUMMARY:Visual Arts Camp 7-14-25
DESCRIPTION:Visual Art Camp 2025\n\nThe Colusa County Arts Council\, in partnership with the City of Colusa\, is offering a three-day art camp for kids ages 5-10. Upper elementary students will be at Trinity United Methodist Church. \nThe camp will include hands-on activities (painting\, drawing\, sculpting\, and more) geared toward nurturing creativity and imagination. The goal of this camp is to provide children with the opportunity to explore their artistic side in a supportive\, nurturing\, and FUN environment. We look forward to seeing you this summer!
URL:https://colusaumc.org/event/visual-arts-camp-7-14-25/
LOCATION:Trinity\, 511 Oak Street\, Colusa\, CA\, 95932\, United States
CATEGORIES:Camp,Community
ATTACH;FMTTYPE=image/png:https://colusaumc.org/wp-content/uploads/bulletin_images/SummerARTCamps-2025-1.png
END:VEVENT
BEGIN:VEVENT
DTSTART;TZID=America/Los_Angeles:20250711T110000
DTEND;TZID=America/Los_Angeles:20250711T130000
DTSTAMP:20260424T030214
CREATED:20250614T221834Z
LAST-MODIFIED:20250529T221924Z
UID:7986-1752231600-1752238800@colusaumc.org
SUMMARY:Senior Spread Lunch 7-11-25
DESCRIPTION:Join us for the next Senior Spread\, a social lunch for Colusa senior citizens! \n2nd and 4th Fridays \nDoors open 11:00am \nLunch from 12:00pm to 1:00pm
URL:https://colusaumc.org/event/senior-spread-7-11-25/
LOCATION:Trinity\, 511 Oak Street\, Colusa\, CA\, 95932\, United States
CATEGORIES:Community
ATTACH;FMTTYPE=image/png:https://colusaumc.org/wp-content/uploads/bulletin_images/SeniorSpread_PlateLogo_Color-e1765385048603.png
END:VEVENT
BEGIN:VEVENT
DTSTART;TZID=America/Los_Angeles:20250701T183000
DTEND;TZID=America/Los_Angeles:20250701T200000
DTSTAMP:20260424T030214
CREATED:20250529T210652Z
LAST-MODIFIED:20250529T210652Z
UID:7908-1751394600-1751400000@colusaumc.org
SUMMARY:Growing in Faith 5 - 7-1-25
DESCRIPTION:Join us for six weeks of reflection and invitation. Growing in Faith is a short series inviting you to learn more about your own faith and our Methodist tradition.\nInfo & Registration Here
URL:https://colusaumc.org/event/growing-in-faith-5-7-1-25/
LOCATION:Trinity\, 511 Oak Street\, Colusa\, CA\, 95932\, United States
CATEGORIES:Class
ATTACH;FMTTYPE=image/png:https://colusaumc.org/wp-content/uploads/resources/TrinityArtisticWithGIFLogo_366x1600-e1725132621289.png
END:VEVENT
BEGIN:VEVENT
DTSTART;TZID=America/Los_Angeles:20250630T112000
DTEND;TZID=America/Los_Angeles:20250630T130000
DTSTAMP:20260424T030214
CREATED:20250529T183427Z
LAST-MODIFIED:20250529T183427Z
UID:7880-1751282400-1751288400@colusaumc.org
SUMMARY:Hand Up Lunch 6-30-25
DESCRIPTION:Mondays in June\, 11:20am\nmeets at Presbyterian Church\nsee Carolyn G. or Elizabeth Y. to help
URL:https://colusaumc.org/event/hand-up-lunch-6-30-25/
LOCATION:Presbyterian Church\, 261 Fourth Street\, Colusa\, CA\, 95932\, United States
CATEGORIES:Community
END:VEVENT
END:VCALENDAR