BEGIN:VCALENDAR
VERSION:2.0
PRODID:-//Trinity UMC, Colusa - ECPv6.15.20//NONSGML v1.0//EN
CALSCALE:GREGORIAN
METHOD:PUBLISH
X-WR-CALNAME:Trinity UMC, Colusa
X-ORIGINAL-URL:https://colusaumc.org
X-WR-CALDESC:Events for Trinity UMC, Colusa
REFRESH-INTERVAL;VALUE=DURATION:PT1H
X-Robots-Tag:noindex
X-PUBLISHED-TTL:PT1H
BEGIN:VTIMEZONE
TZID:America/Los_Angeles
BEGIN:DAYLIGHT
TZOFFSETFROM:-0800
TZOFFSETTO:-0700
TZNAME:PDT
DTSTART:20220313T100000
END:DAYLIGHT
BEGIN:STANDARD
TZOFFSETFROM:-0700
TZOFFSETTO:-0800
TZNAME:PST
DTSTART:20221106T090000
END:STANDARD
BEGIN:DAYLIGHT
TZOFFSETFROM:-0800
TZOFFSETTO:-0700
TZNAME:PDT
DTSTART:20230312T100000
END:DAYLIGHT
BEGIN:STANDARD
TZOFFSETFROM:-0700
TZOFFSETTO:-0800
TZNAME:PST
DTSTART:20231105T090000
END:STANDARD
BEGIN:DAYLIGHT
TZOFFSETFROM:-0800
TZOFFSETTO:-0700
TZNAME:PDT
DTSTART:20240310T100000
END:DAYLIGHT
BEGIN:STANDARD
TZOFFSETFROM:-0700
TZOFFSETTO:-0800
TZNAME:PST
DTSTART:20241103T090000
END:STANDARD
BEGIN:DAYLIGHT
TZOFFSETFROM:-0800
TZOFFSETTO:-0700
TZNAME:PDT
DTSTART:20250309T100000
END:DAYLIGHT
BEGIN:STANDARD
TZOFFSETFROM:-0700
TZOFFSETTO:-0800
TZNAME:PST
DTSTART:20251102T090000
END:STANDARD
END:VTIMEZONE
BEGIN:VEVENT
DTSTART;TZID=America/Los_Angeles:20240226T112000
DTEND;TZID=America/Los_Angeles:20240226T130000
DTSTAMP:20260425T032340
CREATED:20240112T130656Z
LAST-MODIFIED:20240313T010724Z
UID:6505-1708946400-1708952400@colusaumc.org
SUMMARY:Hand Up Lunch 2-26-24
DESCRIPTION:Mondays in February\, 11:20am\nmeets at Presbyterian Church\nsee Carolyn G. or Elizabeth Y. to help
URL:https://colusaumc.org/event/hand-up-lunch-2-26-24/
LOCATION:Presbyterian Church\, 261 Fourth Street\, Colusa\, CA\, 95932\, United States
CATEGORIES:Community
END:VEVENT
BEGIN:VEVENT
DTSTART;TZID=America/Los_Angeles:20240225T110000
DTEND;TZID=America/Los_Angeles:20240225T120000
DTSTAMP:20260425T032340
CREATED:20240219T015615Z
LAST-MODIFIED:20240313T005659Z
UID:6483-1708858800-1708862400@colusaumc.org
SUMMARY:Lenten Study 2 - 2-25-24
DESCRIPTION:Lent is a season of reconsideration\, fasting\, and preparation for the Easter. \nDuring Lent\, we are encouraged to reconsider what we think we know\, lay down our burdens\, and prepare for renewal. The season of Lent stretches from Ash Wednesday on February 14th to Holy Saturday on March 30th. The Lenten study runs on Sundays. (2/18\, 2/25\, 3/3\, 3/10\, 3/17\, 3/24) \nDrop in for any or all of our six Lenten Sunday scripture studies. Each study is about 45 minutes long. Reflection pages are provided each week. \nWe will meet in the lounge at Trinity following coffee hour on Sunday mornings. (511 Oak Street\, Colusa) Anyone may attend regardless of religious background\, belief\, Christian experience\, or church affiliation. Enjoy a lively discussion and snacks.
URL:https://colusaumc.org/event/lenten-study-2-2-25-24/
LOCATION:Trinity\, 511 Oak Street\, Colusa\, CA\, 95932\, United States
CATEGORIES:Bible Study
ATTACH;FMTTYPE=image/jpeg:https://colusaumc.org/wp-content/uploads/site/LentPurpleCross.jpg
END:VEVENT
BEGIN:VEVENT
DTSTART;TZID=America/Los_Angeles:20240225T090000
DTEND;TZID=America/Los_Angeles:20240225T093000
DTSTAMP:20260425T032340
CREATED:20240218T154205Z
LAST-MODIFIED:20240313T014313Z
UID:6518-1708851600-1708853400@colusaumc.org
SUMMARY:Easter Chime Choir Practice 2-25-24
DESCRIPTION:Easter Chime Choir\nEaster chime choir will again perform on Easter Sunday. \nRehearsals are Sunday mornings before service. Please contact Elizabeth Y. for more information.
URL:https://colusaumc.org/event/easter-chime-choir-practice-2-25-24/
LOCATION:Trinity\, 511 Oak Street\, Colusa\, CA\, 95932\, United States
CATEGORIES:Practice
ATTACH;FMTTYPE=image/png:https://colusaumc.org/wp-content/uploads/bulletin_images/FlowerChimes.png
END:VEVENT
BEGIN:VEVENT
DTSTART;TZID=America/Los_Angeles:20240219T112000
DTEND;TZID=America/Los_Angeles:20240219T130000
DTSTAMP:20260425T032340
CREATED:20240112T130500Z
LAST-MODIFIED:20240313T010638Z
UID:6500-1708341600-1708347600@colusaumc.org
SUMMARY:Hand Up Lunch 2-19-24
DESCRIPTION:Mondays in February\, 11:20am\nmeets at Presbyterian Church\nsee Carolyn G. or Elizabeth Y. to help
URL:https://colusaumc.org/event/hand-up-lunch-2-19-24/
LOCATION:Presbyterian Church\, 261 Fourth Street\, Colusa\, CA\, 95932\, United States
CATEGORIES:Community
END:VEVENT
BEGIN:VEVENT
DTSTART;TZID=America/Los_Angeles:20240218T110000
DTEND;TZID=America/Los_Angeles:20240218T120000
DTSTAMP:20260425T032340
CREATED:20240201T144820Z
LAST-MODIFIED:20240313T005559Z
UID:6481-1708254000-1708257600@colusaumc.org
SUMMARY:Lenten Study 1 - 2-18-24
DESCRIPTION:Lent is a season of reconsideration\, fasting\, and preparation for the Easter. \nDuring Lent\, we are encouraged to reconsider what we think we know\, lay down our burdens\, and prepare for renewal. The season of Lent stretches from Ash Wednesday on February 14th to Holy Saturday on March 30th. The Lenten study runs on Sundays. (2/18\, 2/25\, 3/3\, 3/10\, 3/17\, 3/24) \nDrop in for any or all of our six Lenten Sunday scripture studies. Each study is about 45 minutes long. Reflection pages are provided each week. \nWe will meet in the lounge at Trinity following coffee hour on Sunday mornings. (511 Oak Street\, Colusa) Anyone may attend regardless of religious background\, belief\, Christian experience\, or church affiliation. Enjoy a lively discussion and snacks.
URL:https://colusaumc.org/event/lenten-study-1-2-16-24/
LOCATION:Trinity\, 511 Oak Street\, Colusa\, CA\, 95932\, United States
CATEGORIES:Bible Study
ATTACH;FMTTYPE=image/jpeg:https://colusaumc.org/wp-content/uploads/site/LentPurpleCross.jpg
END:VEVENT
BEGIN:VEVENT
DTSTART;TZID=America/Los_Angeles:20240218T090000
DTEND;TZID=America/Los_Angeles:20240218T093000
DTSTAMP:20260425T032340
CREATED:20240202T043853Z
LAST-MODIFIED:20240313T014348Z
UID:6512-1708246800-1708248600@colusaumc.org
SUMMARY:Easter Chime Choir Practice 2-18-24
DESCRIPTION:Easter Chime Choir\nEaster chime choir will again perform on Easter Sunday. \nRehearsals are Sunday mornings before service. Please contact Elizabeth Y. for more information.
URL:https://colusaumc.org/event/easter-chime-choir-practice-2-18-24/
LOCATION:Trinity\, 511 Oak Street\, Colusa\, CA\, 95932\, United States
CATEGORIES:Practice
ATTACH;FMTTYPE=image/png:https://colusaumc.org/wp-content/uploads/bulletin_images/FlowerChimes.png
END:VEVENT
BEGIN:VEVENT
DTSTART;TZID=America/Los_Angeles:20240212T112000
DTEND;TZID=America/Los_Angeles:20240212T130000
DTSTAMP:20260425T032340
CREATED:20240112T130417Z
LAST-MODIFIED:20240313T010614Z
UID:6498-1707736800-1707742800@colusaumc.org
SUMMARY:Hand Up Lunch 2-12-24
DESCRIPTION:Mondays in February\, 11:20am\nmeets at Presbyterian Church\nsee Carolyn G. or Elizabeth Y. to help
URL:https://colusaumc.org/event/hand-up-lunch-2-12-24/
LOCATION:Presbyterian Church\, 261 Fourth Street\, Colusa\, CA\, 95932\, United States
CATEGORIES:Community
END:VEVENT
BEGIN:VEVENT
DTSTART;TZID=America/Los_Angeles:20240211T110000
DTEND;TZID=America/Los_Angeles:20240211T120000
DTSTAMP:20260425T032340
CREATED:20240313T010233Z
LAST-MODIFIED:20240313T010233Z
UID:6494-1707649200-1707652800@colusaumc.org
SUMMARY:Staff Parish Relations Committee 2-11-24
DESCRIPTION:closed meeting\, please contact Elizabeth Y. to learn about this committee \nSunday\, February 11th\nmeeting after coffee hour\nmeets in Sanctuary
URL:https://colusaumc.org/event/sprc-2-11-24/
LOCATION:Trinity\, 511 Oak Street\, Colusa\, CA\, 95932\, United States
CATEGORIES:Administrative
END:VEVENT
BEGIN:VEVENT
DTSTART;TZID=America/Los_Angeles:20240211T110000
DTEND;TZID=America/Los_Angeles:20240211T120000
DTSTAMP:20260425T032340
CREATED:20231209T182430Z
LAST-MODIFIED:20231209T182430Z
UID:6211-1707649200-1707652800@colusaumc.org
SUMMARY:Growing in Faith 6 - 2-11-24
DESCRIPTION:Join us for six weeks of reflection and invitation. Growing in Faith is a short series inviting you to learn more about your own faith and our Methodist tradition.\nInfo & Registration Here
URL:https://colusaumc.org/event/growing-in-faith-6-2-11-24/
LOCATION:Trinity\, 511 Oak Street\, Colusa\, CA\, 95932\, United States
CATEGORIES:Class
ATTACH;FMTTYPE=image/png:https://colusaumc.org/wp-content/uploads/2022/08/GrowingInFaith-1-scaled.png
END:VEVENT
BEGIN:VEVENT
DTSTART;TZID=America/Los_Angeles:20240205T112000
DTEND;TZID=America/Los_Angeles:20240205T130000
DTSTAMP:20260425T032340
CREATED:20240112T130257Z
LAST-MODIFIED:20240313T010559Z
UID:6496-1707132000-1707138000@colusaumc.org
SUMMARY:Hand Up Lunch 2-5-24
DESCRIPTION:Mondays in February\, 11:20am\nmeets at Presbyterian Church\nsee Carolyn G. or Elizabeth Y. to help
URL:https://colusaumc.org/event/hand-up-lunch-2-5-24/
LOCATION:Presbyterian Church\, 261 Fourth Street\, Colusa\, CA\, 95932\, United States
CATEGORIES:Community
END:VEVENT
BEGIN:VEVENT
DTSTART;TZID=America/Los_Angeles:20240204T110000
DTEND;TZID=America/Los_Angeles:20240204T120000
DTSTAMP:20260425T032340
CREATED:20231209T182539Z
LAST-MODIFIED:20231209T182539Z
UID:6214-1707044400-1707048000@colusaumc.org
SUMMARY:Growing in Faith 5 - 2-4-24
DESCRIPTION:Join us for six weeks of reflection and invitation. Growing in Faith is a short series inviting you to learn more about your own faith and our Methodist tradition.\nInfo & Registration Here
URL:https://colusaumc.org/event/growing-in-faith-5-2-4-24/
LOCATION:Trinity\, 511 Oak Street\, Colusa\, CA\, 95932\, United States
CATEGORIES:Class
ATTACH;FMTTYPE=image/png:https://colusaumc.org/wp-content/uploads/2022/08/GrowingInFaith-1-scaled.png
END:VEVENT
BEGIN:VEVENT
DTSTART;TZID=America/Los_Angeles:20240128T110000
DTEND;TZID=America/Los_Angeles:20240128T120000
DTSTAMP:20260425T032340
CREATED:20231209T182632Z
LAST-MODIFIED:20231209T182632Z
UID:6216-1706439600-1706443200@colusaumc.org
SUMMARY:Growing in Faith 4 - 1-28-24
DESCRIPTION:Join us for six weeks of reflection and invitation. Growing in Faith is a short series inviting you to learn more about your own faith and our Methodist tradition.\nInfo & Registration Here
URL:https://colusaumc.org/event/growing-in-faith-4-1-28-24/
LOCATION:Trinity\, 511 Oak Street\, Colusa\, CA\, 95932\, United States
CATEGORIES:Class
ATTACH;FMTTYPE=image/png:https://colusaumc.org/wp-content/uploads/2022/08/GrowingInFaith-1-scaled.png
END:VEVENT
BEGIN:VEVENT
DTSTART;TZID=America/Los_Angeles:20240121T110000
DTEND;TZID=America/Los_Angeles:20240121T120000
DTSTAMP:20260425T032340
CREATED:20231209T182720Z
LAST-MODIFIED:20231209T182720Z
UID:6219-1705834800-1705838400@colusaumc.org
SUMMARY:Growing in Faith 3 - 1-21-24
DESCRIPTION:Join us for six weeks of reflection and invitation. Growing in Faith is a short series inviting you to learn more about your own faith and our Methodist tradition.\nInfo & Registration Here
URL:https://colusaumc.org/event/growing-in-faith-3-1-21-24/
LOCATION:Trinity\, 511 Oak Street\, Colusa\, CA\, 95932\, United States
CATEGORIES:Class
ATTACH;FMTTYPE=image/png:https://colusaumc.org/wp-content/uploads/2022/08/GrowingInFaith-1-scaled.png
END:VEVENT
BEGIN:VEVENT
DTSTART;TZID=America/Los_Angeles:20240121T110000
DTEND;TZID=America/Los_Angeles:20240121T114500
DTSTAMP:20260425T032340
CREATED:20231221T020744Z
LAST-MODIFIED:20240313T010922Z
UID:6507-1705834800-1705837500@colusaumc.org
SUMMARY:Trustees Committee 1-21-24
DESCRIPTION:open to members\, please contact Mardel S. or Nancy L. to learn about this committee \nSunday\, January 21st\nmeeting after coffee hour-ish\nmeets in Lounge
URL:https://colusaumc.org/event/trustees-committee-1-21-24/
LOCATION:Trinity\, 511 Oak Street\, Colusa\, CA\, 95932\, United States
CATEGORIES:Administrative
END:VEVENT
BEGIN:VEVENT
DTSTART;TZID=America/Los_Angeles:20240114T110000
DTEND;TZID=America/Los_Angeles:20240114T120000
DTSTAMP:20260425T032340
CREATED:20231209T182807Z
LAST-MODIFIED:20231209T182807Z
UID:6221-1705230000-1705233600@colusaumc.org
SUMMARY:Growing in Faith 2 - 1-14-24
DESCRIPTION:Join us for six weeks of reflection and invitation. Growing in Faith is a short series inviting you to learn more about your own faith and our Methodist tradition.\nInfo & Registration Here
URL:https://colusaumc.org/event/growing-in-faith-2-1-14-24/
LOCATION:Trinity\, 511 Oak Street\, Colusa\, CA\, 95932\, United States
CATEGORIES:Class
ATTACH;FMTTYPE=image/png:https://colusaumc.org/wp-content/uploads/2022/08/GrowingInFaith-1-scaled.png
END:VEVENT
BEGIN:VEVENT
DTSTART;TZID=America/Los_Angeles:20240114T110000
DTEND;TZID=America/Los_Angeles:20240114T120000
DTSTAMP:20260425T032340
CREATED:20231202T031433Z
LAST-MODIFIED:20240313T011717Z
UID:6509-1705230000-1705233600@colusaumc.org
SUMMARY:Ad Council 1-14-24
DESCRIPTION:all members are encouraged to attend this business meeting \nSunday\, January 14th\n11:00am\nmeets in Lounge after worship
URL:https://colusaumc.org/event/ad-council-conference-1-14-24/
LOCATION:Trinity\, 511 Oak Street\, Colusa\, CA\, 95932\, United States
CATEGORIES:Administrative
END:VEVENT
BEGIN:VEVENT
DTSTART;TZID=America/Los_Angeles:20240107T110000
DTEND;TZID=America/Los_Angeles:20240107T120000
DTSTAMP:20260425T032340
CREATED:20231209T183157Z
LAST-MODIFIED:20231209T183157Z
UID:6223-1704625200-1704628800@colusaumc.org
SUMMARY:Growing in Faith 1 - 2-7-24
DESCRIPTION:Join us for six weeks of reflection and invitation. Growing in Faith is a short series inviting you to learn more about your own faith and our Methodist tradition.\nInfo & Registration Here
URL:https://colusaumc.org/event/growing-in-faith-1-2-7-24/
LOCATION:Trinity\, 511 Oak Street\, Colusa\, CA\, 95932\, United States
CATEGORIES:Class
ATTACH;FMTTYPE=image/png:https://colusaumc.org/wp-content/uploads/2022/08/GrowingInFaith-1-scaled.png
END:VEVENT
BEGIN:VEVENT
DTSTART;VALUE=DATE:20240101
DTEND;VALUE=DATE:20250101
DTSTAMP:20260425T032340
CREATED:20240101T080141Z
LAST-MODIFIED:20240313T020659Z
UID:6535-1704067200-1735689599@colusaumc.org
SUMMARY:Covenant Prayer - 2024
DESCRIPTION:Weekly\, Multiple Groups\nTimes Vary \nLearn More: Covenant Prayer Group \nWhen you are ready to step into a regular practice of reflection and study\, one path to explore is our Covenant Prayer Group. Covenant Prayer Group is Trinity’s Wesleyan Class Meeting. \nEach week we spend a few minutes reflecting on how we each are doing living out in the world the things we claim to believe in the pews. We then spend some time searching the scripture we will encounter in Sunday worship. These are small\, confidential groups.
URL:https://colusaumc.org/event/covenant-prayer-2024/
LOCATION:Trinity\, 511 Oak Street\, Colusa\, CA\, 95932\, United States
CATEGORIES:Bible Study,Practice
ATTACH;FMTTYPE=image/png:https://colusaumc.org/wp-content/uploads/bulletin_images/CovenantPrayer-1-scaled.png
END:VEVENT
BEGIN:VEVENT
DTSTART;TZID=America/Los_Angeles:20231225T120000
DTEND;TZID=America/Los_Angeles:20231225T130000
DTSTAMP:20260425T032340
CREATED:20231216T175655Z
LAST-MODIFIED:20231216T175655Z
UID:6241-1703505600-1703509200@colusaumc.org
SUMMARY:Yuletide Dinner 2023
DESCRIPTION:Yuletide Dinner Service\n12 pm – 1 pm\nall are welcome \nJoin us Christmas Day for a mid-day\, community meal celebrating the birth of Jesus. We will serve dinner in Friendship Hall on the Oak Street side of the church and deliver meals to the housebound upon request. \nVolunteers are needed to make holiday foods\, set up\, serve\, package for delivery\, drive meals around town\, and clean up. All help is welcome. All are welcome to drop in and eat. \n  \n    \n  \n 
URL:https://colusaumc.org/event/yuletide-dinner-2023/
LOCATION:Trinity\, 511 Oak Street\, Colusa\, CA\, 95932\, United States
CATEGORIES:Community
ATTACH;FMTTYPE=image/jpeg:https://colusaumc.org/wp-content/uploads/site/58ed82726c32f.image_.jpg
END:VEVENT
BEGIN:VEVENT
DTSTART;TZID=America/Los_Angeles:20231217T110000
DTEND;TZID=America/Los_Angeles:20231217T120000
DTSTAMP:20260425T032340
CREATED:20231208T150051Z
LAST-MODIFIED:20231209T181903Z
UID:5881-1702810800-1702814400@colusaumc.org
SUMMARY:Advent Study 3 - 12-17-23
DESCRIPTION:Advent invites you to hope\, peace\, joy\, love (and faith.) \n(Advent Sunday is December 3rd. This year’s drop-in study will run on December 3rd\, 10th and 17th. A personal study guide will be available November 26th for those wishing to follow an All-Advent devotional.) \nAdvent marks the first season of the Christian year preparing us for Christmas. It is a time of anticipation and spiritual preparation for the birth of the light into the world during the darkest of times. \nThis year’s drop-in Study will be on the first\, second and third Sundays of Advent after worship. Each study is about 45 minutes long. Reflection pages are provided each week. \nWe will meet in the lounge at Trinity following coffee hour on Sunday mornings. (511 Oak Street\, Colusa) Anyone may attend regardless religious background\, belief\, Christian experience\, or church affiliation. Enjoy a lively discussion and snacks
URL:https://colusaumc.org/event/advent-study-3-12-17-23/
LOCATION:Trinity\, 511 Oak Street\, Colusa\, CA\, 95932\, United States
CATEGORIES:Bible Study
ATTACH;FMTTYPE=image/png:https://colusaumc.org/wp-content/uploads/bulletin_images/Advent1a-1-e1694818370330.png
END:VEVENT
BEGIN:VEVENT
DTSTART;TZID=America/Los_Angeles:20231210T190000
DTEND;TZID=America/Los_Angeles:20231210T203000
DTSTAMP:20260425T032340
CREATED:20231205T233042Z
LAST-MODIFIED:20231209T182251Z
UID:5872-1702234800-1702240200@colusaumc.org
SUMMARY:Christmas Choir Performance 12-10-23
DESCRIPTION:Christmas Choir\nChristmas choir will again perform at several Colusa County locations\, including Trinity\, on December 7th\, 8th\, and 10th! \nThursday\, December 7th\, 7 pm in Arbuckle; \nFriday\, December 8th\, 7 pm in Grimes; \nSunday\, December 10th\, 7 pm in Colusa at Trinity.
URL:https://colusaumc.org/event/christmas-choir-12-10-23/
LOCATION:CA
CATEGORIES:Community,Performance,Special Sacred
ATTACH;FMTTYPE=image/png:https://colusaumc.org/wp-content/uploads/bulletin_images/2212_ChristmasChoir_Crop-1-e1694813990300.png
END:VEVENT
BEGIN:VEVENT
DTSTART;TZID=America/Los_Angeles:20231210T110000
DTEND;TZID=America/Los_Angeles:20231210T120000
DTSTAMP:20260425T032340
CREATED:20230915T225750Z
LAST-MODIFIED:20231209T181926Z
UID:5878-1702206000-1702209600@colusaumc.org
SUMMARY:Advent Study 2 - 12-10-23
DESCRIPTION:Advent invites you to hope\, peace\, joy\, love (and faith.) \n(Advent Sunday is December 3rd. This year’s drop-in study will run on December 3rd\, 10th and 17th. A personal study guide will be available November 26th for those wishing to follow an All-Advent devotional.) \nAdvent marks the first season of the Christian year preparing us for Christmas. It is a time of anticipation and spiritual preparation for the birth of the light into the world during the darkest of times. \nThis year’s drop-in Study will be on the first\, second and third Sundays of Advent after worship. Each study is about 45 minutes long. Reflection pages are provided each week. \nWe will meet in the lounge at Trinity following coffee hour on Sunday mornings. (511 Oak Street\, Colusa) Anyone may attend regardless religious background\, belief\, Christian experience\, or church affiliation. Enjoy a lively discussion and snacks
URL:https://colusaumc.org/event/advent-study-2-12-10-23/
LOCATION:Trinity\, 511 Oak Street\, Colusa\, CA\, 95932\, United States
CATEGORIES:Bible Study
ATTACH;FMTTYPE=image/png:https://colusaumc.org/wp-content/uploads/bulletin_images/Advent1a-1-e1694818370330.png
END:VEVENT
BEGIN:VEVENT
DTSTART;TZID=America/Los_Angeles:20231208T190000
DTEND;TZID=America/Los_Angeles:20231208T203000
DTSTAMP:20260425T032340
CREATED:20230909T000046Z
LAST-MODIFIED:20231209T182123Z
UID:5869-1702062000-1702067400@colusaumc.org
SUMMARY:Christmas Choir Performance 12-8-23
DESCRIPTION:Christmas Choir\nChristmas choir will again perform at several Colusa County locations\, including Trinity\, on December 7th\, 8th\, and 10th! \nThursday\, December 7th\, 7 pm in Arbuckle; \nFriday\, December 8th\, 7 pm in Grimes; \nSunday\, December 10th\, 7 pm in Colusa at Trinity.
URL:https://colusaumc.org/event/christmas-choir-12-8-23/
LOCATION:CA
CATEGORIES:Community,Performance,Special Sacred
ATTACH;FMTTYPE=image/png:https://colusaumc.org/wp-content/uploads/bulletin_images/2212_ChristmasChoir_Crop-1-e1694813990300.png
END:VEVENT
BEGIN:VEVENT
DTSTART;TZID=America/Los_Angeles:20231207T190000
DTEND;TZID=America/Los_Angeles:20231207T203000
DTSTAMP:20260425T032340
CREATED:20230908T000047Z
LAST-MODIFIED:20231209T181618Z
UID:5867-1701975600-1701981000@colusaumc.org
SUMMARY:Christmas Choir Performance 12-7-23
DESCRIPTION:Christmas Choir\nChristmas choir will again perform at several Colusa County locations\, including Trinity\, on December 7th\, 8th\, and 10th! \nThursday\, December 7th\, 7 pm in Arbuckle; \nFriday\, December 8th\, 7 pm in Grimes; \nSunday\, December 10th\, 7 pm in Colusa at Trinity.
URL:https://colusaumc.org/event/christmas-choir-12-7-23/
LOCATION:CA
CATEGORIES:Community,Performance,Special Sacred
ATTACH;FMTTYPE=image/png:https://colusaumc.org/wp-content/uploads/bulletin_images/2212_ChristmasChoir_Crop-1-e1694813990300.png
END:VEVENT
BEGIN:VEVENT
DTSTART;TZID=America/Los_Angeles:20231206T180000
DTEND;TZID=America/Los_Angeles:20231206T193000
DTSTAMP:20260425T032340
CREATED:20230915T221811Z
LAST-MODIFIED:20231007T172250Z
UID:5861-1701885600-1701891000@colusaumc.org
SUMMARY:Christmas Choir Practice 12-6-23
DESCRIPTION:Christmas Choir\nChristmas choir will again perform at several Colusa County locations\, including Trinity\, on December 7th\, 8th\, and 10th. \nRehearsals are Wednesday nights starting October 11th. Please contact Elizabeth Y. for more information.
URL:https://colusaumc.org/event/christmas-choir-practice-12-6-23/
LOCATION:Trinity\, 511 Oak Street\, Colusa\, CA\, 95932\, United States
CATEGORIES:Practice
ATTACH;FMTTYPE=image/png:https://colusaumc.org/wp-content/uploads/bulletin_images/2212_ChristmasChoir_Crop-1-e1694813990300.png
END:VEVENT
BEGIN:VEVENT
DTSTART;TZID=America/Los_Angeles:20231205T180000
DTEND;TZID=America/Los_Angeles:20231205T193000
DTSTAMP:20260425T032340
CREATED:20230908T000035Z
LAST-MODIFIED:20231209T181341Z
UID:5862-1701799200-1701804600@colusaumc.org
SUMMARY:Christmas Choir Practice 12-5-23
DESCRIPTION:Christmas Choir\nChristmas choir practice and dress rehearsal to be held in Arbuckle. Please see Elizabeth Y. for more info!
URL:https://colusaumc.org/event/christmas-choir-practice-12-5-23/
LOCATION:Trinity\, 511 Oak Street\, Colusa\, CA\, 95932\, United States
CATEGORIES:Practice
ATTACH;FMTTYPE=image/png:https://colusaumc.org/wp-content/uploads/bulletin_images/2212_ChristmasChoir_Crop-1-e1694813990300.png
END:VEVENT
BEGIN:VEVENT
DTSTART;TZID=America/Los_Angeles:20231203T110000
DTEND;TZID=America/Los_Angeles:20231203T120000
DTSTAMP:20260425T032340
CREATED:20231120T141708Z
LAST-MODIFIED:20231209T182116Z
UID:6205-1701601200-1701604800@colusaumc.org
SUMMARY:Advent Study 1 - 12-3-23
DESCRIPTION:Advent invites you to hope\, peace\, joy\, love (and faith.) \n(Advent Sunday is December 3rd. This year’s drop-in study will run on December 3rd\, 10th and 17th. A personal study guide will be available November 26th for those wishing to follow an All-Advent devotional.) \nAdvent marks the first season of the Christian year preparing us for Christmas. It is a time of anticipation and spiritual preparation for the birth of the light into the world during the darkest of times. \nThis year’s drop-in Study will be on the first\, second and third Sundays of Advent after worship. Each study is about 45 minutes long. Reflection pages are provided each week. \nWe will meet in the lounge at Trinity following coffee hour on Sunday mornings. (511 Oak Street\, Colusa) Anyone may attend regardless religious background\, belief\, Christian experience\, or church affiliation. Enjoy a lively discussion and snacks
URL:https://colusaumc.org/event/advent-study-1-12-3-23/
LOCATION:Trinity\, 511 Oak Street\, Colusa\, CA\, 95932\, United States
CATEGORIES:Bible Study
ATTACH;FMTTYPE=image/png:https://colusaumc.org/wp-content/uploads/bulletin_images/Advent1a-1-e1694818370330.png
END:VEVENT
BEGIN:VEVENT
DTSTART;TZID=America/Los_Angeles:20231129T180000
DTEND;TZID=America/Los_Angeles:20231129T193000
DTSTAMP:20260425T032340
CREATED:20230915T221449Z
LAST-MODIFIED:20231007T172312Z
UID:5860-1701280800-1701286200@colusaumc.org
SUMMARY:Christmas Choir Practice 11-29-23
DESCRIPTION:Christmas Choir\nChristmas choir will again perform at several Colusa County locations\, including Trinity\, on December 7th\, 8th\, and 10th. \nRehearsals are Wednesday nights starting October 11th. Please contact Elizabeth Y. for more information.
URL:https://colusaumc.org/event/christmas-choir-practice-11-29-23/
LOCATION:Trinity\, 511 Oak Street\, Colusa\, CA\, 95932\, United States
CATEGORIES:Practice
ATTACH;FMTTYPE=image/png:https://colusaumc.org/wp-content/uploads/bulletin_images/2212_ChristmasChoir_Crop-1-e1694813990300.png
END:VEVENT
BEGIN:VEVENT
DTSTART;TZID=America/Los_Angeles:20231126T093000
DTEND;TZID=America/Los_Angeles:20231126T120000
DTSTAMP:20260425T032340
CREATED:20230915T225309Z
LAST-MODIFIED:20230915T225309Z
UID:5875-1700991000-1701000000@colusaumc.org
SUMMARY:Advent Study 2023 Devotional Pickup
DESCRIPTION:Advent invites you to hope\, peace\, joy\, love (and faith.) \nAdvent Sunday is December 3rd. A personal study guide will be available November 26th for those wishing to follow an All-Advent devotional. \nAdvent marks the first season of the Christian year preparing us for Christmas. It is a time of anticipation and spiritual preparation for the birth of the light into the world during the darkest of times.
URL:https://colusaumc.org/event/2023-advent-devotional-pickup/
LOCATION:Trinity\, 511 Oak Street\, Colusa\, CA\, 95932\, United States
CATEGORIES:Pickup
ATTACH;FMTTYPE=image/png:https://colusaumc.org/wp-content/uploads/bulletin_images/Advent1a-1-e1694818370330.png
END:VEVENT
BEGIN:VEVENT
DTSTART;TZID=America/Los_Angeles:20231122T180000
DTEND;TZID=America/Los_Angeles:20231122T193000
DTSTAMP:20260425T032340
CREATED:20230915T221333Z
LAST-MODIFIED:20231007T172346Z
UID:5858-1700676000-1700681400@colusaumc.org
SUMMARY:Christmas Choir Practice 11-22-23
DESCRIPTION:Christmas Choir\nChristmas choir will again perform at several Colusa County locations\, including Trinity\, on December 7th\, 8th\, and 10th. \nRehearsals are Wednesday nights starting October 11th. Please contact Elizabeth Y. for more information.
URL:https://colusaumc.org/event/christmas-choir-practice-11-22-23/
LOCATION:Trinity\, 511 Oak Street\, Colusa\, CA\, 95932\, United States
CATEGORIES:Practice
ATTACH;FMTTYPE=image/png:https://colusaumc.org/wp-content/uploads/bulletin_images/2212_ChristmasChoir_Crop-1-e1694813990300.png
END:VEVENT
END:VCALENDAR