BEGIN:VCALENDAR
VERSION:2.0
PRODID:-//Trinity UMC, Colusa - ECPv6.15.20//NONSGML v1.0//EN
CALSCALE:GREGORIAN
METHOD:PUBLISH
X-ORIGINAL-URL:https://colusaumc.org
X-WR-CALDESC:Events for Trinity UMC, Colusa
REFRESH-INTERVAL;VALUE=DURATION:PT1H
X-Robots-Tag:noindex
X-PUBLISHED-TTL:PT1H
BEGIN:VTIMEZONE
TZID:America/Los_Angeles
BEGIN:DAYLIGHT
TZOFFSETFROM:-0800
TZOFFSETTO:-0700
TZNAME:PDT
DTSTART:20230312T100000
END:DAYLIGHT
BEGIN:STANDARD
TZOFFSETFROM:-0700
TZOFFSETTO:-0800
TZNAME:PST
DTSTART:20231105T090000
END:STANDARD
BEGIN:DAYLIGHT
TZOFFSETFROM:-0800
TZOFFSETTO:-0700
TZNAME:PDT
DTSTART:20240310T100000
END:DAYLIGHT
BEGIN:STANDARD
TZOFFSETFROM:-0700
TZOFFSETTO:-0800
TZNAME:PST
DTSTART:20241103T090000
END:STANDARD
BEGIN:DAYLIGHT
TZOFFSETFROM:-0800
TZOFFSETTO:-0700
TZNAME:PDT
DTSTART:20250309T100000
END:DAYLIGHT
BEGIN:STANDARD
TZOFFSETFROM:-0700
TZOFFSETTO:-0800
TZNAME:PST
DTSTART:20251102T090000
END:STANDARD
END:VTIMEZONE
BEGIN:VEVENT
DTSTART;VALUE=DATE:20240101
DTEND;VALUE=DATE:20250101
DTSTAMP:20260424T211511
CREATED:20240101T080141Z
LAST-MODIFIED:20240313T020659Z
UID:6535-1704067200-1735689599@colusaumc.org
SUMMARY:Covenant Prayer - 2024
DESCRIPTION:Weekly\, Multiple Groups\nTimes Vary \nLearn More: Covenant Prayer Group \nWhen you are ready to step into a regular practice of reflection and study\, one path to explore is our Covenant Prayer Group. Covenant Prayer Group is Trinity’s Wesleyan Class Meeting. \nEach week we spend a few minutes reflecting on how we each are doing living out in the world the things we claim to believe in the pews. We then spend some time searching the scripture we will encounter in Sunday worship. These are small\, confidential groups.
URL:https://colusaumc.org/event/covenant-prayer-2024/
LOCATION:Trinity\, 511 Oak Street\, Colusa\, CA\, 95932\, United States
CATEGORIES:Bible Study,Practice
ATTACH;FMTTYPE=image/png:https://colusaumc.org/wp-content/uploads/bulletin_images/CovenantPrayer-1-scaled.png
END:VEVENT
BEGIN:VEVENT
DTSTART;TZID=America/Los_Angeles:20240902T173000
DTEND;TZID=America/Los_Angeles:20240902T183000
DTSTAMP:20260424T211511
CREATED:20240822T180844Z
LAST-MODIFIED:20240822T194405Z
UID:7100-1725298200-1725301800@colusaumc.org
SUMMARY:Growing in Faith 1 - 9-2-24
DESCRIPTION:Join us for six weeks of reflection and invitation. Growing in Faith is a short series inviting you to learn more about your own faith and our Methodist tradition.\nInfo & Registration Here
URL:https://colusaumc.org/event/growing-in-faith-1-9-2-24/
LOCATION:Trinity\, 511 Oak Street\, Colusa\, CA\, 95932\, United States
CATEGORIES:Class
ATTACH;FMTTYPE=image/png:https://colusaumc.org/wp-content/uploads/resources/TrinityArtisticWithGIFLogo_366x1600-e1725132621289.png
END:VEVENT
BEGIN:VEVENT
DTSTART;TZID=America/Los_Angeles:20240909T173000
DTEND;TZID=America/Los_Angeles:20240909T183000
DTSTAMP:20260424T211511
CREATED:20240822T181213Z
LAST-MODIFIED:20240822T194346Z
UID:7102-1725903000-1725906600@colusaumc.org
SUMMARY:Growing in Faith 2 - 9-9-24
DESCRIPTION:Join us for six weeks of reflection and invitation. Growing in Faith is a short series inviting you to learn more about your own faith and our Methodist tradition.\nInfo & Registration Here
URL:https://colusaumc.org/event/growing-in-faith-2-9-9-24/
LOCATION:Trinity\, 511 Oak Street\, Colusa\, CA\, 95932\, United States
CATEGORIES:Class
ATTACH;FMTTYPE=image/png:https://colusaumc.org/wp-content/uploads/resources/TrinityArtisticWithGIFLogo_366x1600-e1725132621289.png
END:VEVENT
BEGIN:VEVENT
DTSTART;TZID=America/Los_Angeles:20240916T173000
DTEND;TZID=America/Los_Angeles:20240916T183000
DTSTAMP:20260424T211511
CREATED:20240822T181335Z
LAST-MODIFIED:20240822T194327Z
UID:7103-1726507800-1726511400@colusaumc.org
SUMMARY:Growing in Faith 3 - 9-16-24
DESCRIPTION:Join us for six weeks of reflection and invitation. Growing in Faith is a short series inviting you to learn more about your own faith and our Methodist tradition.\nInfo & Registration Here
URL:https://colusaumc.org/event/growing-in-faith-3-9-16-24/
LOCATION:Trinity\, 511 Oak Street\, Colusa\, CA\, 95932\, United States
CATEGORIES:Class
ATTACH;FMTTYPE=image/png:https://colusaumc.org/wp-content/uploads/resources/TrinityArtisticWithGIFLogo_366x1600-e1725132621289.png
END:VEVENT
BEGIN:VEVENT
DTSTART;VALUE=DATE:20240917
DTEND;VALUE=DATE:20240918
DTSTAMP:20260424T211511
CREATED:20240829T000835Z
LAST-MODIFIED:20241127T013120Z
UID:7136-1726531200-1726617599@colusaumc.org
SUMMARY:Save the Date: 2025 Senior Activity Pre-Planning 9-17-24
DESCRIPTION:this is a closed business meeting \nSave the date for a pre-planning meeting for 2025 senior activities for committee chairs and finance. \nSeptember 17th\, 2024\ntime: TBD\nmeets in Parlor after worship
URL:https://colusaumc.org/event/senior-planning-9-17-24/
LOCATION:Trinity\, 511 Oak Street\, Colusa\, CA\, 95932\, United States
CATEGORIES:Administrative
END:VEVENT
BEGIN:VEVENT
DTSTART;TZID=America/Los_Angeles:20240922T113000
DTEND;TZID=America/Los_Angeles:20240922T123000
DTSTAMP:20260424T211511
CREATED:20240822T180241Z
LAST-MODIFIED:20240822T180241Z
UID:7088-1727004600-1727008200@colusaumc.org
SUMMARY:Staff Parish Relations Committee 9-22-24
DESCRIPTION:closed meeting\, please contact Elizabeth Y. to learn about this committee \nSunday\, September 22\, 2024\nmeet in the parlor after coffee hour
URL:https://colusaumc.org/event/sprc-9-22-24/
LOCATION:Trinity\, 511 Oak Street\, Colusa\, CA\, 95932\, United States
CATEGORIES:Administrative
END:VEVENT
BEGIN:VEVENT
DTSTART;TZID=America/Los_Angeles:20240923T173000
DTEND;TZID=America/Los_Angeles:20240923T183000
DTSTAMP:20260424T211511
CREATED:20240822T181412Z
LAST-MODIFIED:20240822T194312Z
UID:7104-1727112600-1727116200@colusaumc.org
SUMMARY:Growing in Faith 4 - 9-23-24
DESCRIPTION:Join us for six weeks of reflection and invitation. Growing in Faith is a short series inviting you to learn more about your own faith and our Methodist tradition.\nInfo & Registration Here
URL:https://colusaumc.org/event/growing-in-faith-4-9-23-24/
LOCATION:Trinity\, 511 Oak Street\, Colusa\, CA\, 95932\, United States
CATEGORIES:Class
ATTACH;FMTTYPE=image/png:https://colusaumc.org/wp-content/uploads/resources/TrinityArtisticWithGIFLogo_366x1600-e1725132621289.png
END:VEVENT
BEGIN:VEVENT
DTSTART;TZID=America/Los_Angeles:20240930T173000
DTEND;TZID=America/Los_Angeles:20240930T183000
DTSTAMP:20260424T211511
CREATED:20240822T181511Z
LAST-MODIFIED:20240831T193039Z
UID:7105-1727717400-1727721000@colusaumc.org
SUMMARY:Growing in Faith 5 - 9-30-24
DESCRIPTION:Join us for six weeks of reflection and invitation. Growing in Faith is a short series inviting you to learn more about your own faith and our Methodist tradition.\nInfo & Registration Here
URL:https://colusaumc.org/event/growing-in-faith-5-9-30-24/
LOCATION:Trinity\, 511 Oak Street\, Colusa\, CA\, 95932\, United States
CATEGORIES:Class
ATTACH;FMTTYPE=image/png:https://colusaumc.org/wp-content/uploads/resources/TrinityArtisticWithGIFLogo_366x1600-e1725132621289.png
END:VEVENT
END:VCALENDAR