BEGIN:VCALENDAR
VERSION:2.0
PRODID:-//Trinity UMC, Colusa - ECPv6.15.20//NONSGML v1.0//EN
CALSCALE:GREGORIAN
METHOD:PUBLISH
X-ORIGINAL-URL:https://colusaumc.org
X-WR-CALDESC:Events for Trinity UMC, Colusa
REFRESH-INTERVAL;VALUE=DURATION:PT1H
X-Robots-Tag:noindex
X-PUBLISHED-TTL:PT1H
BEGIN:VTIMEZONE
TZID:America/Los_Angeles
BEGIN:DAYLIGHT
TZOFFSETFROM:-0800
TZOFFSETTO:-0700
TZNAME:PDT
DTSTART:20240310T100000
END:DAYLIGHT
BEGIN:STANDARD
TZOFFSETFROM:-0700
TZOFFSETTO:-0800
TZNAME:PST
DTSTART:20241103T090000
END:STANDARD
BEGIN:DAYLIGHT
TZOFFSETFROM:-0800
TZOFFSETTO:-0700
TZNAME:PDT
DTSTART:20250309T100000
END:DAYLIGHT
BEGIN:STANDARD
TZOFFSETFROM:-0700
TZOFFSETTO:-0800
TZNAME:PST
DTSTART:20251102T090000
END:STANDARD
BEGIN:DAYLIGHT
TZOFFSETFROM:-0800
TZOFFSETTO:-0700
TZNAME:PDT
DTSTART:20260308T100000
END:DAYLIGHT
BEGIN:STANDARD
TZOFFSETFROM:-0700
TZOFFSETTO:-0800
TZNAME:PST
DTSTART:20261101T090000
END:STANDARD
END:VTIMEZONE
BEGIN:VEVENT
DTSTART;TZID=America/Los_Angeles:20250202T111500
DTEND;TZID=America/Los_Angeles:20250202T121500
DTSTAMP:20260424T131509
CREATED:20241126T230224Z
LAST-MODIFIED:20250226T204139Z
UID:7357-1738494900-1738498500@colusaumc.org
SUMMARY:Executive Committee & Trustees 2-2-25
DESCRIPTION:all members are encouraged to attend this business meeting \nThe Executive Committee is a regular\, combined coordination meeting that includes Trustees\, Ad Council\, Finance\, and Memorials committees. \nCommunion Sunday\, Even Months\n11:15 am\nmeets in Parlor after worship
URL:https://colusaumc.org/event/excom-2-2-25/
LOCATION:Trinity\, 511 Oak Street\, Colusa\, CA\, 95932\, United States
CATEGORIES:Administrative
END:VEVENT
BEGIN:VEVENT
DTSTART;TZID=America/Los_Angeles:20250203T112000
DTEND;TZID=America/Los_Angeles:20250203T130000
DTSTAMP:20260424T131509
CREATED:20241226T201232Z
LAST-MODIFIED:20250226T203040Z
UID:7577-1738581600-1738587600@colusaumc.org
SUMMARY:Hand Up Lunch 2-3-25
DESCRIPTION:Mondays in October\, 11:20am\nmeets at Presbyterian Church\nsee Carolyn G. or Elizabeth Y. to help
URL:https://colusaumc.org/event/hand-up-lunch-2-3-25/
LOCATION:Presbyterian Church\, 261 Fourth Street\, Colusa\, CA\, 95932\, United States
CATEGORIES:Community
END:VEVENT
BEGIN:VEVENT
DTSTART;TZID=America/Los_Angeles:20250209T111500
DTEND;TZID=America/Los_Angeles:20250209T121500
DTSTAMP:20260424T131509
CREATED:20250202T223515Z
LAST-MODIFIED:20250226T204102Z
UID:7629-1739099700-1739103300@colusaumc.org
SUMMARY:Trustees (Follow On Meeting) 2-9-25
DESCRIPTION:Open Meeting \nTrustees have some additional items from last week that should take 15 minutes to cover. All Trustees should attend. \nPlease speak with Lara K. if you have any questions. \n11:15 am\nmeets in Parlor after worship
URL:https://colusaumc.org/event/excom-2-9-25/
LOCATION:Trinity\, 511 Oak Street\, Colusa\, CA\, 95932\, United States
CATEGORIES:Administrative
END:VEVENT
BEGIN:VEVENT
DTSTART;TZID=America/Los_Angeles:20250210T112000
DTEND;TZID=America/Los_Angeles:20250210T130000
DTSTAMP:20260424T131509
CREATED:20250126T201231Z
LAST-MODIFIED:20250226T203124Z
UID:7578-1739186400-1739192400@colusaumc.org
SUMMARY:Hand Up Lunch 2-10-25
DESCRIPTION:Mondays in October\, 11:20am\nmeets at Presbyterian Church\nsee Carolyn G. or Elizabeth Y. to help
URL:https://colusaumc.org/event/hand-up-lunch-2-10-25/
LOCATION:Presbyterian Church\, 261 Fourth Street\, Colusa\, CA\, 95932\, United States
CATEGORIES:Community
END:VEVENT
BEGIN:VEVENT
DTSTART;TZID=America/Los_Angeles:20250210T173000
DTEND;TZID=America/Los_Angeles:20250210T180000
DTSTAMP:20260424T131509
CREATED:20250226T195618Z
LAST-MODIFIED:20250226T195629Z
UID:7561-1739208600-1739210400@colusaumc.org
SUMMARY:Mid Month Mondays - 2-10-25
DESCRIPTION:Mid-Month Mondays \n5:30pm to 6:00pm (sanctuary opens at 5:15pm) \nThere is something about being able to practice deep contemplation in the company of others. Mid-Month Mondays provide this space. All traditions are welcome. You need not believe or practice anything at all to join. \nThe Trinity sanctuary opens at 5:15pm for a time of quiet prayer practice from 5:30pm to 6:00pm. For those not used to silent prayer\, candles and quiet background music provide an entry point into contemplation. \nChildcare will be provided at the January 20th meeting. \n 
URL:https://colusaumc.org/event/mid-month-mondays-2-10-25/
LOCATION:Trinity\, 511 Oak Street\, Colusa\, CA\, 95932\, United States
CATEGORIES:Community,Special Sacred
ATTACH;FMTTYPE=image/jpeg:https://colusaumc.org/wp-content/uploads/bulletin_images/MidMonth-e1765385180731.jpg
END:VEVENT
BEGIN:VEVENT
DTSTART;TZID=America/Los_Angeles:20250214T110000
DTEND;TZID=America/Los_Angeles:20250214T130000
DTSTAMP:20260424T131509
CREATED:20250101T154846Z
LAST-MODIFIED:20250226T200302Z
UID:7553-1739530800-1739538000@colusaumc.org
SUMMARY:Senior (Citizen) Spread Lunch 2-14-25
DESCRIPTION:Join us for the next Senior Spread\, a social lunch for Colusa senior citizens! \n2nd and 4th Fridays \nDoors open 11:00am \nLunch from 12:00pm to 1:00pm
URL:https://colusaumc.org/event/senior-spread-2-14-25/
LOCATION:Trinity\, 511 Oak Street\, Colusa\, CA\, 95932\, United States
CATEGORIES:Community
ATTACH;FMTTYPE=image/png:https://colusaumc.org/wp-content/uploads/bulletin_images/SeniorSpread_PlateLogo_Color-e1765385048603.png
END:VEVENT
BEGIN:VEVENT
DTSTART;TZID=America/Los_Angeles:20250216T111500
DTEND;TZID=America/Los_Angeles:20250216T233000
DTSTAMP:20260424T131509
CREATED:20250209T233016Z
LAST-MODIFIED:20250226T204031Z
UID:7631-1739704500-1739748600@colusaumc.org
SUMMARY:Trustees (Follow On Meeting) 2-16-25
DESCRIPTION:Open Meeting \nTrustees have one overflow item from last week that should take 5 minutes to cover and vote on. (Really\, five minutes. We promise!) All Trustees should attend. \nPlease speak with Lara K. if you have any questions. \n11:15 am\nmeets in Parlor after worship
URL:https://colusaumc.org/event/excom-2-16-25/
LOCATION:Trinity\, 511 Oak Street\, Colusa\, CA\, 95932\, United States
CATEGORIES:Administrative
END:VEVENT
BEGIN:VEVENT
DTSTART;TZID=America/Los_Angeles:20250217T112000
DTEND;TZID=America/Los_Angeles:20250217T130000
DTSTAMP:20260424T131509
CREATED:20250130T201228Z
LAST-MODIFIED:20250226T203202Z
UID:7579-1739791200-1739797200@colusaumc.org
SUMMARY:Hand Up Lunch 2-17-25
DESCRIPTION:Mondays in October\, 11:20am\nmeets at Presbyterian Church\nsee Carolyn G. or Elizabeth Y. to help
URL:https://colusaumc.org/event/hand-up-lunch-2-17-25/
LOCATION:Presbyterian Church\, 261 Fourth Street\, Colusa\, CA\, 95932\, United States
CATEGORIES:Community
END:VEVENT
BEGIN:VEVENT
DTSTART;TZID=America/Los_Angeles:20250224T112000
DTEND;TZID=America/Los_Angeles:20250224T130000
DTSTAMP:20260424T131509
CREATED:20250130T201226Z
LAST-MODIFIED:20250226T203242Z
UID:7580-1740396000-1740402000@colusaumc.org
SUMMARY:Hand Up Lunch 2-24-25
DESCRIPTION:Mondays in October\, 11:20am\nmeets at Presbyterian Church\nsee Carolyn G. or Elizabeth Y. to help
URL:https://colusaumc.org/event/hand-up-lunch-2-24-25/
LOCATION:Presbyterian Church\, 261 Fourth Street\, Colusa\, CA\, 95932\, United States
CATEGORIES:Community
END:VEVENT
BEGIN:VEVENT
DTSTART;TZID=America/Los_Angeles:20250228T110000
DTEND;TZID=America/Los_Angeles:20250228T130000
DTSTAMP:20260424T131509
CREATED:20250115T195124Z
LAST-MODIFIED:20250226T200243Z
UID:7555-1740740400-1740747600@colusaumc.org
SUMMARY:Senior (Citizen) Spread Lunch 2-28-25
DESCRIPTION:Join us for the next Senior Spread\, a social lunch for Colusa senior citizens! \n2nd and 4th Fridays \nDoors open 11:00am \nLunch from 12:00pm to 1:00pm
URL:https://colusaumc.org/event/senior-spread-2-28-25/
LOCATION:Trinity\, 511 Oak Street\, Colusa\, CA\, 95932\, United States
CATEGORIES:Community
ATTACH;FMTTYPE=image/png:https://colusaumc.org/wp-content/uploads/bulletin_images/SeniorSpread_PlateLogo_Color-e1765385048603.png
END:VEVENT
END:VCALENDAR