BEGIN:VCALENDAR
VERSION:2.0
PRODID:-//Trinity UMC, Colusa - ECPv6.15.20//NONSGML v1.0//EN
CALSCALE:GREGORIAN
METHOD:PUBLISH
X-WR-CALNAME:Trinity UMC, Colusa
X-ORIGINAL-URL:https://colusaumc.org
X-WR-CALDESC:Events for Trinity UMC, Colusa
REFRESH-INTERVAL;VALUE=DURATION:PT1H
X-Robots-Tag:noindex
X-PUBLISHED-TTL:PT1H
BEGIN:VTIMEZONE
TZID:America/Los_Angeles
BEGIN:DAYLIGHT
TZOFFSETFROM:-0800
TZOFFSETTO:-0700
TZNAME:PDT
DTSTART:20240310T100000
END:DAYLIGHT
BEGIN:STANDARD
TZOFFSETFROM:-0700
TZOFFSETTO:-0800
TZNAME:PST
DTSTART:20241103T090000
END:STANDARD
BEGIN:DAYLIGHT
TZOFFSETFROM:-0800
TZOFFSETTO:-0700
TZNAME:PDT
DTSTART:20250309T100000
END:DAYLIGHT
BEGIN:STANDARD
TZOFFSETFROM:-0700
TZOFFSETTO:-0800
TZNAME:PST
DTSTART:20251102T090000
END:STANDARD
BEGIN:DAYLIGHT
TZOFFSETFROM:-0800
TZOFFSETTO:-0700
TZNAME:PDT
DTSTART:20260308T100000
END:DAYLIGHT
BEGIN:STANDARD
TZOFFSETFROM:-0700
TZOFFSETTO:-0800
TZNAME:PST
DTSTART:20261101T090000
END:STANDARD
END:VTIMEZONE
BEGIN:VEVENT
DTSTART;TZID=America/Los_Angeles:20251001T140000
DTEND;TZID=America/Los_Angeles:20251001T163000
DTSTAMP:20260423T162604
CREATED:20250819T220627Z
LAST-MODIFIED:20250819T220636Z
UID:8344-1759327200-1759336200@colusaumc.org
SUMMARY:Sound Space Fall 10-1-25
DESCRIPTION:Through generous grants with the Great Northern District Union and New and Vital Congregations as well as valuable partnerships with the City of Colusa\, Stagehands Theater\, and the Colusa County Arts Council\, Sound Space is continuing making more music\, and now dance\, in Colusa in 2025-2026. \n\n4th\, 5th\, and 6th graders are invited to join us after school for after school music \nTransport is provided to and from Egling Middle School. \nRegister Today!
URL:https://colusaumc.org/event/sound-space-10-1-25/
LOCATION:Trinity\, 511 Oak Street\, Colusa\, CA\, 95932\, United States
CATEGORIES:Performance,Sound Space
ATTACH;FMTTYPE=image/png:https://colusaumc.org/wp-content/uploads/site/SoundSpaceBadgeRGB_330x72.png
END:VEVENT
BEGIN:VEVENT
DTSTART;TZID=America/Los_Angeles:20251005T111500
DTEND;TZID=America/Los_Angeles:20251005T121500
DTSTAMP:20260423T162604
CREATED:20250819T202845Z
LAST-MODIFIED:20250819T202957Z
UID:8264-1759662900-1759666500@colusaumc.org
SUMMARY:Executive Committee and Trustees 10-5-25
DESCRIPTION:all members are encouraged to attend this business meeting \nThe Executive Committee is a regular\, combined coordination meeting that includes Trustees\, Ad Council\, Finance\, and Memorials committees. \nCommunion Sunday\, Even Months\n11:15 am\nmeets in Parlor after worship
URL:https://colusaumc.org/event/excom-10-5-25/
LOCATION:Trinity\, 511 Oak Street\, Colusa\, CA\, 95932\, United States
CATEGORIES:Administrative
END:VEVENT
BEGIN:VEVENT
DTSTART;TZID=America/Los_Angeles:20251006T112000
DTEND;TZID=America/Los_Angeles:20251006T130000
DTSTAMP:20260423T162604
CREATED:20250606T185914Z
LAST-MODIFIED:20250226T201650Z
UID:7565-1759749600-1759755600@colusaumc.org
SUMMARY:Hand Up Lunch 10-6-25
DESCRIPTION:Mondays in October\, 11:20am\nmeets at Presbyterian Church\nsee Carolyn G. or Elizabeth Y. to help
URL:https://colusaumc.org/event/hand-up-lunch-10-6-25/
LOCATION:Presbyterian Church\, 261 Fourth Street\, Colusa\, CA\, 95932\, United States
CATEGORIES:Community
END:VEVENT
BEGIN:VEVENT
DTSTART;TZID=America/Los_Angeles:20251007T164500
DTEND;TZID=America/Los_Angeles:20251007T174500
DTSTAMP:20260423T162604
CREATED:20251004T000211Z
LAST-MODIFIED:20251004T000332Z
UID:8677-1759855500-1759859100@colusaumc.org
SUMMARY:Trustees 10-7-25
DESCRIPTION:all Trustees are encouraged to attend this supplemental meeting \nOur Trustees Committee ensures the Trinity facilities are in good repair and put to best use both within and beyond the Trinity community. Our facilities help us to serve our neighbors in Colusa. \nMeets regularly during our Executive Committee meeting after Communion Sunday during even numbered months. This is an additional meeting to address Trustee-specific topics. \n4:45 pm\nmeets in Parlor after Covenant Prayer group
URL:https://colusaumc.org/event/trustees-10-7-25/
LOCATION:Trinity\, 511 Oak Street\, Colusa\, CA\, 95932\, United States
CATEGORIES:Administrative
END:VEVENT
BEGIN:VEVENT
DTSTART;TZID=America/Los_Angeles:20251008T140000
DTEND;TZID=America/Los_Angeles:20251008T163000
DTSTAMP:20260423T162604
CREATED:20250819T220707Z
LAST-MODIFIED:20250819T220707Z
UID:8345-1759932000-1759941000@colusaumc.org
SUMMARY:Sound Space Fall 10-8-25
DESCRIPTION:Through generous grants with the Great Northern District Union and New and Vital Congregations as well as valuable partnerships with the City of Colusa\, Stagehands Theater\, and the Colusa County Arts Council\, Sound Space is continuing making more music\, and now dance\, in Colusa in 2025-2026. \n\n4th\, 5th\, and 6th graders are invited to join us after school for after school music \nTransport is provided to and from Egling Middle School. \nRegister Today!
URL:https://colusaumc.org/event/sound-space-10-8-25/
LOCATION:Trinity\, 511 Oak Street\, Colusa\, CA\, 95932\, United States
CATEGORIES:Performance,Sound Space
ATTACH;FMTTYPE=image/png:https://colusaumc.org/wp-content/uploads/site/SoundSpaceBadgeRGB_330x72.png
END:VEVENT
BEGIN:VEVENT
DTSTART;TZID=America/Los_Angeles:20251008T183000
DTEND;TZID=America/Los_Angeles:20251008T200000
DTSTAMP:20260423T162604
CREATED:20250819T204201Z
LAST-MODIFIED:20250819T204201Z
UID:8290-1759948200-1759953600@colusaumc.org
SUMMARY:Growing in Faith 5 - 10-8-25
DESCRIPTION:Join us for six weeks of reflection and invitation. Growing in Faith is a short series inviting you to learn more about your own faith and our Methodist tradition.\nInfo & Registration Here
URL:https://colusaumc.org/event/growing-in-faith-5-10-8-25/
LOCATION:Trinity\, 511 Oak Street\, Colusa\, CA\, 95932\, United States
CATEGORIES:Class
ATTACH;FMTTYPE=image/png:https://colusaumc.org/wp-content/uploads/resources/TrinityArtisticWithGIFLogo_366x1600-e1725132621289.png
END:VEVENT
BEGIN:VEVENT
DTSTART;TZID=America/Los_Angeles:20251010T110000
DTEND;TZID=America/Los_Angeles:20251010T130000
DTSTAMP:20260423T162604
CREATED:20250819T202414Z
LAST-MODIFIED:20250908T205306Z
UID:8256-1760094000-1760101200@colusaumc.org
SUMMARY:Senior Spread Lunch 10-10-25
DESCRIPTION:Join us for the next Senior Spread\, a social lunch for Colusa senior citizens! \n2nd and 4th Fridays \nDoors open 11:00am \nLunch from 12:00pm to 1:00pm
URL:https://colusaumc.org/event/senior-spread-10-10-25/
LOCATION:Trinity\, 511 Oak Street\, Colusa\, CA\, 95932\, United States
CATEGORIES:Community
ATTACH;FMTTYPE=image/png:https://colusaumc.org/wp-content/uploads/bulletin_images/SeniorSpread_PlateLogo_Color-e1765385048603.png
END:VEVENT
BEGIN:VEVENT
DTSTART;TZID=America/Los_Angeles:20251012T110000
DTEND;TZID=America/Los_Angeles:20251012T120000
DTSTAMP:20260423T162604
CREATED:20250819T211328Z
LAST-MODIFIED:20250819T211328Z
UID:8320-1760266800-1760270400@colusaumc.org
SUMMARY:Seraphim Bible Study 4- 10-12-25
DESCRIPTION:Seraphim\nFrom Numbers and Amos through Isaiah and Acts\, we will be noticing how people anointed with fire are sent on incredible journeys of the spirit.\nSeptember 14th – October 12th\n(no meeting 10/5) \nJoin us after worship service for four Sundays this fall to consider the fiery snake of cruddy consequences\, the seraphim. In the Bible\, we sometimes find seraphim and serpents at life inflection points in the story of God’s people. Beginning with John 3:13-17\, our lectionary readings will launch us into a discussion that will move us beyond these verses. We will wind from Numbers and Amos through Isaiah and Acts noticing how people anointed with fire are sent on incredible journeys of the spirit. How have you been touched by fire? \nDrop in for one or all Sunday scripture studies. Each study is about 45 minutes long. Reflection pages are provided each week. \nWe will meet in the parlor at Trinity UMC following coffee hour on Sunday mornings. (511 Oak Street\, Colusa) Anyone may attend regardless religious background\, belief\, Christian experience\, or church affiliation. Enjoy a lively discussion and snacks. \nBible knowledge is NOT required.
URL:https://colusaumc.org/event/seraphim-bible-study-4-10-12-25/
LOCATION:Trinity\, 511 Oak Street\, Colusa\, CA\, 95932\, United States
CATEGORIES:Bible Study,Class
ATTACH;FMTTYPE=image/png:https://colusaumc.org/wp-content/uploads/bulletin_images/S_2.png
END:VEVENT
BEGIN:VEVENT
DTSTART;TZID=America/Los_Angeles:20251013T112000
DTEND;TZID=America/Los_Angeles:20251013T130000
DTSTAMP:20260423T162604
CREATED:20250613T191223Z
LAST-MODIFIED:20250226T201707Z
UID:7566-1760354400-1760360400@colusaumc.org
SUMMARY:Hand Up Lunch 10-13-25
DESCRIPTION:Mondays in October\, 11:20am\nmeets at Presbyterian Church\nsee Carolyn G. or Elizabeth Y. to help
URL:https://colusaumc.org/event/hand-up-lunch-10-13-25/
LOCATION:Presbyterian Church\, 261 Fourth Street\, Colusa\, CA\, 95932\, United States
CATEGORIES:Community
END:VEVENT
BEGIN:VEVENT
DTSTART;TZID=America/Los_Angeles:20251013T173000
DTEND;TZID=America/Los_Angeles:20251013T180000
DTSTAMP:20260423T162604
CREATED:20250819T202812Z
LAST-MODIFIED:20250819T202950Z
UID:8263-1760376600-1760378400@colusaumc.org
SUMMARY:Mid Month Mondays - 10-13-25
DESCRIPTION:Mid-Month Mondays \n5:30pm to 6:00pm (sanctuary opens at 5:15pm) \nThere is something about being able to practice deep contemplation in the company of others. Mid-Month Mondays provide this space. All traditions are welcome. You need not believe or practice anything at all to join. \nThe Trinity sanctuary opens at 5:15pm for a time of quiet prayer practice from 5:30pm to 6:00pm. For those not used to silent prayer\, candles and quiet background music provide an entry point into contemplation. \nChildcare will be provided at the January 20th meeting. \n 
URL:https://colusaumc.org/event/mid-month-mondays-10-13-25/
LOCATION:Trinity\, 511 Oak Street\, Colusa\, CA\, 95932\, United States
CATEGORIES:Community,Special Sacred
ATTACH;FMTTYPE=image/jpeg:https://colusaumc.org/wp-content/uploads/bulletin_images/MidMonth-e1765385180731.jpg
END:VEVENT
BEGIN:VEVENT
DTSTART;TZID=America/Los_Angeles:20251015T140000
DTEND;TZID=America/Los_Angeles:20251015T163000
DTSTAMP:20260423T162604
CREATED:20250819T220802Z
LAST-MODIFIED:20250819T234554Z
UID:8348-1760536800-1760545800@colusaumc.org
SUMMARY:Sound Space Fall 10-15-25
DESCRIPTION:Through generous grants with the Great Northern District Union and New and Vital Congregations as well as valuable partnerships with the City of Colusa\, Stagehands Theater\, and the Colusa County Arts Council\, Sound Space is continuing making more music\, and now dance\, in Colusa in 2025-2026. \n\n4th\, 5th\, and 6th graders are invited to join us after school for after school music \nTransport is provided to and from Egling Middle School. \nRegister Today!
URL:https://colusaumc.org/event/sound-space-10-15-25/
LOCATION:Trinity\, 511 Oak Street\, Colusa\, CA\, 95932\, United States
CATEGORIES:Performance,Sound Space
ATTACH;FMTTYPE=image/png:https://colusaumc.org/wp-content/uploads/site/SoundSpaceBadgeRGB_330x72.png
END:VEVENT
BEGIN:VEVENT
DTSTART;TZID=America/Los_Angeles:20251015T183000
DTEND;TZID=America/Los_Angeles:20251015T200000
DTSTAMP:20260423T162604
CREATED:20250819T204225Z
LAST-MODIFIED:20250819T204234Z
UID:8291-1760553000-1760558400@colusaumc.org
SUMMARY:Growing in Faith 6 - 10-15-25
DESCRIPTION:Join us for six weeks of reflection and invitation. Growing in Faith is a short series inviting you to learn more about your own faith and our Methodist tradition.\nInfo & Registration Here
URL:https://colusaumc.org/event/growing-in-faith-6-10-15-25/
LOCATION:Trinity\, 511 Oak Street\, Colusa\, CA\, 95932\, United States
CATEGORIES:Class
ATTACH;FMTTYPE=image/png:https://colusaumc.org/wp-content/uploads/resources/TrinityArtisticWithGIFLogo_366x1600-e1725132621289.png
END:VEVENT
BEGIN:VEVENT
DTSTART;TZID=America/Los_Angeles:20251019T140000
DTEND;TZID=America/Los_Angeles:20251019T150000
DTSTAMP:20260423T162604
CREATED:20250819T205221Z
LAST-MODIFIED:20251017T002709Z
UID:8303-1760882400-1760886000@colusaumc.org
SUMMARY:Sound Space Performance 10-19-25 12:00pm
DESCRIPTION:Sound Space Performance\nOctober 19th\, 2025  12:00 pm \nMiddle schoolers in 4th\, 5th\, and 6th grade \nThe performance is in the Trinity sanctuary with refreshments to follow in the parlor. \nJoin us in an event for the entire community! \n  \n(Art by Colusa Artist Kelli Joel)
URL:https://colusaumc.org/event/sound-space-performance-10-19-25/
LOCATION:Trinity\, 511 Oak Street\, Colusa\, CA\, 95932\, United States
CATEGORIES:Performance,Sound Space
ATTACH;FMTTYPE=image/png:https://colusaumc.org/wp-content/uploads/bulletin_images/SoundSpace_SingYCanta_Text.png
END:VEVENT
BEGIN:VEVENT
DTSTART;TZID=America/Los_Angeles:20251020T112000
DTEND;TZID=America/Los_Angeles:20251020T130000
DTSTAMP:20260423T162604
CREATED:20250620T191300Z
LAST-MODIFIED:20250226T201726Z
UID:7567-1760959200-1760965200@colusaumc.org
SUMMARY:Hand Up Lunch 10-20-25
DESCRIPTION:Mondays in October\, 11:20am\nmeets at Presbyterian Church\nsee Carolyn G. or Elizabeth Y. to help
URL:https://colusaumc.org/event/hand-up-lunch-10-20-25/
LOCATION:Presbyterian Church\, 261 Fourth Street\, Colusa\, CA\, 95932\, United States
CATEGORIES:Community
END:VEVENT
BEGIN:VEVENT
DTSTART;TZID=America/Los_Angeles:20251024T110000
DTEND;TZID=America/Los_Angeles:20251024T130000
DTSTAMP:20260423T162604
CREATED:20250819T202439Z
LAST-MODIFIED:20250908T205313Z
UID:8258-1761303600-1761310800@colusaumc.org
SUMMARY:Senior Spread Lunch 10-24-25
DESCRIPTION:Join us for the next Senior Spread\, a social lunch for Colusa senior citizens! \n2nd and 4th Fridays \nDoors open 11:00am \nLunch from 12:00pm to 1:00pm
URL:https://colusaumc.org/event/senior-spread-10-24-25/
LOCATION:Trinity\, 511 Oak Street\, Colusa\, CA\, 95932\, United States
CATEGORIES:Community
ATTACH;FMTTYPE=image/png:https://colusaumc.org/wp-content/uploads/program_logos/SeniorSpread_Logo_Sq_Color-e1765384940403.png
END:VEVENT
BEGIN:VEVENT
DTSTART;TZID=America/Los_Angeles:20251027T112000
DTEND;TZID=America/Los_Angeles:20251027T130000
DTSTAMP:20260423T162604
CREATED:20250626T191257Z
LAST-MODIFIED:20250226T201801Z
UID:7568-1761564000-1761570000@colusaumc.org
SUMMARY:Hand Up Lunch 10-27-25
DESCRIPTION:Mondays in October\, 11:20am\nmeets at Presbyterian Church\nsee Carolyn G. or Elizabeth Y. to help
URL:https://colusaumc.org/event/hand-up-lunch-10-27-25/
LOCATION:Presbyterian Church\, 261 Fourth Street\, Colusa\, CA\, 95932\, United States
CATEGORIES:Community
END:VEVENT
BEGIN:VEVENT
DTSTART;TZID=America/Los_Angeles:20251029T180000
DTEND;TZID=America/Los_Angeles:20251029T193000
DTSTAMP:20260423T162604
CREATED:20250819T235004Z
LAST-MODIFIED:20251121T002659Z
UID:8356-1761760800-1761766200@colusaumc.org
SUMMARY:Christmas Choir Practice 10-29-25
DESCRIPTION:Christmas Choir\nChristmas choir will again perform at several Colusa County locations\, including Trinity\, on December 11th\, 12th\, 13th\, and 14th. \nRehearsals are Wednesday nights starting October 15th. Please contact Elizabeth Y. for more information.
URL:https://colusaumc.org/event/christmas-choir-practice-10-29-25/
LOCATION:CA
CATEGORIES:Practice
ATTACH;FMTTYPE=image/png:https://colusaumc.org/wp-content/uploads/bulletin_images/ChristmasConcertAngel-2024_150x150.png
END:VEVENT
END:VCALENDAR