BEGIN:VCALENDAR
VERSION:2.0
PRODID:-//Trinity UMC, Colusa - ECPv6.15.20//NONSGML v1.0//EN
CALSCALE:GREGORIAN
METHOD:PUBLISH
X-WR-CALNAME:Trinity UMC, Colusa
X-ORIGINAL-URL:https://colusaumc.org
X-WR-CALDESC:Events for Trinity UMC, Colusa
REFRESH-INTERVAL;VALUE=DURATION:PT1H
X-Robots-Tag:noindex
X-PUBLISHED-TTL:PT1H
BEGIN:VTIMEZONE
TZID:America/Los_Angeles
BEGIN:DAYLIGHT
TZOFFSETFROM:-0800
TZOFFSETTO:-0700
TZNAME:PDT
DTSTART:20230312T100000
END:DAYLIGHT
BEGIN:STANDARD
TZOFFSETFROM:-0700
TZOFFSETTO:-0800
TZNAME:PST
DTSTART:20231105T090000
END:STANDARD
BEGIN:DAYLIGHT
TZOFFSETFROM:-0800
TZOFFSETTO:-0700
TZNAME:PDT
DTSTART:20240310T100000
END:DAYLIGHT
BEGIN:STANDARD
TZOFFSETFROM:-0700
TZOFFSETTO:-0800
TZNAME:PST
DTSTART:20241103T090000
END:STANDARD
BEGIN:DAYLIGHT
TZOFFSETFROM:-0800
TZOFFSETTO:-0700
TZNAME:PDT
DTSTART:20250309T100000
END:DAYLIGHT
BEGIN:STANDARD
TZOFFSETFROM:-0700
TZOFFSETTO:-0800
TZNAME:PST
DTSTART:20251102T090000
END:STANDARD
END:VTIMEZONE
BEGIN:VEVENT
DTSTART;TZID=America/Los_Angeles:20241110T110000
DTEND;TZID=America/Los_Angeles:20241110T113000
DTSTAMP:20260425T105039
CREATED:20241101T214936Z
LAST-MODIFIED:20241126T225149Z
UID:7346-1731236400-1731238200@colusaumc.org
SUMMARY:Staff Parish Relations Committee 11-10-24
DESCRIPTION:short\, closed meeting to prepare for our meeting with our District Superintendant on Wednesday \nplease contact Elizabeth Y. to learn about this committee \nSunday\, November 10\, 2024\nmeets in the front of the Sanctuary after worship (coffee hour to follow)
URL:https://colusaumc.org/event/sprc-11-10-24/
LOCATION:Trinity\, 511 Oak Street\, Colusa\, CA\, 95932\, United States
CATEGORIES:Administrative
END:VEVENT
BEGIN:VEVENT
DTSTART;TZID=America/Los_Angeles:20241113T153000
DTEND;TZID=America/Los_Angeles:20241113T160000
DTSTAMP:20260425T105039
CREATED:20240801T010047Z
LAST-MODIFIED:20240801T012051Z
UID:7048-1731511800-1731513600@colusaumc.org
SUMMARY:Staff Parish Relations Committee 11-13-24
DESCRIPTION:closed meeting with our District Superintendant\, please contact Elizabeth Y. to learn about this committee \nWednesday\, November 13\, 2024\nmeets in the Parlor before Charge Conference
URL:https://colusaumc.org/event/sprc-11-13-24/
LOCATION:Trinity\, 511 Oak Street\, Colusa\, CA\, 95932\, United States
CATEGORIES:Administrative
END:VEVENT
BEGIN:VEVENT
DTSTART;TZID=America/Los_Angeles:20241113T160000
DTEND;TZID=America/Los_Angeles:20241113T170000
DTSTAMP:20260425T105039
CREATED:20240731T230118Z
LAST-MODIFIED:20240801T005851Z
UID:7055-1731513600-1731517200@colusaumc.org
SUMMARY:Charge Conference 11-13-24
DESCRIPTION:all members are encouraged to attend this annual business meeting \nWednesday\, November 13\n3:30pm SPRC only; 4:00pm General\nmeets in Parlor \nPresiding Elder: District Superintendant Rev. Blake Busick
URL:https://colusaumc.org/event/charge-conference-11-13-24/
LOCATION:Trinity\, 511 Oak Street\, Colusa\, CA\, 95932\, United States
CATEGORIES:Administrative
END:VEVENT
END:VCALENDAR