BEGIN:VCALENDAR
VERSION:2.0
PRODID:-//Trinity UMC, Colusa - ECPv6.15.20//NONSGML v1.0//EN
CALSCALE:GREGORIAN
METHOD:PUBLISH
X-ORIGINAL-URL:https://colusaumc.org
X-WR-CALDESC:Events for Trinity UMC, Colusa
REFRESH-INTERVAL;VALUE=DURATION:PT1H
X-Robots-Tag:noindex
X-PUBLISHED-TTL:PT1H
BEGIN:VTIMEZONE
TZID:America/Los_Angeles
BEGIN:DAYLIGHT
TZOFFSETFROM:-0800
TZOFFSETTO:-0700
TZNAME:PDT
DTSTART:20240310T100000
END:DAYLIGHT
BEGIN:STANDARD
TZOFFSETFROM:-0700
TZOFFSETTO:-0800
TZNAME:PST
DTSTART:20241103T090000
END:STANDARD
BEGIN:DAYLIGHT
TZOFFSETFROM:-0800
TZOFFSETTO:-0700
TZNAME:PDT
DTSTART:20250309T100000
END:DAYLIGHT
BEGIN:STANDARD
TZOFFSETFROM:-0700
TZOFFSETTO:-0800
TZNAME:PST
DTSTART:20251102T090000
END:STANDARD
BEGIN:DAYLIGHT
TZOFFSETFROM:-0800
TZOFFSETTO:-0700
TZNAME:PDT
DTSTART:20260308T100000
END:DAYLIGHT
BEGIN:STANDARD
TZOFFSETFROM:-0700
TZOFFSETTO:-0800
TZNAME:PST
DTSTART:20261101T090000
END:STANDARD
END:VTIMEZONE
BEGIN:VEVENT
DTSTART;TZID=America/Los_Angeles:20251102T090000
DTEND;TZID=America/Los_Angeles:20251102T100000
DTSTAMP:20260423T192628
CREATED:20250820T001502Z
LAST-MODIFIED:20251120T034742Z
UID:8387-1762074000-1762077600@colusaumc.org
SUMMARY:Chime Choir Practice 11-2-25
DESCRIPTION:Youth and adults are invited to join us Sunday morning for hand chimes. \n\nWe will perform at the Community Choir Christmas Concert\, Friday\, December 14th\, 2025 at 7:00 pm.
URL:https://colusaumc.org/event/chimes-11-2-25/
LOCATION:Trinity\, 511 Oak Street\, Colusa\, CA\, 95932\, United States
CATEGORIES:Class,Community,Practice,Sound Space,Special Sacred
END:VEVENT
BEGIN:VEVENT
DTSTART;TZID=America/Los_Angeles:20251105T180000
DTEND;TZID=America/Los_Angeles:20251105T193000
DTSTAMP:20260423T192628
CREATED:20250819T235034Z
LAST-MODIFIED:20251121T002705Z
UID:8357-1762365600-1762371000@colusaumc.org
SUMMARY:Christmas Choir Practice 11-5-25
DESCRIPTION:Christmas Choir\nChristmas choir will again perform at several Colusa County locations\, including Trinity\, on December 11th\, 12th\, 13th\, and 14th. \nRehearsals are Wednesday nights starting October 15th. Please contact Elizabeth Y. for more information.
URL:https://colusaumc.org/event/christmas-choir-practice-11-5-25/
LOCATION:CA
CATEGORIES:Practice
ATTACH;FMTTYPE=image/png:https://colusaumc.org/wp-content/uploads/bulletin_images/ChristmasConcertAngel-2024_150x150.png
END:VEVENT
BEGIN:VEVENT
DTSTART;TZID=America/Los_Angeles:20251109T090000
DTEND;TZID=America/Los_Angeles:20251109T100000
DTSTAMP:20260423T192628
CREATED:20250820T001746Z
LAST-MODIFIED:20251120T034740Z
UID:8343-1762678800-1762682400@colusaumc.org
SUMMARY:Chime Choir Practice 11-9-25
DESCRIPTION:Youth and adults are invited to join us Sunday morning for hand chimes. \n\nWe will perform at the Community Choir Christmas Concert\, Friday\, December 14th\, 2025 at 7:00 pm.
URL:https://colusaumc.org/event/chimes-11-9-25/
LOCATION:Trinity\, 511 Oak Street\, Colusa\, CA\, 95932\, United States
CATEGORIES:Class,Community,Practice,Sound Space,Special Sacred
END:VEVENT
BEGIN:VEVENT
DTSTART;TZID=America/Los_Angeles:20251112T180000
DTEND;TZID=America/Los_Angeles:20251112T193000
DTSTAMP:20260423T192628
CREATED:20250819T235109Z
LAST-MODIFIED:20251121T002710Z
UID:8358-1762970400-1762975800@colusaumc.org
SUMMARY:Christmas Choir Practice 11-12-25
DESCRIPTION:Christmas Choir\nChristmas choir will again perform at several Colusa County locations\, including Trinity\, on December 11th\, 12th\, 13th\, and 14th. \nRehearsals are Wednesday nights starting October 15th. Please contact Elizabeth Y. for more information.
URL:https://colusaumc.org/event/christmas-choir-practice-11-12-25/
LOCATION:CA
CATEGORIES:Practice
ATTACH;FMTTYPE=image/png:https://colusaumc.org/wp-content/uploads/bulletin_images/ChristmasConcertAngel-2024_150x150.png
END:VEVENT
BEGIN:VEVENT
DTSTART;TZID=America/Los_Angeles:20251116T090000
DTEND;TZID=America/Los_Angeles:20251116T100000
DTSTAMP:20260423T192628
CREATED:20250820T001906Z
LAST-MODIFIED:20251120T034738Z
UID:8388-1763283600-1763287200@colusaumc.org
SUMMARY:Chime Choir Practice 11-16-25
DESCRIPTION:Youth and adults are invited to join us Sunday morning for hand chimes. \n\nWe will perform at the Community Choir Christmas Concert\, Friday\, December 14th\, 2025 at 7:00 pm.
URL:https://colusaumc.org/event/chimes-11-16-25/
LOCATION:Trinity\, 511 Oak Street\, Colusa\, CA\, 95932\, United States
CATEGORIES:Class,Community,Practice,Sound Space,Special Sacred
END:VEVENT
BEGIN:VEVENT
DTSTART;TZID=America/Los_Angeles:20251119T180000
DTEND;TZID=America/Los_Angeles:20251119T193000
DTSTAMP:20260423T192628
CREATED:20250819T235135Z
LAST-MODIFIED:20251121T002715Z
UID:8359-1763575200-1763580600@colusaumc.org
SUMMARY:Christmas Choir Practice 11-19-25
DESCRIPTION:Christmas Choir\nChristmas choir will again perform at several Colusa County locations\, including Trinity\, on December 11th\, 12th\, 13th\, and 14th. \nRehearsals are Wednesday nights starting October 15th. Please contact Elizabeth Y. for more information.
URL:https://colusaumc.org/event/christmas-choir-practice-11-19-25/
LOCATION:CA
CATEGORIES:Practice
ATTACH;FMTTYPE=image/png:https://colusaumc.org/wp-content/uploads/bulletin_images/ChristmasConcertAngel-2024_150x150.png
END:VEVENT
BEGIN:VEVENT
DTSTART;TZID=America/Los_Angeles:20251123T090000
DTEND;TZID=America/Los_Angeles:20251123T100000
DTSTAMP:20260423T192628
CREATED:20250820T002013Z
LAST-MODIFIED:20251120T034736Z
UID:8389-1763888400-1763892000@colusaumc.org
SUMMARY:Chime Choir Practice 11-23-25
DESCRIPTION:Youth and adults are invited to join us Sunday morning for hand chimes. \n\nWe will perform at the Community Choir Christmas Concert\, Friday\, December 14th\, 2025 at 7:00 pm.
URL:https://colusaumc.org/event/chimes-11-23-25/
LOCATION:Trinity\, 511 Oak Street\, Colusa\, CA\, 95932\, United States
CATEGORIES:Class,Community,Practice,Sound Space,Special Sacred
END:VEVENT
BEGIN:VEVENT
DTSTART;TZID=America/Los_Angeles:20251126T180000
DTEND;TZID=America/Los_Angeles:20251126T193000
DTSTAMP:20260423T192628
CREATED:20250819T235205Z
LAST-MODIFIED:20251121T002720Z
UID:8360-1764180000-1764185400@colusaumc.org
SUMMARY:Christmas Choir Practice 11-26-25
DESCRIPTION:Christmas Choir\nChristmas choir will again perform at several Colusa County locations\, including Trinity\, on December 11th\, 12th\, 13th\, and 14th. \nRehearsals are Wednesday nights starting October 15th. Please contact Elizabeth Y. for more information.
URL:https://colusaumc.org/event/christmas-choir-practice-11-26-25/
LOCATION:CA
CATEGORIES:Practice
ATTACH;FMTTYPE=image/png:https://colusaumc.org/wp-content/uploads/bulletin_images/ChristmasConcertAngel-2024_150x150.png
END:VEVENT
BEGIN:VEVENT
DTSTART;TZID=America/Los_Angeles:20251130T090000
DTEND;TZID=America/Los_Angeles:20251130T100000
DTSTAMP:20260423T192628
CREATED:20250820T002216Z
LAST-MODIFIED:20251120T034734Z
UID:8390-1764493200-1764496800@colusaumc.org
SUMMARY:Chime Choir Practice 11-30-25
DESCRIPTION:Youth and adults are invited to join us Sunday morning for hand chimes. \n\nWe will perform at the Community Choir Christmas Concert\, Friday\, December 14th\, 2025 at 7:00 pm.
URL:https://colusaumc.org/event/chimes-11-30-25/
LOCATION:Trinity\, 511 Oak Street\, Colusa\, CA\, 95932\, United States
CATEGORIES:Class,Community,Practice,Sound Space,Special Sacred
END:VEVENT
END:VCALENDAR