BEGIN:VCALENDAR
VERSION:2.0
PRODID:-//Trinity UMC, Colusa - ECPv6.15.20//NONSGML v1.0//EN
CALSCALE:GREGORIAN
METHOD:PUBLISH
X-WR-CALNAME:Trinity UMC, Colusa
X-ORIGINAL-URL:https://colusaumc.org
X-WR-CALDESC:Events for Trinity UMC, Colusa
REFRESH-INTERVAL;VALUE=DURATION:PT1H
X-Robots-Tag:noindex
X-PUBLISHED-TTL:PT1H
BEGIN:VTIMEZONE
TZID:America/Los_Angeles
BEGIN:DAYLIGHT
TZOFFSETFROM:-0800
TZOFFSETTO:-0700
TZNAME:PDT
DTSTART:20230312T100000
END:DAYLIGHT
BEGIN:STANDARD
TZOFFSETFROM:-0700
TZOFFSETTO:-0800
TZNAME:PST
DTSTART:20231105T090000
END:STANDARD
BEGIN:DAYLIGHT
TZOFFSETFROM:-0800
TZOFFSETTO:-0700
TZNAME:PDT
DTSTART:20240310T100000
END:DAYLIGHT
BEGIN:STANDARD
TZOFFSETFROM:-0700
TZOFFSETTO:-0800
TZNAME:PST
DTSTART:20241103T090000
END:STANDARD
BEGIN:DAYLIGHT
TZOFFSETFROM:-0800
TZOFFSETTO:-0700
TZNAME:PDT
DTSTART:20250309T100000
END:DAYLIGHT
BEGIN:STANDARD
TZOFFSETFROM:-0700
TZOFFSETTO:-0800
TZNAME:PST
DTSTART:20251102T090000
END:STANDARD
END:VTIMEZONE
BEGIN:VEVENT
DTSTART;TZID=America/Los_Angeles:20241225T120000
DTEND;TZID=America/Los_Angeles:20241225T130000
DTSTAMP:20260424T142448
CREATED:20241126T215244Z
LAST-MODIFIED:20241126T215244Z
UID:7327-1735128000-1735131600@colusaumc.org
SUMMARY:Yuletide Dinner 2024
DESCRIPTION:Yuletide Dinner Service\n12 pm – 1 pm\nall are welcome \nJoin us Christmas Day for a mid-day\, community meal celebrating the birth of Jesus. We will serve dinner in Friendship Hall on the Oak Street side of the church and deliver meals to the housebound upon request. \nVolunteers are needed to make holiday foods\, set up\, serve\, package for delivery\, drive meals around town\, and clean up. All help is welcome. All are welcome to drop in and eat. \n  \n    \n  \n 
URL:https://colusaumc.org/event/yuletide-dinner-2024/
LOCATION:Trinity\, 511 Oak Street\, Colusa\, CA\, 95932\, United States
CATEGORIES:Community
ATTACH;FMTTYPE=image/jpeg:https://colusaumc.org/wp-content/uploads/site/58ed82726c32f.image_.jpg
END:VEVENT
BEGIN:VEVENT
DTSTART;TZID=America/Los_Angeles:20241225T120000
DTEND;TZID=America/Los_Angeles:20241225T130000
DTSTAMP:20260424T142448
CREATED:20241220T205222Z
LAST-MODIFIED:20241223T205654Z
UID:7419-1735128000-1735131600@colusaumc.org
SUMMARY:Yuletide Dinner\, Christmas Day  12:00 noon
DESCRIPTION:Yuletide Dinner\n12:00 pm Noon\nall are welcome \nJoin us at noon in Trinity’s Friendship Hall for our annual holiday dinner open to the community. \n \n 
URL:https://colusaumc.org/event/yuletide-dinner-2024-2/
LOCATION:Trinity\, 511 Oak Street\, Colusa\, CA\, 95932\, United States
CATEGORIES:Community
ATTACH;FMTTYPE=image/png:https://colusaumc.org/wp-content/uploads/bulletin_images/Turkey.png
END:VEVENT
END:VCALENDAR