BEGIN:VCALENDAR
VERSION:2.0
PRODID:-//Trinity UMC, Colusa - ECPv6.15.20//NONSGML v1.0//EN
CALSCALE:GREGORIAN
METHOD:PUBLISH
X-WR-CALNAME:Trinity UMC, Colusa
X-ORIGINAL-URL:https://colusaumc.org
X-WR-CALDESC:Events for Trinity UMC, Colusa
REFRESH-INTERVAL;VALUE=DURATION:PT1H
X-Robots-Tag:noindex
X-PUBLISHED-TTL:PT1H
BEGIN:VTIMEZONE
TZID:America/Los_Angeles
BEGIN:DAYLIGHT
TZOFFSETFROM:-0800
TZOFFSETTO:-0700
TZNAME:PDT
DTSTART:20240310T100000
END:DAYLIGHT
BEGIN:STANDARD
TZOFFSETFROM:-0700
TZOFFSETTO:-0800
TZNAME:PST
DTSTART:20241103T090000
END:STANDARD
BEGIN:DAYLIGHT
TZOFFSETFROM:-0800
TZOFFSETTO:-0700
TZNAME:PDT
DTSTART:20250309T100000
END:DAYLIGHT
BEGIN:STANDARD
TZOFFSETFROM:-0700
TZOFFSETTO:-0800
TZNAME:PST
DTSTART:20251102T090000
END:STANDARD
BEGIN:DAYLIGHT
TZOFFSETFROM:-0800
TZOFFSETTO:-0700
TZNAME:PDT
DTSTART:20260308T100000
END:DAYLIGHT
BEGIN:STANDARD
TZOFFSETFROM:-0700
TZOFFSETTO:-0800
TZNAME:PST
DTSTART:20261101T090000
END:STANDARD
END:VTIMEZONE
BEGIN:VEVENT
DTSTART;TZID=America/Los_Angeles:20251203T180000
DTEND;TZID=America/Los_Angeles:20251203T193000
DTSTAMP:20260423T174807
CREATED:20250819T235235Z
LAST-MODIFIED:20251121T002722Z
UID:8361-1764784800-1764790200@colusaumc.org
SUMMARY:Christmas Choir Practice 12-3-25
DESCRIPTION:Christmas Choir\nChristmas choir will again perform at several Colusa County locations\, including Trinity\, on December 11th\, 12th\, 13th\, and 14th. \nRehearsals are Wednesday nights starting October 15th. Please contact Elizabeth Y. for more information.
URL:https://colusaumc.org/event/christmas-choir-practice-12-3-25/
LOCATION:CA
CATEGORIES:Practice
ATTACH;FMTTYPE=image/png:https://colusaumc.org/wp-content/uploads/bulletin_images/ChristmasConcertAngel-2024_150x150.png
END:VEVENT
BEGIN:VEVENT
DTSTART;TZID=America/Los_Angeles:20251207T090000
DTEND;TZID=America/Los_Angeles:20251207T100000
DTSTAMP:20260423T174807
CREATED:20250820T002401Z
LAST-MODIFIED:20251120T034732Z
UID:8369-1765098000-1765101600@colusaumc.org
SUMMARY:Chime Choir Practice 12-7-25
DESCRIPTION:Youth and adults are invited to join us Sunday morning for hand chimes. \n\nWe will perform at the Community Choir Christmas Concert\, Friday\, December 14th\, 2025 at 7:00 pm.
URL:https://colusaumc.org/event/chimes-12-7-25/
LOCATION:Trinity\, 511 Oak Street\, Colusa\, CA\, 95932\, United States
CATEGORIES:Class,Community,Practice,Sound Space,Special Sacred
END:VEVENT
BEGIN:VEVENT
DTSTART;TZID=America/Los_Angeles:20251210T180000
DTEND;TZID=America/Los_Angeles:20251210T193000
DTSTAMP:20260423T174807
CREATED:20250819T235348Z
LAST-MODIFIED:20251121T002757Z
UID:8371-1765389600-1765395000@colusaumc.org
SUMMARY:Christmas Choir Practice 12-10-25
DESCRIPTION:Christmas Choir\nChristmas choir will again perform at several Colusa County locations\, including Trinity\, on December 11th\, 12th\, 13th\, and 14th. \nRehearsals are Wednesday nights starting October 15th. Please contact Elizabeth Y. for more information.
URL:https://colusaumc.org/event/christmas-choir-practice-12-10-25/
LOCATION:CA
CATEGORIES:Practice
ATTACH;FMTTYPE=image/png:https://colusaumc.org/wp-content/uploads/bulletin_images/ChristmasConcertAngel-2024_150x150.png
END:VEVENT
BEGIN:VEVENT
DTSTART;TZID=America/Los_Angeles:20251211T190000
DTEND;TZID=America/Los_Angeles:20251211T190000
DTSTAMP:20260423T174807
CREATED:20250819T235616Z
LAST-MODIFIED:20251121T002753Z
UID:8370-1765479600-1765479600@colusaumc.org
SUMMARY:Christmas Community Choir Performance 12-11-25
DESCRIPTION:Christmas Community Choir\nChristmas choir will again perform at several Colusa County locations\, including Trinity\, on December 11th\, 12th\, 13th\, and 14th! \nThursday\, December 11\, Arbuckle United Methodist Church\, 7 pm \nFriday\, December 12\, Grimes Community Church\, 7 pm \nSaturday\, December 13\, Sacramento Valley Museum\, Williams\, 7 pm \nSunday\, December 14\, Trinity United Methodist Church\, Colusa\, 7 pm;\n(The Chimes Choir will join the Community Choir for this performance only.)
URL:https://colusaumc.org/event/christmas-choir-12-11-25/
LOCATION:CA
CATEGORIES:Community,Performance,Special Sacred
ATTACH;FMTTYPE=image/png:https://colusaumc.org/wp-content/uploads/bulletin_images/ChristmasConcertAngel-2024_150x150.png
END:VEVENT
BEGIN:VEVENT
DTSTART;TZID=America/Los_Angeles:20251212T190000
DTEND;TZID=America/Los_Angeles:20251212T190000
DTSTAMP:20260423T174807
CREATED:20250822T212548Z
LAST-MODIFIED:20251121T002750Z
UID:8405-1765566000-1765566000@colusaumc.org
SUMMARY:Christmas Community Choir Performance 12-12-25
DESCRIPTION:Christmas Community Choir\nChristmas choir will again perform at several Colusa County locations\, including Trinity\, on December 11th\, 12th\, 13th\, and 14th! \nThursday\, December 11\, Arbuckle United Methodist Church\, 7 pm \nFriday\, December 12\, Grimes Community Church\, 7 pm \nSaturday\, December 13\, Sacramento Valley Museum\, Williams\, 7 pm \nSunday\, December 14\, Trinity United Methodist Church\, Colusa\, 7 pm;\n(The Chimes Choir will join the Community Choir for this performance only.)
URL:https://colusaumc.org/event/christmas-choir-12-12-25/
LOCATION:CA
CATEGORIES:Community,Performance,Special Sacred
ATTACH;FMTTYPE=image/png:https://colusaumc.org/wp-content/uploads/bulletin_images/ChristmasConcertAngel-2024_150x150.png
END:VEVENT
BEGIN:VEVENT
DTSTART;TZID=America/Los_Angeles:20251213T120000
DTEND;TZID=America/Los_Angeles:20251213T133000
DTSTAMP:20260423T174807
CREATED:20250822T212657Z
LAST-MODIFIED:20251121T002744Z
UID:8407-1765627200-1765632600@colusaumc.org
SUMMARY:Christmas Community Choir Performance 12-13-25
DESCRIPTION:Christmas Community Choir\nChristmas choir will again perform at several Colusa County locations\, including Trinity\, on December 11th\, 12th\, 13th\, and 14th! \nThursday\, December 11\, Arbuckle United Methodist Church\, 7 pm \nFriday\, December 12\, Grimes Community Church\, 7 pm \nSaturday\, December 13\, Sacramento Valley Museum\, Williams\, 7 pm \nSunday\, December 14\, Trinity United Methodist Church\, Colusa\, 7 pm;\n(The Chimes Choir will join the Community Choir for this performance only.)
URL:https://colusaumc.org/event/christmas-choir-12-13-25/
LOCATION:CA
CATEGORIES:Community,Performance,Special Sacred
ATTACH;FMTTYPE=image/png:https://colusaumc.org/wp-content/uploads/bulletin_images/ChristmasConcertAngel-2024_150x150.png
END:VEVENT
BEGIN:VEVENT
DTSTART;TZID=America/Los_Angeles:20251214T090000
DTEND;TZID=America/Los_Angeles:20251214T100000
DTSTAMP:20260423T174807
CREATED:20250820T001523Z
LAST-MODIFIED:20251120T034923Z
UID:8386-1765702800-1765706400@colusaumc.org
SUMMARY:Chime Choir Practice 12-14-25
DESCRIPTION:Youth and adults are invited to join us Sunday morning for hand chimes. \n\nWe will perform at the Community Choir Christmas Concert\, Friday\, December 14th\, 2025 at 7:00 pm.
URL:https://colusaumc.org/event/chimes-12-14-25/
LOCATION:Trinity\, 511 Oak Street\, Colusa\, CA\, 95932\, United States
CATEGORIES:Class,Community,Practice,Sound Space,Special Sacred
END:VEVENT
BEGIN:VEVENT
DTSTART;TZID=America/Los_Angeles:20251214T190000
DTEND;TZID=America/Los_Angeles:20251214T203000
DTSTAMP:20260423T174807
CREATED:20250820T000440Z
LAST-MODIFIED:20251107T205533Z
UID:8368-1765738800-1765744200@colusaumc.org
SUMMARY:Chime Choir Performance 12-14-25
DESCRIPTION:Chime Choir Performance\n \nDecember 14th\, 2025 7:00 pm \nOur chime choir will share their music before our Community Christmas Choir performance. \nThe performance is in the Trinity sanctuary with refreshments to follow both events in the parlor. \nJoin us in an event for the entire community!
URL:https://colusaumc.org/event/chime-choir-performance-12-14-25/
LOCATION:Trinity\, 511 Oak Street\, Colusa\, CA\, 95932\, United States
CATEGORIES:Community,Performance,Sound Space
ATTACH;FMTTYPE=image/png:https://colusaumc.org/wp-content/uploads/program_logos/ChimeChoir-1.png
END:VEVENT
BEGIN:VEVENT
DTSTART;TZID=America/Los_Angeles:20251214T190000
DTEND;TZID=America/Los_Angeles:20251214T210000
DTSTAMP:20260423T174807
CREATED:20250822T212742Z
LAST-MODIFIED:20251214T125803Z
UID:8408-1765738800-1765746000@colusaumc.org
SUMMARY:Community Christmas Choir Performance (Coro de Navidad) 12-14-25
DESCRIPTION:Christmas Community Choir\nChristmas choir will again perform at several Colusa County locations\, including Trinity\, on December 11th\, 12th\, 13th\, and 14th! \nThursday\, December 11\, Arbuckle United Methodist Church\, 7 pm \nFriday\, December 12\, Grimes Community Church\, 7 pm \nSaturday\, December 13\, Sacramento Valley Museum\, Williams\, 7 pm \nSunday\, December 14\, Trinity United Methodist Church\, Colusa\, 7 pm;\n(The Chimes Choir will join the Community Choir for this performance only.) \n 
URL:https://colusaumc.org/event/christmas-choir-12-14-25/
LOCATION:Trinity\, 511 Oak Street\, Colusa\, CA\, 95932\, United States
CATEGORIES:Community,Performance,Special Sacred
ATTACH;FMTTYPE=image/png:https://colusaumc.org/wp-content/uploads/bulletin_images/ChristmasConcertAngel-2024_150x150.png
END:VEVENT
END:VCALENDAR