BEGIN:VCALENDAR
VERSION:2.0
PRODID:-//Trinity UMC, Colusa - ECPv6.15.20//NONSGML v1.0//EN
CALSCALE:GREGORIAN
METHOD:PUBLISH
X-ORIGINAL-URL:https://colusaumc.org
X-WR-CALDESC:Events for Trinity UMC, Colusa
REFRESH-INTERVAL;VALUE=DURATION:PT1H
X-Robots-Tag:noindex
X-PUBLISHED-TTL:PT1H
BEGIN:VTIMEZONE
TZID:America/Los_Angeles
BEGIN:DAYLIGHT
TZOFFSETFROM:-0800
TZOFFSETTO:-0700
TZNAME:PDT
DTSTART:20250309T100000
END:DAYLIGHT
BEGIN:STANDARD
TZOFFSETFROM:-0700
TZOFFSETTO:-0800
TZNAME:PST
DTSTART:20251102T090000
END:STANDARD
BEGIN:DAYLIGHT
TZOFFSETFROM:-0800
TZOFFSETTO:-0700
TZNAME:PDT
DTSTART:20260308T100000
END:DAYLIGHT
BEGIN:STANDARD
TZOFFSETFROM:-0700
TZOFFSETTO:-0800
TZNAME:PST
DTSTART:20261101T090000
END:STANDARD
BEGIN:DAYLIGHT
TZOFFSETFROM:-0800
TZOFFSETTO:-0700
TZNAME:PDT
DTSTART:20270314T100000
END:DAYLIGHT
BEGIN:STANDARD
TZOFFSETFROM:-0700
TZOFFSETTO:-0800
TZNAME:PST
DTSTART:20271107T090000
END:STANDARD
END:VTIMEZONE
BEGIN:VEVENT
DTSTART;TZID=America/Los_Angeles:20261005T112000
DTEND;TZID=America/Los_Angeles:20261005T130000
DTSTAMP:20260423T222314
CREATED:20260127T195418Z
LAST-MODIFIED:20260127T195418Z
UID:9416-1791199200-1791205200@colusaumc.org
SUMMARY:Hand Up Lunch 10-5-26
DESCRIPTION:Mondays in February\, June\, and October\, 11:20am\nmeets at Presbyterian Church\nsee Carolyn G. or Elizabeth Y. to help
URL:https://colusaumc.org/event/hand-up-lunch-10-5-26/
LOCATION:Presbyterian Church\, 261 Fourth Street\, Colusa\, CA\, 95932\, United States
CATEGORIES:Community
END:VEVENT
BEGIN:VEVENT
DTSTART;TZID=America/Los_Angeles:20261012T112000
DTEND;TZID=America/Los_Angeles:20261012T130000
DTSTAMP:20260423T222314
CREATED:20260127T195452Z
LAST-MODIFIED:20260127T195452Z
UID:9417-1791804000-1791810000@colusaumc.org
SUMMARY:Hand Up Lunch 10-12-26
DESCRIPTION:Mondays in February\, June\, and October\, 11:20am\nmeets at Presbyterian Church\nsee Carolyn G. or Elizabeth Y. to help
URL:https://colusaumc.org/event/hand-up-lunch-10-12-26/
LOCATION:Presbyterian Church\, 261 Fourth Street\, Colusa\, CA\, 95932\, United States
CATEGORIES:Community
END:VEVENT
BEGIN:VEVENT
DTSTART;TZID=America/Los_Angeles:20261019T112000
DTEND;TZID=America/Los_Angeles:20261019T130000
DTSTAMP:20260423T222314
CREATED:20260127T195516Z
LAST-MODIFIED:20260127T195516Z
UID:9418-1792408800-1792414800@colusaumc.org
SUMMARY:Hand Up Lunch 10-19-26
DESCRIPTION:Mondays in February\, June\, and October\, 11:20am\nmeets at Presbyterian Church\nsee Carolyn G. or Elizabeth Y. to help
URL:https://colusaumc.org/event/hand-up-lunch-10-19-26/
LOCATION:Presbyterian Church\, 261 Fourth Street\, Colusa\, CA\, 95932\, United States
CATEGORIES:Community
END:VEVENT
BEGIN:VEVENT
DTSTART;TZID=America/Los_Angeles:20261026T112000
DTEND;TZID=America/Los_Angeles:20261026T130000
DTSTAMP:20260423T222314
CREATED:20260127T195538Z
LAST-MODIFIED:20260127T195538Z
UID:9419-1793013600-1793019600@colusaumc.org
SUMMARY:Hand Up Lunch 10-26-26
DESCRIPTION:Mondays in February\, June\, and October\, 11:20am\nmeets at Presbyterian Church\nsee Carolyn G. or Elizabeth Y. to help
URL:https://colusaumc.org/event/hand-up-lunch-10-26-26/
LOCATION:Presbyterian Church\, 261 Fourth Street\, Colusa\, CA\, 95932\, United States
CATEGORIES:Community
END:VEVENT
END:VCALENDAR